Workbook
Name _Toc380999782: SUMMARY!$C$184
Name _Toc380999783: SUMMARY!#REF!
Name _Toc380999784: SUMMARY!#REF!
Name _Toc380999785: SUMMARY!#REF!
Name _Toc380999786: SUMMARY!#REF!
Name _Toc380999787: SUMMARY!#REF!
Name _Toc380999788: SUMMARY!$C$186
Name _Toc380999789: SUMMARY!$K$186
Name _Toc380999790: SUMMARY!#REF!
Name _Toc380999791: SUMMARY!#REF!
Name _Toc380999792: SUMMARY!$K$184

Sheet SUMMARY
C2: PROJECT | E2: =config!D3 -> 25356 WICKHAM BISHOPS
C3: SITE CODE | E3: =LEFT(config!D3,5)&"-"&RIGHT( config!D4, LEN( config!D4 ) - 3 ) -> 25356-06
C4: LOCATION | E4: =IF(config!D5="","UNDEFINED",config!D4&"- "&config!D5) -> ATC06 - Church Rd, Wickham Bishops | Q4: logo
C5: LOC. DESC. | E5: =IF(config!D13="","UNDEFINED",config!D13) -> TP adj. church
C6: START DATE | E6: =IF(config!D6="","UNDEFINED",config!D6) -> 45972 | K6: =config!AC13&"-DAY AUTOMATIC TRAFFIC COUNT" -> 7-DAY AUTOMATIC TRAFFIC COUNT
C7: END DATE | E7: =IFERROR(TEXT( E6+(config!AC13-1), "DDD DD MMM, YYYY") & " (inc.)","UNDEFINED") -> Mon 17 Nov, 2025 (inc.)
C8: SPEED LIMIT | E8: =IF(config!D8="","UNDEFINED",config!D8&"mph") -> 30mph | K8: =IFERROR("A "&config!AC13&"-day automatic traffic count on "&config!D5&", commencing "&TEXT(config!D6,"ddd DD MMM YYYY")&", recorded a total of "&TEXT(config!AG14,"###,#")&" vehicles. The posted speed limit of "&config!D8&"mph was exceeded by "&TEXT(config!AG44*100,"0.0")&"% of vehicles, and the seasonally adjusted, combined AADT value is "&TEXT(I19,"#,###")&" (see 'Equipment & methodology' below). "&IF(config!AT17<=config!AA5,"Due to the low speeds recorded, the classification data should be disregarded due to a deterioration in accuracy. However, volume and speed data will remain accurate within tolerances.",""), "") -> A 7-day automatic traffic count on Church Rd, Wickham Bishops, commencing Tue 11 Nov 2025, recorded a total of 4,118 vehicles. The posted speed limit of 30mph was exceeded by 13.9% of vehicles, and the seasonally adjusted, combined AADT value is 673 (see 'Equipment & methodology' below).
C9: SURVEY TYPE | E9: =config!AC13&"-day ATC, 15min periods, 10 veh. classes" -> 7-day ATC, 15min periods, 10 veh. classes
C11: SUMMARY
C14: ="COMBINED " & UPPER(config!D11) & "- & " & UPPER(config!D12) &"BOUND" -> COMBINED EAST- & WESTBOUND
C15: Total recorded volume | I15: =TEXT(config!AG14,"#,###") -> 4,118 | K15: =IFERROR("The combined summary on the left shows the total volumes, average speeds, AADT and 85%iles recorded in both directions from all the recorded data, plus the Mon-Fri peak periods. Speeding vehicles are defined as those travelling "&config!D8+1&"mph and above. The summaries below provide directionalised details including speeding percentages and weekday daytime details.", "No data") -> The combined summary on the left shows the total volumes, average speeds, AADT and 85%iles recorded in both directions from all the recorded data, plus the Mon-Fri peak periods. Speeding vehicles are defined as those travelling 31mph and above. The summaries below provide directionalised details including speeding percentages and weekday daytime details.
C16: ="Avg daily volume (based on "&config!AC13&" days)" -> Avg daily volume (based on 7 days) | I16: =IFERROR(TEXT(config!AG17,"#,###.0"),"NO DATA") -> 588.3
C17: ="Average daily speed ("&config!AC13&" days)" -> Average daily speed (7 days) | I17: =IFERROR(TEXT(config!AT17,"#.0")&"mph","NO DATA") -> 24.6mph
C18: ="Average daily 85%ile ("&config!AC13&" days)" -> Average daily 85%ile (7 days) | I18: =IFERROR(TEXT(config!BK17,"#.0")&"mph","NO DATA") -> 29.8mph
C19: AADT (annual average daily traffic) | I19: =IFERROR(TEXT(config!CC14,"#,###.0"), "NO DATA") -> 673.1
C20: AAWT (annual average weekday traffic) | I20: =IFERROR(TEXT(config!CC31,"#,###.0"), "NO DATA") -> 718.1
C21: Avg weekday volume (Mon-Fri, 24hrs) | I21: =IFERROR(TEXT(config!AI17,"#,###.0"), "NO DATA") -> 625.4
C22: Avg weekday speed (Mon-Fri, 24hrs) | I22: =IFERROR(TEXT(config!AV17,"#.0")&"mph","NO DATA") -> 24.7mph
C23: Avg 12hr weekday volume (Mon-Fri, 0700-1900) | I23: =IFERROR(TEXT(config!AN17,"#,###.0"),"NO DATA") -> 550.6
C24: Avg 12hr weekday speed (Mon-Fri, 0700-1900) | I24: =IFERROR(TEXT(config!BA17,"#.0")&"mph","NO DATA") -> 24.6mph
C27: =UPPER(config!CI5) -> EASTBOUND | I27: =IFERROR(config!CI17, "X") -> → | K27: =UPPER(config!CI6) -> WESTBOUND | Q27: =IFERROR(config!CI18, "X") -> ←
C28: =UPPER(config!CI5) -> EASTBOUND | K28: =UPPER(config!CI6) -> WESTBOUND
C29: =C15 -> Total recorded volume | I29: =TEXT(config!AG13,"#,###") -> 2,040 | K29: =C29 -> Total recorded volume | Q29: =TEXT(config!AH13,"#,###") -> 2,078
C30: =C16 -> Avg daily volume (based on 7 days) | I30: =TEXT(config!AG16,"#,###.0") -> 291.4 | K30: =C30 -> Avg daily volume (based on 7 days) | Q30: =TEXT(config!AH16,"#,###.0") -> 296.9
C31: =C17 -> Average daily speed (7 days) | I31: =IFERROR(TEXT(config!AT16,"#.0")&"mph","NO DATA") -> 24.6mph | K31: =C31 -> Average daily speed (7 days) | Q31: =IFERROR(TEXT(config!AU16,"#.0")&"mph","NO DATA") -> 24.5mph
C32: =C18 -> Average daily 85%ile (7 days) | I32: =IFERROR(TEXT(config!BK16,"#.0")&"mph","NO DATA") -> 29.8mph | K32: =C32 -> Average daily 85%ile (7 days) | Q32: =IFERROR(TEXT(config!BL16,"#.0")&"mph","NO DATA") -> 29.7mph
C33: ="% of vehicles exceeding "&config!$D$8&"mph" -> % of vehicles exceeding 30mph | I33: =IFERROR(config!AG43,"NO DATA") -> 0.14313725 | K33: =C33 -> % of vehicles exceeding 30mph | Q33: =IFERROR(config!AH43,"NO DATA") -> 0.13522618
C35: =C21 -> Avg weekday volume (Mon-Fri, 24hrs) | I35: =IFERROR(TEXT(config!AI16, "#,###.0"),"NO DATA") -> 311.8 | K35: =C35 -> Avg weekday volume (Mon-Fri, 24hrs) | Q35: =IFERROR(TEXT(config!AJ16, "#,###.0"),"NO DATA") -> 313.6
C36: =C22 -> Avg weekday speed (Mon-Fri, 24hrs) | I36: =IFERROR(TEXT(config!AV16,"#.0")&"mph","NO DATA") -> 24.7mph | K36: =C36 -> Avg weekday speed (Mon-Fri, 24hrs) | Q36: =IFERROR(TEXT(config!AW16,"#.0")&"mph","NO DATA") -> 24.6mph
C37: Avg 12hr weekday volume (Mon-Fri, 0700-1900) | I37: =IFERROR(TEXT(config!AN16,"#,###.0"),"NO DATA") -> 269.0 | K37: =C37 -> Avg 12hr weekday volume (Mon-Fri, 0700-1900) | Q37: =IFERROR(TEXT(config!AO16,"#,###.0"),"NO DATA") -> 281.6
C38: Avg 12hr weekday speed (Mon-Fri, 0700-1900) | I38: =IFERROR(TEXT(config!BA16,"#.0")&"mph","NO DATA") -> 24.7mph | K38: =C38 -> Avg 12hr weekday speed (Mon-Fri, 0700-1900) | Q38: =IFERROR(TEXT(config!BB16,"#.0")&"mph","NO DATA") -> 24.5mph
C39: Avg 12hr weekday 85%ile (Mon-Fri, 0700-1900) | I39: =IFERROR(TEXT(config!BR16,"#.0")&"mph","NO DATA") -> 30.1mph | K39: =C39 -> Avg 12hr weekday 85%ile (Mon-Fri, 0700-1900) | Q39: =IFERROR(TEXT(config!BS16,"#.0")&"mph","NO DATA") -> 29.7mph
C40: AM avg peak vol period (Mon-Fri) | I40: =IFERROR(TEXT(config!AL25, "hh:mm") & " to " & TEXT(config!AL26, "hh:mm"), "") -> 08:30 to 08:45 | K40: =C40 -> AM avg peak vol period (Mon-Fri) | Q40: =IFERROR(TEXT(config!AM25, "hh:mm") & " to " & TEXT(config!AM26, "hh:mm"), "") -> 12:00 to 12:15
C41: PM avg peak vol period (Mon-Fri) | I41: =IFERROR(TEXT(config!AL29, "hh:mm") & " to " & TEXT(config!AL30, "hh:mm"), "") -> 15:30 to 15:45 | K41: =C41 -> PM avg peak vol period (Mon-Fri) | Q41: =IFERROR(TEXT(config!AM29, "hh:mm") & " to " & TEXT(config!AM30, "hh:mm"), "") -> 16:15 to 16:30
C42: SITE LOCATION
C44: SITE PLAN | M44: LOCATION | N44: =IF(config!D5="","UNDEFINED",config!D5) -> Church Rd, Wickham Bishops
M45: DESC. | N45: =IF(config!D13="","UNDEFINED",config!D13) -> TP adj. church
M46: DATES | O46: =IFERROR(TEXT(config!D6, "ddd dd mmm") &" to " & TEXT(config!D6+(config!AC13-1), "ddd dd mmm") & " inc.", "UNDEFINED") -> Tue 11 Nov to Mon 17 Nov inc.
M47: OSGR | O47: =IF(config!D14=0, "UNDEFINED",config!D14) -> 583700, 212083
M48: LAT / LNG | O48: =IF(config!D15<>"", HYPERLINK("https://maps.google.co.uk/maps?f=q&hl=en&q="&config!D15&"&ie=UTF8&z=16", config!D15), "UNDEFINED") -> 51.777258, 0.661440
M49: POST CODE | P49: =IF(config!D7<>"", HYPERLINK("https://maps.google.co.uk/maps?f=q&hl=en&q="&config!D7, config!D7), "UNDEFINED") -> CM8 3LN
M50: PSL | O50: =IF(config!D8 = "NO DATA", config!D8, config!D8 & "mph") -> 30mph
M51: BUS ROUTE | Q51: =PROPER(config!D10) -> No
M52: DIRECTION 1 | Q52: =config!CI17&" "&PROPER(config!CI5) -> → Eastbound
M53: DIRECTION 2 | Q53: =PROPER(config!CI6)&" "&config!CI18 -> Westbound ←
M54: =IF(config!D18<>"", "Reported incident(s): "&config!D18, "")
K60: Map © OpenStreetMap contributors
C61: DAILY VOLUMES
C63: =UPPER(config!D11&"- & "&config!D12&"bound") -> EAST- & WESTBOUND
I64: =IFERROR(config!CI17, "X") -> → | K64: ="Total 24hr "&LOWER(config!CI5)&" (solid, dark blue) and "&LOWER(config!CI6)&" (solid, dark orange) traffic volumes, with light blue and orange representing 12hr volumes (0700-1900), over "&config!AC13&" consecutive days from all available data." -> Total 24hr eastbound (solid, dark blue) and westbound (solid, dark orange) traffic volumes, with light blue and orange representing 12hr volumes (0700-1900), over 7 consecutive days from all available data.
I66: =IFERROR(config!CI18, "X") -> ←
I68: DAILY VOL | K68: =IF(config!AC13 = 7, IF(WEEKDAY(config!CL13) = 1, "As can be expected, the lowest 24hr volumes were recorded on the Sunday, whilst the highest was on the "&TEXT(config!CL14, "dddd")&".", "Unusually, the lowest volumes were NOT recorded on a Sunday but on the "&TEXT(config!CL13, "dddd")&", whilst the highest was on the "&TEXT(config!CL14, "dddd")&"."), "Data loss prevents a full seven days' being displayed.") -> As can be expected, the lowest 24hr volumes were recorded on the Sunday, whilst the highest was on the Wednesday.
C73: HOURLY VOLUMES
I75: =IFERROR(config!CI17, "X") -> → | Q75: =IFERROR(config!CI18, "X") -> ←
I79: HOURLY VOL | Q79: HOURLY VOL
C88: ="Hourly "&LOWER(config!CI5)&" traffic volumes over each 24hr period for "&config!AC13&" days from all available data" -> Hourly eastbound traffic volumes over each 24hr period for 7 days from all available data | K88: ="Hourly "&LOWER(config!CI6)&" traffic volumes over each 24hr period for "&config!AC13&" days from all available data" -> Hourly westbound traffic volumes over each 24hr period for 7 days from all available data
C90: 24hr & 12hr AVG SPEEDS
I92: =IFERROR(config!CI17, "X") -> → | Q92: =IFERROR(config!CI18, "X") -> ←
I94: AVG SPEEDS | Q94: AVG SPEEDS
C98: ="24hr (light) & 12hr daytime (dark blue, 0700-1900) average "&LOWER(C28)&" speeds compared against the posted speed limit of "&E8 -> 24hr (light) & 12hr daytime (dark blue, 0700-1900) average eastbound speeds compared against the posted speed limit of 30mph | K98: ="24hr (light) & 12hr daytime (dark orange) average "&LOWER(K28)&" speeds compared against the posted speed limit of "&E8 -> 24hr (light) & 12hr daytime (dark orange) average westbound speeds compared against the posted speed limit of 30mph
C100: 24hr & 12hr 85%ile SPEEDS
I102: =IFERROR(config!CI17, "X") -> → | Q102: =IFERROR(config!CI18, "X") -> ←
I104: AVG 85%ILES | Q104: AVG 85%ILES
C108: ="24hr (light) & 12hr daytime (dark blue, 0700-1900) average "&LOWER(C28)&" 85%ile speeds compared against the posted speed limit of "&E8&config!BK23 -> 24hr (light) & 12hr daytime (dark blue, 0700-1900) average eastbound 85%ile speeds compared against the posted speed limit of 30mph | K108: ="24hr (light) & 12hr daytime (dark orange, 0700-1900) average "&LOWER(K28)&" 85%ile speeds compared against the posted speed limit of "&E8&config!BL23 -> 24hr (light) & 12hr daytime (dark orange, 0700-1900) average westbound 85%ile speeds compared against the posted speed limit of 30mph
C110: HOURLY SPEEDS
I112: =IFERROR(config!CI17, "X") -> → | Q112: =IFERROR(config!CI18, "X") -> ←
I114: HOURLY SPEED | Q114: HOURLY SPEED
C119: ="Average hourly speeds (solid thin colours) and 85%ile (dashed black) compared against "&'DIR1'!AE13&"mph posted speed limit (dashed red). The 85%ile is the speed at which 85% of all vehicles are observed to travel under free flowing conditions."&" A minimum of ten vehicles per speed bin is required for this calculation, hence the overnight low-volume 85%ile values may be zero." -> Average hourly speeds (solid thin colours) and 85%ile (dashed black) compared against 30mph posted speed limit (dashed red). The 85%ile is the speed at which 85% of all vehicles are observed to travel under free flowing conditions. A minimum of ten vehicles per speed bin is required for this calculation, hence the overnight low-volume 85%ile values may be zero.
C120: ="The peak "&LOWER(config!CI5)&" daytime speed was "&config!BF16&"mph at "&TEXT(config!BE16, "HH:mm")&" on "&TEXT(config!BD16, "ddd dd mmm")&", whilst the peak "&LOWER(config!CI6)&" speed was "&config!BI16&"mph at "&TEXT(config!BH16, "HH:mm")&" on "&TEXT(config!BG16, "ddd dd mmm")&" (based on 15min averages between 0700 & 1900)." -> The peak eastbound daytime speed was 34.2mph at 11:00 on Wed 12 Nov, whilst the peak westbound speed was 34.1mph at 07:00 on Sun 16 Nov (based on 15min averages between 0700 & 1900).
C122: ="SPEEDING % EXCEEDING "&config!D8&"mph" -> SPEEDING % EXCEEDING 30mph
I124: =IFERROR(config!CI17, "X") -> → | Q124: =IFERROR(config!CI18, "X") -> ←
I126: SPEEDING % | Q126: SPEEDING %
C131: ="7-day average percentages of vehicles exceeding the posted speed limit each hour. The small, darker dots represent the percentage travelling between "&config!D8&" and "& config!CK19 &"mph, whilst the larger markers represent those at "& config!CK19 +1 &"mph and above. A high proportion of larger dots may indicate a potential speeding issue." -> 7-day average percentages of vehicles exceeding the posted speed limit each hour. The small, darker dots represent the percentage travelling between 30 and 35mph, whilst the larger markers represent those at 36mph and above. A high proportion of larger dots may indicate a potential speeding issue.
C133: CYCLE PROVISION
K135: The cycle provision diagram compares total daily traffic flow (vertical axis) against the average daily 85%ile speed (horizontal axis) to demonstrate cyclist and vulnerable user considerations. The guidelines are based on the Sustrans Design Manual (Apr 2014); Understanding User Needs, part 2. Valid 85%iles are required to plot the graph.
C149: 5-DAY AVERAGE CLASSES
C151: =UPPER(config!CI5)&" WEEKDAY AVG " -> EASTBOUND WEEKDAY AVG | I151: =config!CI17 -> → | K151: =UPPER(config!CI6)&" WEEKDAY AVG " -> WESTBOUND WEEKDAY AVG | Q151: =config!CI18 -> ←
C153: TIME | D153: MOTOR CYCLES | E153: CARS / LGV1 | F153: LGV2 / MGV | G153: HGV_x000D_ RIGID | H153: HGV ARTIC'D | I153: TOTAL | K153: TIME | L153: =D153 -> MOTOR CYCLES | M153: =E153 -> CARS / LGV1 | N153: =F153 -> LGV2 / MGV | O153: =G153 -> HGV_x000D_ RIGID | P153: =H153 -> HGV ARTIC'D | Q153: =I153 -> TOTAL
C154: 0000 | D154: =IFERROR('DIR1'!CY115,"") -> 0 | E154: =IFERROR('DIR1'!CZ115,"") -> 0.6 | F154: =IFERROR('DIR1'!DA115,"") -> 0.4 | G154: =IFERROR('DIR1'!DB115,"") -> 0 | H154: =IFERROR('DIR1'!DC115,"") -> 0 | I154: =SUM(D154:H154) -> 1 | K154: 0000 | L154: =IFERROR('DIR2'!CY115,"") -> 0 | M154: =IFERROR('DIR2'!CZ115,"") -> 0.2 | N154: =IFERROR('DIR2'!DA115,"") -> 0.2 | O154: =IFERROR('DIR2'!DB115,"") -> 0 | P154: =IFERROR('DIR2'!DC115,"") -> 0 | Q154: =SUM(L154:P154) -> 0.4
C155: 0100 | D155: =IFERROR('DIR1'!CY116,"") -> 0 | E155: =IFERROR('DIR1'!CZ116,"") -> 0.2 | F155: =IFERROR('DIR1'!DA116,"") -> 0.2 | G155: =IFERROR('DIR1'!DB116,"") -> 0 | H155: =IFERROR('DIR1'!DC116,"") -> 0 | I155: =SUM(D155:H155) -> 0.4 | K155: 0100 | L155: =IFERROR('DIR2'!CY116,"") -> 0 | M155: =IFERROR('DIR2'!CZ116,"") -> 0.6 | N155: =IFERROR('DIR2'!DA116,"") -> 0.2 | O155: =IFERROR('DIR2'!DB116,"") -> 0 | P155: =IFERROR('DIR2'!DC116,"") -> 0 | Q155: =SUM(L155:P155) -> 0.8
C156: 0200 | D156: =IFERROR('DIR1'!CY117,"") -> 0 | E156: =IFERROR('DIR1'!CZ117,"") -> 1 | F156: =IFERROR('DIR1'!DA117,"") -> 0.2 | G156: =IFERROR('DIR1'!DB117,"") -> 0 | H156: =IFERROR('DIR1'!DC117,"") -> 0 | I156: =SUM(D156:H156) -> 1.2 | K156: 0200 | L156: =IFERROR('DIR2'!CY117,"") -> 0 | M156: =IFERROR('DIR2'!CZ117,"") -> 0 | N156: =IFERROR('DIR2'!DA117,"") -> 0.4 | O156: =IFERROR('DIR2'!DB117,"") -> 0 | P156: =IFERROR('DIR2'!DC117,"") -> 0 | Q156: =SUM(L156:P156) -> 0.4
C157: 0300 | D157: =IFERROR('DIR1'!CY118,"") -> 0 | E157: =IFERROR('DIR1'!CZ118,"") -> 1.2 | F157: =IFERROR('DIR1'!DA118,"") -> 0 | G157: =IFERROR('DIR1'!DB118,"") -> 0 | H157: =IFERROR('DIR1'!DC118,"") -> 0 | I157: =SUM(D157:H157) -> 1.2 | K157: 0300 | L157: =IFERROR('DIR2'!CY118,"") -> 0 | M157: =IFERROR('DIR2'!CZ118,"") -> 0.6 | N157: =IFERROR('DIR2'!DA118,"") -> 0 | O157: =IFERROR('DIR2'!DB118,"") -> 0 | P157: =IFERROR('DIR2'!DC118,"") -> 0 | Q157: =SUM(L157:P157) -> 0.6
C158: 0400 | D158: =IFERROR('DIR1'!CY119,"") -> 0 | E158: =IFERROR('DIR1'!CZ119,"") -> 1 | F158: =IFERROR('DIR1'!DA119,"") -> 0.2 | G158: =IFERROR('DIR1'!DB119,"") -> 0 | H158: =IFERROR('DIR1'!DC119,"") -> 0 | I158: =SUM(D158:H158) -> 1.2 | K158: 0400 | L158: =IFERROR('DIR2'!CY119,"") -> 0 | M158: =IFERROR('DIR2'!CZ119,"") -> 0 | N158: =IFERROR('DIR2'!DA119,"") -> 0.2 | O158: =IFERROR('DIR2'!DB119,"") -> 0 | P158: =IFERROR('DIR2'!DC119,"") -> 0 | Q158: =SUM(L158:P158) -> 0.2
C159: 0500 | D159: =IFERROR('DIR1'!CY120,"") -> 0.8 | E159: =IFERROR('DIR1'!CZ120,"") -> 3.2 | F159: =IFERROR('DIR1'!DA120,"") -> 0.2 | G159: =IFERROR('DIR1'!DB120,"") -> 0 | H159: =IFERROR('DIR1'!DC120,"") -> 0 | I159: =SUM(D159:H159) -> 4.2 | K159: 0500 | L159: =IFERROR('DIR2'!CY120,"") -> 1.4 | M159: =IFERROR('DIR2'!CZ120,"") -> 0.2 | N159: =IFERROR('DIR2'!DA120,"") -> 0 | O159: =IFERROR('DIR2'!DB120,"") -> 0 | P159: =IFERROR('DIR2'!DC120,"") -> 0 | Q159: =SUM(L159:P159) -> 1.6
C160: 0600 | D160: =IFERROR('DIR1'!CY121,"") -> 0.6 | E160: =IFERROR('DIR1'!CZ121,"") -> 12.6 | F160: =IFERROR('DIR1'!DA121,"") -> 1.8 | G160: =IFERROR('DIR1'!DB121,"") -> 0 | H160: =IFERROR('DIR1'!DC121,"") -> 0 | I160: =SUM(D160:H160) -> 15 | K160: 0600 | L160: =IFERROR('DIR2'!CY121,"") -> 0 | M160: =IFERROR('DIR2'!CZ121,"") -> 2.2 | N160: =IFERROR('DIR2'!DA121,"") -> 0.2 | O160: =IFERROR('DIR2'!DB121,"") -> 0 | P160: =IFERROR('DIR2'!DC121,"") -> 0 | Q160: =SUM(L160:P160) -> 2.4
C161: 0700 | D161: =IFERROR('DIR1'!CY122,"") -> 1.6 | E161: =IFERROR('DIR1'!CZ122,"") -> 30.8 | F161: =IFERROR('DIR1'!DA122,"") -> 1.8 | G161: =IFERROR('DIR1'!DB122,"") -> 0 | H161: =IFERROR('DIR1'!DC122,"") -> 0 | I161: =SUM(D161:H161) -> 34.2 | K161: 0700 | L161: =IFERROR('DIR2'!CY122,"") -> 0.2 | M161: =IFERROR('DIR2'!CZ122,"") -> 9 | N161: =IFERROR('DIR2'!DA122,"") -> 2.6 | O161: =IFERROR('DIR2'!DB122,"") -> 0.4 | P161: =IFERROR('DIR2'!DC122,"") -> 0 | Q161: =SUM(L161:P161) -> 12.2
C162: 0800 | D162: =IFERROR('DIR1'!CY123,"") -> 1.2 | E162: =IFERROR('DIR1'!CZ123,"") -> 28.8 | F162: =IFERROR('DIR1'!DA123,"") -> 3 | G162: =IFERROR('DIR1'!DB123,"") -> 0 | H162: =IFERROR('DIR1'!DC123,"") -> 0 | I162: =SUM(D162:H162) -> 33 | K162: 0800 | L162: =IFERROR('DIR2'!CY123,"") -> 0.4 | M162: =IFERROR('DIR2'!CZ123,"") -> 14.6 | N162: =IFERROR('DIR2'!DA123,"") -> 2.2 | O162: =IFERROR('DIR2'!DB123,"") -> 0 | P162: =IFERROR('DIR2'!DC123,"") -> 0 | Q162: =SUM(L162:P162) -> 17.2
C163: 0900 | D163: =IFERROR('DIR1'!CY124,"") -> 1 | E163: =IFERROR('DIR1'!CZ124,"") -> 25.2 | F163: =IFERROR('DIR1'!DA124,"") -> 2.4 | G163: =IFERROR('DIR1'!DB124,"") -> 0.4 | H163: =IFERROR('DIR1'!DC124,"") -> 0 | I163: =SUM(D163:H163) -> 29 | K163: 0900 | L163: =IFERROR('DIR2'!CY124,"") -> 0.8 | M163: =IFERROR('DIR2'!CZ124,"") -> 15.6 | N163: =IFERROR('DIR2'!DA124,"") -> 2 | O163: =IFERROR('DIR2'!DB124,"") -> 0.2 | P163: =IFERROR('DIR2'!DC124,"") -> 0.2 | Q163: =SUM(L163:P163) -> 18.8
C164: 1000 | D164: =IFERROR('DIR1'!CY125,"") -> 0.2 | E164: =IFERROR('DIR1'!CZ125,"") -> 16.2 | F164: =IFERROR('DIR1'!DA125,"") -> 2 | G164: =IFERROR('DIR1'!DB125,"") -> 0.4 | H164: =IFERROR('DIR1'!DC125,"") -> 0 | I164: =SUM(D164:H164) -> 18.8 | K164: 1000 | L164: =IFERROR('DIR2'!CY125,"") -> 0 | M164: =IFERROR('DIR2'!CZ125,"") -> 14.2 | N164: =IFERROR('DIR2'!DA125,"") -> 2 | O164: =IFERROR('DIR2'!DB125,"") -> 0.2 | P164: =IFERROR('DIR2'!DC125,"") -> 0 | Q164: =SUM(L164:P164) -> 16.4
C165: 1100 | D165: =IFERROR('DIR1'!CY126,"") -> 0.2 | E165: =IFERROR('DIR1'!CZ126,"") -> 16.4 | F165: =IFERROR('DIR1'!DA126,"") -> 2.2 | G165: =IFERROR('DIR1'!DB126,"") -> 0 | H165: =IFERROR('DIR1'!DC126,"") -> 0 | I165: =SUM(D165:H165) -> 18.8 | K165: 1100 | L165: =IFERROR('DIR2'!CY126,"") -> 0.8 | M165: =IFERROR('DIR2'!CZ126,"") -> 18.2 | N165: =IFERROR('DIR2'!DA126,"") -> 3.4 | O165: =IFERROR('DIR2'!DB126,"") -> 0 | P165: =IFERROR('DIR2'!DC126,"") -> 0 | Q165: =SUM(L165:P165) -> 22.4
... C177: 2300 | D177: =IFERROR('DIR1'!CY138,"") -> 0 | E177: =IFERROR('DIR1'!CZ138,"") -> 0.8 | F177: =IFERROR('DIR1'!DA138,"") -> 0 | G177: =IFERROR('DIR1'!DB138,"") -> 0 | H177: =IFERROR('DIR1'!DC138,"") -> 0 | I177: =SUM(D177:H177) -> 0.8 | K177: 2300 | L177: =IFERROR('DIR2'!CY138,"") -> 0 | M177: =IFERROR('DIR2'!CZ138,"") -> 2 | N177: =IFERROR('DIR2'!DA138,"") -> 0 | O177: =IFERROR('DIR2'!DB138,"") -> 0 | P177: =IFERROR('DIR2'!DC138,"") -> 0 | Q177: =SUM(L177:P177) -> 2
C178: 12hr TTL | D178: =SUM(D161:D172) -> 9.4 | E178: =SUMIF(E161:E172,"<>#DIV/0!") -> 229.8 | F178: =SUMIF(F161:F172,"<>#DIV/0!") -> 28.4 | G178: =SUMIF(G161:G172,"<>#DIV/0!") -> 1.2 | H178: =SUMIF(H161:H172,"<>#DIV/0!") -> 0.2 | I178: =SUMIF(I161:I172,"<>#DIV/0!") -> 269 | K178: 12hr TTL | L178: =SUM(L161:L172) -> 6.8 | M178: =SUM(M161:M172) -> 244.4 | N178: =SUM(N161:N172) -> 29.2 | O178: =SUM(O161:O172) -> 1 | P178: =SUM(P161:P172) -> 0.2 | Q178: =SUMIF(Q161:Q172,"<>#DIV/0!") -> 281.6
C179: 24hr TTL | D179: =SUM(D154:D177) -> 11.4 | E179: =SUMIF(E154:E177,"<>#DIV/0!") -> 266.6 | F179: =SUMIF(F154:F177,"<>#DIV/0!") -> 32.4 | G179: =SUMIF(G154:G177,"<>#DIV/0!") -> 1.2 | H179: =SUMIF(H154:H177,"<>#DIV/0!") -> 0.2 | I179: =SUMIF(I154:I177,"<>#DIV/0!") -> 311.8 | K179: 24hr TTL | L179: =SUM(L154:L177) -> 8.6 | M179: =SUM(M154:M177) -> 272.2 | N179: =SUM(N154:N177) -> 31.6 | O179: =SUM(O154:O177) -> 1 | P179: =SUM(P154:P177) -> 0.2 | Q179: =SUMIF(Q154:Q177,"<>#DIV/0!") -> 313.6
D180: =IF($I$179<>0,D179/$I$179,0) -> 0.036561899 | E180: =IF($I$179<>0,E179/$I$179,0) -> 0.85503528 | F180: =IF($I$179<>0,F179/$I$179,0) -> 0.10391276 | G180: =IF($I$179<>0,G179/$I$179,0) -> 0.0038486209 | H180: =IF($I$179<>0,H179/$I$179,0) -> 0.00064143682 | L180: =IF($Q$179<>0,L179/$Q$179,0) -> 0.027423469 | M180: =IF($Q$179<>0,M179/$Q$179,0) -> 0.86798469 | N180: =IF($Q$179<>0,N179/$Q$179,0) -> 0.10076531 | O180: =IF($Q$179<>0,O179/$Q$179,0) -> 0.0031887755 | P180: =IF($Q$179<>0,P179/$Q$179,0) -> 0.0006377551
C182: ="Average weekday "&LOWER(config!CI5)&" and "&LOWER(config!CI6)&" volumes by class (condensed to the AQMA scheme), including 12hr totals for 0700-1900 and overall average percentages. Calculated from all available data over "&config!AC16&" weekdays. See 'Equipment & Methodology' below for accuracy details." -> Average weekday eastbound and westbound volumes by class (condensed to the AQMA scheme), including 12hr totals for 0700-1900 and overall average percentages. Calculated from all available data over 5 weekdays. See 'Equipment & Methodology' below for accuracy details.
C183: METHODOLOGY
C184: Equipment & methodology | K184: Equipment damage, failure & calculations
C185: Automatic traffic counts are undertaken using a pair of pneumatic tubes installed securely across the carriageway, one metre apart, recording air pulses to determine vehicle speed, class and volume. The ATC equipment generally remains in place for a consecutive seven day period, and the data analysed post-survey. In queuing conditions, the accuracy of ATC recording equipment may reduce as follows; · 20 – 30mph: potential reduction of 9% accuracy in volume values · 10 – 20mph: potential reduction of 26% accuracy in volume values · 00 – 10mph: potential reduction of 39% accuracy in volume values These figures are based on multiple ATC results compared against accepted reference values from resilient manual counts. | K185: Although checked intermittently the equipment remains unmanned for much of the duration of the survey, and can potentially be interfered with, vandalised, damaged or stolen and Essex Highways cannot be held responsible for any periods where data has not been captured. The equipment is located in accordance with the details provided by the client and Essex Highways cannot be held responsible for the accuracy of the data or loss of equipment due to theft and vandalism. 16hr AADTs are calculated using the seasonal COBA methodology; DMRB Vol. 13, Pt 4: Traffic Flow Input To COBA, with formulae available in the (hidden) config worksheet.
C186: Weather & environmental | K186: Roadworks & events
C187: Inclement conditions during winter months or outbreaks of unseasonable weather may affect survey data collection. This can result in distorted traffic flows or unusable data and should be considered prior to survey approval. Although forecast checks are made prior to the survey commencing, Essex Highways cannot be held responsible for the forecast accuracy. | K187: Where possible, roadworks checks are made 10 days before, and 48 hours before, the survey commences. Additionally, influencing major local events are also monitored, covering the immediate vicinity of the surveys and any routes likely to affect the outcome of the survey.
...

Sheet DIR1
A1: DIR 1 | B1: TOTAL | C1: CLASS 1 | D1: CLASS 2 | E1: CLASS 3 | F1: CLASS 4 | G1: CLASS 5 | H1: CLASS 6 | I1: CLASS 7 | J1: CLASS 8 | K1: CLASS 9 | L1: CLASS 10 | N1: TIME | O1: =O13&"-"&O14&"mph" -> 0-10mph | P1: =P13&"-"&P14&"mph" -> 10-15mph | Q1: =Q13&"-"&Q14&"mph" -> 15-20mph | R1: =R13&"-"&R14&"mph" -> 20-25mph | S1: =S13&"-"&S14&"mph" -> 25-30mph | T1: =T13&"-"&T14&"mph" -> 30-35mph | U1: =U13&"-"&U14&"mph" -> 35-40mph | V1: =V13&"-"&V14&"mph" -> 40-45mph | ... AA1: =AA13&"-"&AA14&"mph" -> 80-90mph | AB1: =AB13&"mph+" -> 90mph+ | AC1: AVG SPD | AD1: 85%ile | AE1: PSL SPEEDING | AF1: PSL% SPEEDING | AG1: ACPO SPEEDING | AH1: ACPO% SPEEDING | AI1: DfT SPEEDING | AJ1: DfT% SPEEDING
A3: PROJECT | D3: =IF(config!D3<>"",config!D3,"UNDEFINED") -> 25356 WICKHAM BISHOPS
A4: SITE | D4: =IF(config!D4<>"",config!D4,"UNDEFINED") -> ATC06
A5: LOCATION | D5: =IF(config!D5<>"",UPPER(config!D5),"UNDEFINED") -> CHURCH RD, WICKHAM BISHOPS
A6: DIRECTION | D6: =IF(config!D11<>"",UPPER(config!CI5)&" "&config!CI17,"UNDEFINED") -> EASTBOUND →
A7: PSL | D7: =AE13&"mph" -> 30mph
AZ8: =IF(OR(WEEKDAY(AZ9)=2,WEEKDAY(AZ9)=6),"NON",IF(OR(WEEKDAY(AZ9)=1,WEEKDAY(AZ9)=7),"WKND","NEUT")) -> NEUT | BA8: =IF(OR(WEEKDAY(BA9)=2,WEEKDAY(BA9)=6),"NON",IF(OR(WEEKDAY(BA9)=1,WEEKDAY(BA9)=7),"WKND","NEUT")) -> NEUT | BB8: =IF(OR(WEEKDAY(BB9)=2,WEEKDAY(BB9)=6),"NON",IF(OR(WEEKDAY(BB9)=1,WEEKDAY(BB9)=7),"WKND","NEUT")) -> NEUT | BC8: =IF(OR(WEEKDAY(BC9)=2,WEEKDAY(BC9)=6),"NON",IF(OR(WEEKDAY(BC9)=1,WEEKDAY(BC9)=7),"WKND","NEUT")) -> NON | BD8: =IF(OR(WEEKDAY(BD9)=2,WEEKDAY(BD9)=6),"NON",IF(OR(WEEKDAY(BD9)=1,WEEKDAY(BD9)=7),"WKND","NEUT")) -> WKND | BE8: =IF(OR(WEEKDAY(BE9)=2,WEEKDAY(BE9)=6),"NON",IF(OR(WEEKDAY(BE9)=1,WEEKDAY(BE9)=7),"WKND","NEUT")) -> WKND | BF8: =IF(OR(WEEKDAY(BF9)=2,WEEKDAY(BF9)=6),"NON",IF(OR(WEEKDAY(BF9)=1,WEEKDAY(BF9)=7),"WKND","NEUT")) -> NON
A9: =config!CI17 -> → | B9: ALL VEHICLES | C9: =config!CG5 -> Motorcycles | D9: =config!CG6 -> Cars, 4WD, vans | E9: =config!CG7 -> Class 2 & trailer | F9: =config!CG8 -> 2-axle truck/bus | G9: =config!CG9 -> 3-axle truck/coach | H9: =config!CG10 -> 4-axle truck | I9: =config!CG11 -> 3-axle articulated | J9: =config!CG12 -> 4-axle articulated | K9: =config!CG13 -> 5-axle articulated | L9: =config!CG14 -> 6+ axle articulated | O9: =O13&" - "&O14&" mph" -> 0 - 10 mph | P9: =P13&" - "&P14&" mph" -> 10 - 15 mph | Q9: =Q13&" - "&Q14&" mph" -> 15 - 20 mph | R9: =R13&" - "&R14&" mph" -> 20 - 25 mph | S9: =S13&" - "&S14&" mph" -> 25 - 30 mph | T9: =T13&" - "&T14&" mph" -> 30 - 35 mph | U9: =U13&" - "&U14&" mph" -> 35 - 40 mph | V9: =V13&" - "&V14&" mph" -> 40 - 45 mph | ... AB9: =AB13&" - "&AB14&" mph" -> 90 - 100 mph | AC9: =AC12&" SPD" -> AVG SPD | AD9: 85%ile | AE9: ="> "&AE13&"mph" -> > 30mph | AF9: ="% > "&AF13&"mph" -> % > 30mph | AS9: =SUMMARY!D153 -> MOTOR CYCLES | AT9: =SUMMARY!E153 -> CARS / LGV1 | AU9: =SUMMARY!F153 -> LGV2 / MGV | AV9: =SUMMARY!G153 -> HGV_x000D_ RIGID | AW9: =SUMMARY!H153 -> HGV ARTIC'D | AZ9: =config!D6 -> 45972 | BA9: =AZ9+1 -> 45973 | BB9: =BA9+1 -> 45974 | BC9: =BB9+1 -> 45975 | BD9: =BC9+1 -> 45976 | BE9: =BD9+1 -> 45977 | BF9: =BE9+1 -> 45978 | BI9: =AZ9 -> 45972 | BJ9: =BA9 -> 45973 | BK9: =BB9 -> 45974 | BL9: =BC9 -> 45975 | BM9: =BD9 -> 45976 | BN9: =BE9 -> 45977 | BO9: =BF9 -> 45978 | BR9: =BI9 -> 45972 | BS9: =BJ9 -> 45973 | BT9: =BK9 -> 45974 | BU9: =BL9 -> 45975 | BV9: =BM9 -> 45976 | BW9: =BN9 -> 45977 | BX9: =BO9 -> 45978 | CD9: =AZ9 -> 45972 | CE9: =BA9 -> 45973 | CF9: =BB9 -> 45974 | CG9: =BC9 -> 45975 | CH9: =BD9 -> 45976 | CI9: =BE9 -> 45977 | CJ9: =BF9 -> 45978 | CY9: =AS9 -> MOTOR CYCLES | CZ9: =AT9 -> CARS / LGV1 | DA9: =AU9 -> LGV2 / MGV | DB9: =AV9 -> HGV_x000D_ RIGID | DC9: =AW9 -> HGV ARTIC'D
A10: =config!D6 -> 45972 | AP10: BUS | AS10: AVG CLASS | AZ10: VOLUME | BI10: BIN SPEED | BR10: 85%ile | BZ10: AVG SPD | CA10: 0.85 | CB10: PSL | CD10: SPEEDING VOL | CK10: %SPD | CM10: AVG SPD CALC | CY10: 5-DAY CLASS | DF10: SPEEDING % | DN10: speeding +5mph | DV10: speeding <5mph
AP11: =SUM(F15,F122,F229,F336,F443,F550,F657) -> 0 | AR11: 0 | AS11: =SUM(C15,C122,C229,C336,C443,C550,C657)/config!$AC$13 -> 0 | AT11: =SUM(D15:E15,D122:E122,D229:E229,D336:E336,D443:E443,D550:E550,D657:E657)/config!$AC$13 -> 0.42857143 | AU11: =SUM(F15:G15,F122:G122,F229:G229,F336:G336,F443:G443,F550:G550,F657:G657)/config!$AC$13 -> 0 | AV11: =SUM(H15,H122,H229,H336,H443,H550,H657)/config!$AC$13 -> 0 | AW11: =SUM(I15:L15,I122:L122,I229:L229,I336:L336,I443:L443,I550:L550,I657:L657)/config!$AC$13 -> 0 | AY11: 0 | AZ11: =B15 -> 0 | BA11: =B122 -> 0 | BB11: =B229 -> 0 | BC11: =B336 -> 1 | BD11: =B443 -> 1 | BE11: =B550 -> 1 | BF11: =B657 -> 0 | BH11: =AY11 -> 0 | BI11: =AC15 | BJ11: =AC122 | BK11: =AC229 | BL11: =AC336 -> 24.1 | BM11: =AC443 -> 26.4 | BN11: =AC550 -> 26.1 | BO11: =AC657 | BQ11: =BH11 -> 0 | BR11: =AD15 | BS11: =AD122 | BT11: =AD229 | BU11: =AD336 | BV11: =AD443 | BW11: =AD550 | BX11: =AD657 | BZ11: =IF(SUM(BI11:BO11)>0,SUM(BI11:BO11) / COUNTIF(BI11:BO11, ">0"),NA()) -> 25.533333 | CA11: =IFERROR(SUM(BR11:BX11) / COUNTIF(BR11:BX11, ">0"), NA()) -> #N/A | CB11: =--config!$D$8 -> 30 | CD11: =AE15 -> 0 | CE11: =AE122 -> 0 | CF11: =AE229 -> 0 | CG11: =AE336 -> 0 | CH11: =AE443 -> 0 | CI11: =AE550 -> 0 | CJ11: =AE657 -> 0 | CK11: =IFERROR((SUM(CD11:CJ11)/SUM(AZ11:BF11)) * 100, "") -> 0 | CM11: =IFERROR(AZ11*BI11,"") | CN11: =IFERROR(BA11*BJ11,"") | CO11: =IFERROR(BB11*BK11,"") | CP11: =IFERROR(BC11*BL11,"") -> 24.1 | CQ11: =IFERROR(BD11*BM11,"") -> 26.4 | CR11: =IFERROR(BE11*BN11,"") -> 26.1 | CS11: =IFERROR(BF11*BO11,"") | CU11: =SUM(SUMIF($AZ$8:$BF$8, {"NON";"NEUT"}, AZ11:BF11))/config!$AC$16 -> 0.2 | CV11: =AY11 -> 0 | CY11: =SUM(C15*$CY$108, C122*$CY$109, C229*$CY$110, C336*$CY$111, C443*$CY$112, C550*$CY$113, C657*$CY$114)/config!$AC$16 -> 0 | CZ11: =SUM(SUM(D15:E15)*$CY$108, SUM(D122:E122)*$CY$109, SUM(D229:E229)*$CY$110, SUM(D336:E336)*$CY$111, SUM(D443:E443)*$CY$112, SUM(D550:E550)*$CY$113, SUM(D657:E657)*$CY$114)/config!$AC$16 -> 0.2 | DA11: =SUM(SUM(F15:G15)*$CY$108, SUM(F122:G122)*$CY$109, SUM(F229:G229)*$CY$110, SUM(F336:G336)*$CY$111, SUM(F443:G443)*$CY$112, SUM(F550:G550)*$CY$113, SUM(F657:G657)*$CY$114)/config!$AC$16 -> 0 | DB11: =SUM(H15*$CY$108, H122*$CY$109, H229*$CY$110, H336*$CY$111, H443*$CY$112, H550*$CY$113, H657*$CY$114)/config!$AC$16 -> 0 | DC11: =SUM(SUM(I15:L15)*$CY$108, SUM(I122:L122)*$CY$109, SUM(I229:L229)*$CY$110, SUM(I336:L336)*$CY$111, SUM(I443:L443)*$CY$112, SUM(I550:L550)*$CY$113, SUM(I657:L657)*$CY$114)/config!$AC$16 -> 0 | DF11: =IFERROR((CD11/AZ11)*100, "") | DG11: =IFERROR((CE11/BA11)*100, "") | DH11: =IFERROR((CF11/BB11)*100, "") | DI11: =IFERROR((CG11/BC11)*100, "") -> 0 | DJ11: =IFERROR((CH11/BD11)*100, "") -> 0 | DK11: =IFERROR((CI11/BE11)*100, "") -> 0 | DL11: =IFERROR((CJ11/BF11)*100, "") | DN11: =AG15 -> 0 | DO11: =AG122 -> 0 | DP11: =AG229 -> 0 | DQ11: =AG336 -> 0 | DR11: =AG443 -> 0 | DS11: =AG550 -> 0 | DT11: =AG657 -> 0 | DV11: =CD11-DN11 -> 0 | DW11: =CE11-DO11 -> 0 | DX11: =CF11-DP11 -> 0 | DY11: =CG11-DQ11 -> 0 | DZ11: =CH11-DR11 -> 0 | EA11: =CI11-DS11 -> 0 | EB11: =CJ11-DT11 -> 0
A12: DAY 1 | B12: TOTAL | C12: CLS | D12: CLS | E12: CLS | F12: CLS | G12: CLS | H12: CLS | I12: CLS | J12: CLS | K12: CLS | L12: CLS | N12: TIME | O12: SPD1 | P12: SPD2 | Q12: SPD3 | R12: SPD4 | S12: SPD5 | T12: SPD6 | U12: SPD7 | V12: SPD8 | W12: SPD9 | X12: SPD10 | Y12: SPD11 | Z12: SPD12 | AA12: SPD13 | AB12: SPD14 | AC12: AVG | AD12: 85%ile | AE12: PSL | AF12: PSL% | AG12: SL1 | AH12: SL1% | AI12: SL2 | AJ12: SL2% | AP12: =SUM(F16,F123,F230,F337,F444,F551,F658) -> 1 | AR12: =AR11+TIME(0,15,0) -> 0.010416667 | AS12: =SUM(C16,C123,C230,C337,C444,C551,C658)/config!$AC$13 -> 0 | AT12: =SUM(D16:E16,D123:E123,D230:E230,D337:E337,D444:E444,D551:E551,D658:E658)/config!$AC$13 -> 0.14285714 | AU12: =SUM(F16:G16,F123:G123,F230:G230,F337:G337,F444:G444,F551:G551,F658:G658)/config!$AC$13 -> 0.14285714 | AV12: =SUM(H16,H123,H230,H337,H444,H551,H658)/config!$AC$13 -> 0 | AW12: =SUM(I16:L16,I123:L123,I230:L230,I337:L337,I444:L444,I551:L551,I658:L658)/config!$AC$13 -> 0 | AY12: =AY11+TIME(0,15,0) -> 0.010416667 | AZ12: =B16 -> 0 | BA12: =B123 -> 0 | BB12: =B230 -> 1 | BC12: =B337 -> 0 | BD12: =B444 -> 1 | BE12: =B551 -> 0 | BF12: =B658 -> 0 | BH12: =AY12 -> 0.010416667 | BI12: =AC16 | BJ12: =AC123 | BK12: =AC230 -> 23.7 | BL12: =AC337 | BM12: =AC444 -> 21.2 | BN12: =AC551 | BO12: =AC658 | BQ12: =BH12 -> 0.010416667 | BR12: =AD16 | BS12: =AD123 | BT12: =AD230 | BU12: =AD337 | BV12: =AD444 | BW12: =AD551 | BX12: =AD658 | BZ12: =IF(SUM(BI12:BO12)>0,SUM(BI12:BO12) / COUNTIF(BI12:BO12, ">0"),NA()) -> 22.45 | CA12: =IFERROR(SUM(BR12:BX12) / COUNTIF(BR12:BX12, ">0"), NA()) -> #N/A | CB12: =CB11 -> 30 | CD12: =AE16 -> 0 | CE12: =AE123 -> 0 | CF12: =AE230 -> 0 | CG12: =AE337 -> 0 | CH12: =AE444 -> 0 | CI12: =AE551 -> 0 | CJ12: =AE658 -> 0 | CK12: =IFERROR((SUM(CD12:CJ12)/SUM(AZ12:BF12)) * 100, "") -> 0 | CM12: =IFERROR(AZ12*BI12,"") | CN12: =IFERROR(BA12*BJ12,"") | CO12: =IFERROR(BB12*BK12,"") -> 23.7 | CP12: =IFERROR(BC12*BL12,"") | CQ12: =IFERROR(BD12*BM12,"") -> 21.2 | CR12: =IFERROR(BE12*BN12,"") | CS12: =IFERROR(BF12*BO12,"") | CU12: =SUM(SUMIF($AZ$8:$BF$8, {"NON";"NEUT"}, AZ12:BF12))/config!$AC$16 -> 0.2 | CV12: =AY12 -> 0.010416667 | CY12: =SUM(C16*$CY$108, C123*$CY$109, C230*$CY$110, C337*$CY$111, C444*$CY$112, C551*$CY$113, C658*$CY$114)/config!$AC$16 -> 0 | CZ12: =SUM(SUM(D16:E16)*$CY$108, SUM(D123:E123)*$CY$109, SUM(D230:E230)*$CY$110, SUM(D337:E337)*$CY$111, SUM(D444:E444)*$CY$112, SUM(D551:E551)*$CY$113, SUM(D658:E658)*$CY$114)/config!$AC$16 -> 0 | DA12: =SUM(SUM(F16:G16)*$CY$108, SUM(F123:G123)*$CY$109, SUM(F230:G230)*$CY$110, SUM(F337:G337)*$CY$111, SUM(F444:G444)*$CY$112, SUM(F551:G551)*$CY$113, SUM(F658:G658)*$CY$114)/config!$AC$16 -> 0.2 | DB12: =SUM(H16*$CY$108, H123*$CY$109, H230*$CY$110, H337*$CY$111, H444*$CY$112, H551*$CY$113, H658*$CY$114)/config!$AC$16 -> 0 | DC12: =SUM(SUM(I16:L16)*$CY$108, SUM(I123:L123)*$CY$109, SUM(I230:L230)*$CY$110, SUM(I337:L337)*$CY$111, SUM(I444:L444)*$CY$112, SUM(I551:L551)*$CY$113, SUM(I658:L658)*$CY$114)/config!$AC$16 -> 0 | DF12: =IFERROR((CD12/AZ12)*100, "") | DG12: =IFERROR((CE12/BA12)*100, "") | DH12: =IFERROR((CF12/BB12)*100, "") -> 0 | DI12: =IFERROR((CG12/BC12)*100, "") | DJ12: =IFERROR((CH12/BD12)*100, "") -> 0 | DK12: =IFERROR((CI12/BE12)*100, "") | DL12: =IFERROR((CJ12/BF12)*100, "") | DN12: =AG16 -> 0 | DO12: =AG123 -> 0 | DP12: =AG230 -> 0 | DQ12: =AG337 -> 0 | DR12: =AG444 -> 0 | DS12: =AG551 -> 0 | DT12: =AG658 -> 0 | DV12: =CD12-DN12 -> 0 | DW12: =CE12-DO12 -> 0 | DX12: =CF12-DP12 -> 0 | DY12: =CG12-DQ12 -> 0 | DZ12: =CH12-DR12 -> 0 | EA12: =CI12-DS12 -> 0 | EB12: =CJ12-DT12 -> 0
C13: 1 | D13: 2 | E13: 3 | F13: 4 | G13: 5 | H13: 6 | I13: 7 | J13: 8 | K13: 9 | L13: 10 | O13: =O120 -> 0 | P13: =P120 -> 10 | Q13: =Q120 -> 15 | R13: =R120 -> 20 | S13: =S120 -> 25 | T13: =T120 -> 30 | U13: =U120 -> 35 | V13: =V120 -> 40 | ... AB13: =AB120 -> 90 | AE13: =AE120 -> 30 | AF13: =AF120 -> 30 | AG13: =AG120 -> 35 | AH13: =AH120 -> 35 | AI13: =AI120 -> 45 | AJ13: =AJ120 -> 45 | AP13: =SUM(F17,F124,F231,F338,F445,F552,F659) -> 1 | AR13: =AR12+TIME(0,15,0) -> 0.020833333 | AS13: =SUM(C17,C124,C231,C338,C445,C552,C659)/config!$AC$13 -> 0 | AT13: =SUM(D17:E17,D124:E124,D231:E231,D338:E338,D445:E445,D552:E552,D659:E659)/config!$AC$13 -> 0.14285714 | AU13: =SUM(F17:G17,F124:G124,F231:G231,F338:G338,F445:G445,F552:G552,F659:G659)/config!$AC$13 -> 0.14285714 | AV13: =SUM(H17,H124,H231,H338,H445,H552,H659)/config!$AC$13 -> 0 | AW13: =SUM(I17:L17,I124:L124,I231:L231,I338:L338,I445:L445,I552:L552,I659:L659)/config!$AC$13 -> 0 | AY13: =AY12+TIME(0,15,0) -> 0.020833333 | AZ13: =B17 -> 0 | BA13: =B124 -> 0 | BB13: =B231 -> 1 | BC13: =B338 -> 1 | BD13: =B445 -> 0 | BE13: =B552 -> 0 | BF13: =B659 -> 0 | BH13: =AY13 -> 0.020833333 | BI13: =AC17 | BJ13: =AC124 | BK13: =AC231 -> 25.2 | BL13: =AC338 -> 21.3 | BM13: =AC445 | BN13: =AC552 | BO13: =AC659 | BQ13: =BH13 -> 0.020833333 | BR13: =AD17 | BS13: =AD124 | BT13: =AD231 | BU13: =AD338 | BV13: =AD445 | BW13: =AD552 | BX13: =AD659 | BZ13: =IF(SUM(BI13:BO13)>0,SUM(BI13:BO13) / COUNTIF(BI13:BO13, ">0"),NA()) -> 23.25 | CA13: =IFERROR(SUM(BR13:BX13) / COUNTIF(BR13:BX13, ">0"), NA()) -> #N/A | CB13: =CB12 -> 30 | CD13: =AE17 -> 0 | CE13: =AE124 -> 0 | CF13: =AE231 -> 0 | CG13: =AE338 -> 0 | CH13: =AE445 -> 0 | CI13: =AE552 -> 0 | CJ13: =AE659 -> 0 | CK13: =IFERROR((SUM(CD13:CJ13)/SUM(AZ13:BF13)) * 100, "") -> 0 | CM13: =IFERROR(AZ13*BI13,"") | CN13: =IFERROR(BA13*BJ13,"") | CO13: =IFERROR(BB13*BK13,"") -> 25.2 | CP13: =IFERROR(BC13*BL13,"") -> 21.3 | CQ13: =IFERROR(BD13*BM13,"") | CR13: =IFERROR(BE13*BN13,"") | CS13: =IFERROR(BF13*BO13,"") | CU13: =SUM(SUMIF($AZ$8:$BF$8, {"NON";"NEUT"}, AZ13:BF13))/config!$AC$16 -> 0.4 | CV13: =AY13 -> 0.020833333 | CY13: =SUM(C17*$CY$108, C124*$CY$109, C231*$CY$110, C338*$CY$111, C445*$CY$112, C552*$CY$113, C659*$CY$114)/config!$AC$16 -> 0 | CZ13: =SUM(SUM(D17:E17)*$CY$108, SUM(D124:E124)*$CY$109, SUM(D231:E231)*$CY$110, SUM(D338:E338)*$CY$111, SUM(D445:E445)*$CY$112, SUM(D552:E552)*$CY$113, SUM(D659:E659)*$CY$114)/config!$AC$16 -> 0.2 | DA13: =SUM(SUM(F17:G17)*$CY$108, SUM(F124:G124)*$CY$109, SUM(F231:G231)*$CY$110, SUM(F338:G338)*$CY$111, SUM(F445:G445)*$CY$112, SUM(F552:G552)*$CY$113, SUM(F659:G659)*$CY$114)/config!$AC$16 -> 0.2 | DB13: =SUM(H17*$CY$108, H124*$CY$109, H231*$CY$110, H338*$CY$111, H445*$CY$112, H552*$CY$113, H659*$CY$114)/config!$AC$16 -> 0 | DC13: =SUM(SUM(I17:L17)*$CY$108, SUM(I124:L124)*$CY$109, SUM(I231:L231)*$CY$110, SUM(I338:L338)*$CY$111, SUM(I445:L445)*$CY$112, SUM(I552:L552)*$CY$113, SUM(I659:L659)*$CY$114)/config!$AC$16 -> 0 | DF13: =IFERROR((CD13/AZ13)*100, "") | DG13: =IFERROR((CE13/BA13)*100, "") | DH13: =IFERROR((CF13/BB13)*100, "") -> 0 | DI13: =IFERROR((CG13/BC13)*100, "") -> 0 | DJ13: =IFERROR((CH13/BD13)*100, "") | DK13: =IFERROR((CI13/BE13)*100, "") | DL13: =IFERROR((CJ13/BF13)*100, "") | DN13: =AG17 -> 0 | DO13: =AG124 -> 0 | DP13: =AG231 -> 0 | DQ13: =AG338 -> 0 | DR13: =AG445 -> 0 | DS13: =AG552 -> 0 | DT13: =AG659 -> 0 | DV13: =CD13-DN13 -> 0 | DW13: =CE13-DO13 -> 0 | DX13: =CF13-DP13 -> 0 | DY13: =CG13-DQ13 -> 0 | DZ13: =CH13-DR13 -> 0 | EA13: =CI13-DS13 -> 0 | EB13: =CJ13-DT13 -> 0
O14: =O121 -> 10 | P14: =P121 -> 15 | Q14: =Q121 -> 20 | R14: =R121 -> 25 | S14: =S121 -> 30 | T14: =T121 -> 35 | U14: =U121 -> 40 | V14: =V121 -> 45 | ... AB14: =AB121 -> 100 | AG14: ACPO | AH14: ACPO | AI14: DFT | AJ14: DFT | AP14: =SUM(F18,F125,F232,F339,F446,F553,F660) -> 1 | AR14: =AR13+TIME(0,15,0) -> 0.03125 | AS14: =SUM(C18,C125,C232,C339,C446,C553,C660)/config!$AC$13 -> 0 | AT14: =SUM(D18:E18,D125:E125,D232:E232,D339:E339,D446:E446,D553:E553,D660:E660)/config!$AC$13 -> 0.28571429 | AU14: =SUM(F18:G18,F125:G125,F232:G232,F339:G339,F446:G446,F553:G553,F660:G660)/config!$AC$13 -> 0.14285714 | AV14: =SUM(H18,H125,H232,H339,H446,H553,H660)/config!$AC$13 -> 0 | AW14: =SUM(I18:L18,I125:L125,I232:L232,I339:L339,I446:L446,I553:L553,I660:L660)/config!$AC$13 -> 0 | AY14: =AY13+TIME(0,15,0) -> 0.03125 | AZ14: =B18 -> 0 | BA14: =B125 -> 0 | BB14: =B232 -> 0 | BC14: =B339 -> 1 | BD14: =B446 -> 2 | BE14: =B553 -> 0 | BF14: =B660 -> 0 | BH14: =AY14 -> 0.03125 | BI14: =AC18 | BJ14: =AC125 | BK14: =AC232 | BL14: =AC339 -> 21.6 | BM14: =AC446 -> 21.3 | BN14: =AC553 | BO14: =AC660 | BQ14: =BH14 -> 0.03125 | BR14: =AD18 | BS14: =AD125 | BT14: =AD232 | BU14: =AD339 | BV14: =AD446 | BW14: =AD553 | BX14: =AD660 | BZ14: =IF(SUM(BI14:BO14)>0,SUM(BI14:BO14) / COUNTIF(BI14:BO14, ">0"),NA()) -> 21.45 | CA14: =IFERROR(SUM(BR14:BX14) / COUNTIF(BR14:BX14, ">0"), NA()) -> #N/A | CB14: =CB13 -> 30 | CD14: =AE18 -> 0 | CE14: =AE125 -> 0 | CF14: =AE232 -> 0 | CG14: =AE339 -> 0 | CH14: =AE446 -> 0 | CI14: =AE553 -> 0 | CJ14: =AE660 -> 0 | CK14: =IFERROR((SUM(CD14:CJ14)/SUM(AZ14:BF14)) * 100, "") -> 0 | CM14: =IFERROR(AZ14*BI14,"") | CN14: =IFERROR(BA14*BJ14,"") | CO14: =IFERROR(BB14*BK14,"") | CP14: =IFERROR(BC14*BL14,"") -> 21.6 | CQ14: =IFERROR(BD14*BM14,"") -> 42.6 | CR14: =IFERROR(BE14*BN14,"") | CS14: =IFERROR(BF14*BO14,"") | CU14: =SUM(SUMIF($AZ$8:$BF$8, {"NON";"NEUT"}, AZ14:BF14))/config!$AC$16 -> 0.2 | CV14: =AY14 -> 0.03125 | CY14: =SUM(C18*$CY$108, C125*$CY$109, C232*$CY$110, C339*$CY$111, C446*$CY$112, C553*$CY$113, C660*$CY$114)/config!$AC$16 -> 0 | CZ14: =SUM(SUM(D18:E18)*$CY$108, SUM(D125:E125)*$CY$109, SUM(D232:E232)*$CY$110, SUM(D339:E339)*$CY$111, SUM(D446:E446)*$CY$112, SUM(D553:E553)*$CY$113, SUM(D660:E660)*$CY$114)/config!$AC$16 -> 0.2 | DA14: =SUM(SUM(F18:G18)*$CY$108, SUM(F125:G125)*$CY$109, SUM(F232:G232)*$CY$110, SUM(F339:G339)*$CY$111, SUM(F446:G446)*$CY$112, SUM(F553:G553)*$CY$113, SUM(F660:G660)*$CY$114)/config!$AC$16 -> 0 | DB14: =SUM(H18*$CY$108, H125*$CY$109, H232*$CY$110, H339*$CY$111, H446*$CY$112, H553*$CY$113, H660*$CY$114)/config!$AC$16 -> 0 | DC14: =SUM(SUM(I18:L18)*$CY$108, SUM(I125:L125)*$CY$109, SUM(I232:L232)*$CY$110, SUM(I339:L339)*$CY$111, SUM(I446:L446)*$CY$112, SUM(I553:L553)*$CY$113, SUM(I660:L660)*$CY$114)/config!$AC$16 -> 0 | DF14: =IFERROR((CD14/AZ14)*100, "") | DG14: =IFERROR((CE14/BA14)*100, "") | DH14: =IFERROR((CF14/BB14)*100, "") | DI14: =IFERROR((CG14/BC14)*100, "") -> 0 | DJ14: =IFERROR((CH14/BD14)*100, "") -> 0 | DK14: =IFERROR((CI14/BE14)*100, "") | DL14: =IFERROR((CJ14/BF14)*100, "") | DN14: =AG18 -> 0 | DO14: =AG125 -> 0 | DP14: =AG232 -> 0 | DQ14: =AG339 -> 0 | DR14: =AG446 -> 0 | DS14: =AG553 -> 0 | DT14: =AG660 -> 0 | DV14: =CD14-DN14 -> 0 | DW14: =CE14-DO14 -> 0 | DX14: =CF14-DP14 -> 0 | DY14: =CG14-DQ14 -> 0 | DZ14: =CH14-DR14 -> 0 | EA14: =CI14-DS14 -> 0 | EB14: =CJ14-DT14 -> 0
A15: 0000 | B15: 0 | C15: 0 | D15: 0 | E15: 0 | F15: 0 | G15: 0 | H15: 0 | I15: 0 | J15: 0 | K15: 0 | L15: 0 | N15: 0000 | O15: 0 | P15: 0 | Q15: 0 | R15: 0 | S15: 0 | T15: 0 | U15: 0 | V15: 0 | W15: 0 | X15: 0 | Y15: 0 | Z15: 0 | AA15: 0 | AB15: 0 | AE15: 0 | AF15: 0 | AG15: 0 | AH15: 0 | AI15: 0 | AJ15: 0 | AP15: =SUM(F19,F126,F233,F340,F447,F554,F661) -> 0 | AR15: =AR14+TIME(0,15,0) -> 0.041666667 | AS15: =SUM(C19,C126,C233,C340,C447,C554,C661)/config!$AC$13 -> 0 | AT15: =SUM(D19:E19,D126:E126,D233:E233,D340:E340,D447:E447,D554:E554,D661:E661)/config!$AC$13 -> 0 | AU15: =SUM(F19:G19,F126:G126,F233:G233,F340:G340,F447:G447,F554:G554,F661:G661)/config!$AC$13 -> 0 | AV15: =SUM(H19,H126,H233,H340,H447,H554,H661)/config!$AC$13 -> 0 | AW15: =SUM(I19:L19,I126:L126,I233:L233,I340:L340,I447:L447,I554:L554,I661:L661)/config!$AC$13 -> 0 | AY15: =AY14+TIME(0,15,0) -> 0.041666667 | AZ15: =B19 -> 0 | BA15: =B126 -> 0 | BB15: =B233 -> 0 | BC15: =B340 -> 0 | BD15: =B447 -> 0 | BE15: =B554 -> 0 | BF15: =B661 -> 0 | BH15: =AY15 -> 0.041666667 | BI15: =AC19 | BJ15: =AC126 | BK15: =AC233 | BL15: =AC340 | BM15: =AC447 | BN15: =AC554 | BO15: =AC661 | BQ15: =BH15 -> 0.041666667 | BR15: =AD19 | BS15: =AD126 | BT15: =AD233 | BU15: =AD340 | BV15: =AD447 | BW15: =AD554 | BX15: =AD661 | BZ15: =IF(SUM(BI15:BO15)>0,SUM(BI15:BO15) / COUNTIF(BI15:BO15, ">0"),NA()) -> #N/A | CA15: =IFERROR(SUM(BR15:BX15) / COUNTIF(BR15:BX15, ">0"), NA()) -> #N/A | CB15: =CB14 -> 30 | CD15: =AE19 -> 0 | CE15: =AE126 -> 0 | CF15: =AE233 -> 0 | CG15: =AE340 -> 0 | CH15: =AE447 -> 0 | CI15: =AE554 -> 0 | CJ15: =AE661 -> 0 | CK15: =IFERROR((SUM(CD15:CJ15)/SUM(AZ15:BF15)) * 100, "") | CM15: =IFERROR(AZ15*BI15,"") | CN15: =IFERROR(BA15*BJ15,"") | CO15: =IFERROR(BB15*BK15,"") | CP15: =IFERROR(BC15*BL15,"") | CQ15: =IFERROR(BD15*BM15,"") | CR15: =IFERROR(BE15*BN15,"") | CS15: =IFERROR(BF15*BO15,"") | CU15: =SUM(SUMIF($AZ$8:$BF$8, {"NON";"NEUT"}, AZ15:BF15))/config!$AC$16 -> 0 | CV15: =AY15 -> 0.041666667 | CY15: =SUM(C19*$CY$108, C126*$CY$109, C233*$CY$110, C340*$CY$111, C447*$CY$112, C554*$CY$113, C661*$CY$114)/config!$AC$16 -> 0 | CZ15: =SUM(SUM(D19:E19)*$CY$108, SUM(D126:E126)*$CY$109, SUM(D233:E233)*$CY$110, SUM(D340:E340)*$CY$111, SUM(D447:E447)*$CY$112, SUM(D554:E554)*$CY$113, SUM(D661:E661)*$CY$114)/config!$AC$16 -> 0 | DA15: =SUM(SUM(F19:G19)*$CY$108, SUM(F126:G126)*$CY$109, SUM(F233:G233)*$CY$110, SUM(F340:G340)*$CY$111, SUM(F447:G447)*$CY$112, SUM(F554:G554)*$CY$113, SUM(F661:G661)*$CY$114)/config!$AC$16 -> 0 | DB15: =SUM(H19*$CY$108, H126*$CY$109, H233*$CY$110, H340*$CY$111, H447*$CY$112, H554*$CY$113, H661*$CY$114)/config!$AC$16 -> 0 | DC15: =SUM(SUM(I19:L19)*$CY$108, SUM(I126:L126)*$CY$109, SUM(I233:L233)*$CY$110, SUM(I340:L340)*$CY$111, SUM(I447:L447)*$CY$112, SUM(I554:L554)*$CY$113, SUM(I661:L661)*$CY$114)/config!$AC$16 -> 0 | DF15: =IFERROR((CD15/AZ15)*100, "") | DG15: =IFERROR((CE15/BA15)*100, "") | DH15: =IFERROR((CF15/BB15)*100, "") | DI15: =IFERROR((CG15/BC15)*100, "") | DJ15: =IFERROR((CH15/BD15)*100, "") | DK15: =IFERROR((CI15/BE15)*100, "") | DL15: =IFERROR((CJ15/BF15)*100, "") | DN15: =AG19 -> 0 | DO15: =AG126 -> 0 | DP15: =AG233 -> 0 | DQ15: =AG340 -> 0 | DR15: =AG447 -> 0 | DS15: =AG554 -> 0 | DT15: =AG661 -> 0 | DV15: =CD15-DN15 -> 0 | DW15: =CE15-DO15 -> 0 | DX15: =CF15-DP15 -> 0 | DY15: =CG15-DQ15 -> 0 | DZ15: =CH15-DR15 -> 0 | EA15: =CI15-DS15 -> 0 | EB15: =CJ15-DT15 -> 0
A16: 0015 | B16: 0 | C16: 0 | D16: 0 | E16: 0 | F16: 0 | G16: 0 | H16: 0 | I16: 0 | J16: 0 | K16: 0 | L16: 0 | N16: 0015 | O16: 0 | P16: 0 | Q16: 0 | R16: 0 | S16: 0 | T16: 0 | U16: 0 | V16: 0 | W16: 0 | X16: 0 | Y16: 0 | Z16: 0 | AA16: 0 | AB16: 0 | AE16: 0 | AF16: 0 | AG16: 0 | AH16: 0 | AI16: 0 | AJ16: 0 | AP16: =SUM(F20,F127,F234,F341,F448,F555,F662) -> 1 | AR16: =AR15+TIME(0,15,0) -> 0.052083333 | AS16: =SUM(C20,C127,C234,C341,C448,C555,C662)/config!$AC$13 -> 0 | AT16: =SUM(D20:E20,D127:E127,D234:E234,D341:E341,D448:E448,D555:E555,D662:E662)/config!$AC$13 -> 0 | AU16: =SUM(F20:G20,F127:G127,F234:G234,F341:G341,F448:G448,F555:G555,F662:G662)/config!$AC$13 -> 0.14285714 | AV16: =SUM(H20,H127,H234,H341,H448,H555,H662)/config!$AC$13 -> 0 | AW16: =SUM(I20:L20,I127:L127,I234:L234,I341:L341,I448:L448,I555:L555,I662:L662)/config!$AC$13 -> 0 | AY16: =AY15+TIME(0,15,0) -> 0.052083333 | AZ16: =B20 -> 1 | BA16: =B127 -> 0 | BB16: =B234 -> 0 | BC16: =B341 -> 0 | BD16: =B448 -> 0 | BE16: =B555 -> 0 | BF16: =B662 -> 0 | BH16: =AY16 -> 0.052083333 | BI16: =AC20 -> 24 | BJ16: =AC127 | BK16: =AC234 | BL16: =AC341 | BM16: =AC448 | BN16: =AC555 | BO16: =AC662 | BQ16: =BH16 -> 0.052083333 | BR16: =AD20 | BS16: =AD127 | BT16: =AD234 | BU16: =AD341 | BV16: =AD448 | BW16: =AD555 | BX16: =AD662 | BZ16: =IF(SUM(BI16:BO16)>0,SUM(BI16:BO16) / COUNTIF(BI16:BO16, ">0"),NA()) -> 24 | CA16: =IFERROR(SUM(BR16:BX16) / COUNTIF(BR16:BX16, ">0"), NA()) -> #N/A | CB16: =CB15 -> 30 | CD16: =AE20 -> 0 | CE16: =AE127 -> 0 | CF16: =AE234 -> 0 | CG16: =AE341 -> 0 | CH16: =AE448 -> 0 | CI16: =AE555 -> 0 | CJ16: =AE662 -> 0 | CK16: =IFERROR((SUM(CD16:CJ16)/SUM(AZ16:BF16)) * 100, "") -> 0 | CM16: =IFERROR(AZ16*BI16,"") -> 24 | CN16: =IFERROR(BA16*BJ16,"") | CO16: =IFERROR(BB16*BK16,"") | CP16: =IFERROR(BC16*BL16,"") | CQ16: =IFERROR(BD16*BM16,"") | CR16: =IFERROR(BE16*BN16,"") | CS16: =IFERROR(BF16*BO16,"") | CU16: =SUM(SUMIF($AZ$8:$BF$8, {"NON";"NEUT"}, AZ16:BF16))/config!$AC$16 -> 0.2 | CV16: =AY16 -> 0.052083333 | CY16: =SUM(C20*$CY$108, C127*$CY$109, C234*$CY$110, C341*$CY$111, C448*$CY$112, C555*$CY$113, C662*$CY$114)/config!$AC$16 -> 0 | CZ16: =SUM(SUM(D20:E20)*$CY$108, SUM(D127:E127)*$CY$109, SUM(D234:E234)*$CY$110, SUM(D341:E341)*$CY$111, SUM(D448:E448)*$CY$112, SUM(D555:E555)*$CY$113, SUM(D662:E662)*$CY$114)/config!$AC$16 -> 0 | DA16: =SUM(SUM(F20:G20)*$CY$108, SUM(F127:G127)*$CY$109, SUM(F234:G234)*$CY$110, SUM(F341:G341)*$CY$111, SUM(F448:G448)*$CY$112, SUM(F555:G555)*$CY$113, SUM(F662:G662)*$CY$114)/config!$AC$16 -> 0.2 | DB16: =SUM(H20*$CY$108, H127*$CY$109, H234*$CY$110, H341*$CY$111, H448*$CY$112, H555*$CY$113, H662*$CY$114)/config!$AC$16 -> 0 | DC16: =SUM(SUM(I20:L20)*$CY$108, SUM(I127:L127)*$CY$109, SUM(I234:L234)*$CY$110, SUM(I341:L341)*$CY$111, SUM(I448:L448)*$CY$112, SUM(I555:L555)*$CY$113, SUM(I662:L662)*$CY$114)/config!$AC$16 -> 0 | DF16: =IFERROR((CD16/AZ16)*100, "") -> 0 | DG16: =IFERROR((CE16/BA16)*100, "") | DH16: =IFERROR((CF16/BB16)*100, "") | DI16: =IFERROR((CG16/BC16)*100, "") | DJ16: =IFERROR((CH16/BD16)*100, "") | DK16: =IFERROR((CI16/BE16)*100, "") | DL16: =IFERROR((CJ16/BF16)*100, "") | DN16: =AG20 -> 0 | DO16: =AG127 -> 0 | DP16: =AG234 -> 0 | DQ16: =AG341 -> 0 | DR16: =AG448 -> 0 | DS16: =AG555 -> 0 | DT16: =AG662 -> 0 | DV16: =CD16-DN16 -> 0 | DW16: =CE16-DO16 -> 0 | DX16: =CF16-DP16 -> 0 | DY16: =CG16-DQ16 -> 0 | DZ16: =CH16-DR16 -> 0 | EA16: =CI16-DS16 -> 0 | EB16: =CJ16-DT16 -> 0
A17: 0030 | B17: 0 | C17: 0 | D17: 0 | E17: 0 | F17: 0 | G17: 0 | H17: 0 | I17: 0 | J17: 0 | K17: 0 | L17: 0 | N17: 0030 | O17: 0 | P17: 0 | Q17: 0 | R17: 0 | S17: 0 | T17: 0 | U17: 0 | V17: 0 | W17: 0 | X17: 0 | Y17: 0 | Z17: 0 | AA17: 0 | AB17: 0 | AE17: 0 | AF17: 0 | AG17: 0 | AH17: 0 | AI17: 0 | AJ17: 0 | AP17: =SUM(F21,F128,F235,F342,F449,F556,F663) -> 0 | AR17: =AR16+TIME(0,15,0) -> 0.0625 | AS17: =SUM(C21,C128,C235,C342,C449,C556,C663)/config!$AC$13 -> 0 | AT17: =SUM(D21:E21,D128:E128,D235:E235,D342:E342,D449:E449,D556:E556,D663:E663)/config!$AC$13 -> 0.14285714 | AU17: =SUM(F21:G21,F128:G128,F235:G235,F342:G342,F449:G449,F556:G556,F663:G663)/config!$AC$13 -> 0 | AV17: =SUM(H21,H128,H235,H342,H449,H556,H663)/config!$AC$13 -> 0 | AW17: =SUM(I21:L21,I128:L128,I235:L235,I342:L342,I449:L449,I556:L556,I663:L663)/config!$AC$13 -> 0 | AY17: =AY16+TIME(0,15,0) -> 0.0625 | AZ17: =B21 -> 0 | BA17: =B128 -> 1 | BB17: =B235 -> 0 | BC17: =B342 -> 0 | BD17: =B449 -> 0 | BE17: =B556 -> 0 | BF17: =B663 -> 0 | BH17: =AY17 -> 0.0625 | BI17: =AC21 | BJ17: =AC128 -> 22.2 | BK17: =AC235 | BL17: =AC342 | BM17: =AC449 | BN17: =AC556 | BO17: =AC663 | BQ17: =BH17 -> 0.0625 | BR17: =AD21 | BS17: =AD128 | BT17: =AD235 | BU17: =AD342 | BV17: =AD449 | BW17: =AD556 | BX17: =AD663 | BZ17: =IF(SUM(BI17:BO17)>0,SUM(BI17:BO17) / COUNTIF(BI17:BO17, ">0"),NA()) -> 22.2 | CA17: =IFERROR(SUM(BR17:BX17) / COUNTIF(BR17:BX17, ">0"), NA()) -> #N/A | CB17: =CB16 -> 30 | CD17: =AE21 -> 0 | CE17: =AE128 -> 0 | CF17: =AE235 -> 0 | CG17: =AE342 -> 0 | CH17: =AE449 -> 0 | CI17: =AE556 -> 0 | CJ17: =AE663 -> 0 | CK17: =IFERROR((SUM(CD17:CJ17)/SUM(AZ17:BF17)) * 100, "") -> 0 | CM17: =IFERROR(AZ17*BI17,"") | CN17: =IFERROR(BA17*BJ17,"") -> 22.2 | CO17: =IFERROR(BB17*BK17,"") | CP17: =IFERROR(BC17*BL17,"") | CQ17: =IFERROR(BD17*BM17,"") | CR17: =IFERROR(BE17*BN17,"") | CS17: =IFERROR(BF17*BO17,"") | CU17: =SUM(SUMIF($AZ$8:$BF$8, {"NON";"NEUT"}, AZ17:BF17))/config!$AC$16 -> 0.2 | CV17: =AY17 -> 0.0625 | CY17: =SUM(C21*$CY$108, C128*$CY$109, C235*$CY$110, C342*$CY$111, C449*$CY$112, C556*$CY$113, C663*$CY$114)/config!$AC$16 -> 0 | CZ17: =SUM(SUM(D21:E21)*$CY$108, SUM(D128:E128)*$CY$109, SUM(D235:E235)*$CY$110, SUM(D342:E342)*$CY$111, SUM(D449:E449)*$CY$112, SUM(D556:E556)*$CY$113, SUM(D663:E663)*$CY$114)/config!$AC$16 -> 0.2 | DA17: =SUM(SUM(F21:G21)*$CY$108, SUM(F128:G128)*$CY$109, SUM(F235:G235)*$CY$110, SUM(F342:G342)*$CY$111, SUM(F449:G449)*$CY$112, SUM(F556:G556)*$CY$113, SUM(F663:G663)*$CY$114)/config!$AC$16 -> 0 | DB17: =SUM(H21*$CY$108, H128*$CY$109, H235*$CY$110, H342*$CY$111, H449*$CY$112, H556*$CY$113, H663*$CY$114)/config!$AC$16 -> 0 | DC17: =SUM(SUM(I21:L21)*$CY$108, SUM(I128:L128)*$CY$109, SUM(I235:L235)*$CY$110, SUM(I342:L342)*$CY$111, SUM(I449:L449)*$CY$112, SUM(I556:L556)*$CY$113, SUM(I663:L663)*$CY$114)/config!$AC$16 -> 0 | DF17: =IFERROR((CD17/AZ17)*100, "") | DG17: =IFERROR((CE17/BA17)*100, "") -> 0 | DH17: =IFERROR((CF17/BB17)*100, "") | DI17: =IFERROR((CG17/BC17)*100, "") | DJ17: =IFERROR((CH17/BD17)*100, "") | DK17: =IFERROR((CI17/BE17)*100, "") | DL17: =IFERROR((CJ17/BF17)*100, "") | DN17: =AG21 -> 0 | DO17: =AG128 -> 0 | DP17: =AG235 -> 0 | DQ17: =AG342 -> 0 | DR17: =AG449 -> 0 | DS17: =AG556 -> 0 | DT17: =AG663 -> 0 | DV17: =CD17-DN17 -> 0 | DW17: =CE17-DO17 -> 0 | DX17: =CF17-DP17 -> 0 | DY17: =CG17-DQ17 -> 0 | DZ17: =CH17-DR17 -> 0 | EA17: =CI17-DS17 -> 0 | EB17: =CJ17-DT17 -> 0
A18: 0045 | B18: 0 | C18: 0 | D18: 0 | E18: 0 | F18: 0 | G18: 0 | H18: 0 | I18: 0 | J18: 0 | K18: 0 | L18: 0 | N18: 0045 | O18: 0 | P18: 0 | Q18: 0 | R18: 0 | S18: 0 | T18: 0 | U18: 0 | V18: 0 | W18: 0 | X18: 0 | Y18: 0 | Z18: 0 | AA18: 0 | AB18: 0 | AE18: 0 | AF18: 0 | AG18: 0 | AH18: 0 | AI18: 0 | AJ18: 0 | AP18: =SUM(F22,F129,F236,F343,F450,F557,F664) -> 1 | AR18: =AR17+TIME(0,15,0) -> 0.072916667 | AS18: =SUM(C22,C129,C236,C343,C450,C557,C664)/config!$AC$13 -> 0 | AT18: =SUM(D22:E22,D129:E129,D236:E236,D343:E343,D450:E450,D557:E557,D664:E664)/config!$AC$13 -> 0 | AU18: =SUM(F22:G22,F129:G129,F236:G236,F343:G343,F450:G450,F557:G557,F664:G664)/config!$AC$13 -> 0.14285714 | AV18: =SUM(H22,H129,H236,H343,H450,H557,H664)/config!$AC$13 -> 0 | AW18: =SUM(I22:L22,I129:L129,I236:L236,I343:L343,I450:L450,I557:L557,I664:L664)/config!$AC$13 -> 0 | AY18: =AY17+TIME(0,15,0) -> 0.072916667 | AZ18: =B22 -> 0 | BA18: =B129 -> 0 | BB18: =B236 -> 0 | BC18: =B343 -> 0 | BD18: =B450 -> 1 | BE18: =B557 -> 0 | BF18: =B664 -> 0 | BH18: =AY18 -> 0.072916667 | BI18: =AC22 | BJ18: =AC129 | BK18: =AC236 | BL18: =AC343 | BM18: =AC450 -> 33.1 | BN18: =AC557 | BO18: =AC664 | BQ18: =BH18 -> 0.072916667 | BR18: =AD22 | BS18: =AD129 | BT18: =AD236 | BU18: =AD343 | BV18: =AD450 | BW18: =AD557 | BX18: =AD664 | BZ18: =IF(SUM(BI18:BO18)>0,SUM(BI18:BO18) / COUNTIF(BI18:BO18, ">0"),NA()) -> 33.1 | CA18: =IFERROR(SUM(BR18:BX18) / COUNTIF(BR18:BX18, ">0"), NA()) -> #N/A | CB18: =CB17 -> 30 | CD18: =AE22 -> 0 | CE18: =AE129 -> 0 | CF18: =AE236 -> 0 | CG18: =AE343 -> 0 | CH18: =AE450 -> 1 | CI18: =AE557 -> 0 | CJ18: =AE664 -> 0 | CK18: =IFERROR((SUM(CD18:CJ18)/SUM(AZ18:BF18)) * 100, "") -> 100 | CM18: =IFERROR(AZ18*BI18,"") | CN18: =IFERROR(BA18*BJ18,"") | CO18: =IFERROR(BB18*BK18,"") | CP18: =IFERROR(BC18*BL18,"") | CQ18: =IFERROR(BD18*BM18,"") -> 33.1 | CR18: =IFERROR(BE18*BN18,"") | CS18: =IFERROR(BF18*BO18,"") | CU18: =SUM(SUMIF($AZ$8:$BF$8, {"NON";"NEUT"}, AZ18:BF18))/config!$AC$16 -> 0 | CV18: =AY18 -> 0.072916667 | CY18: =SUM(C22*$CY$108, C129*$CY$109, C236*$CY$110, C343*$CY$111, C450*$CY$112, C557*$CY$113, C664*$CY$114)/config!$AC$16 -> 0 | CZ18: =SUM(SUM(D22:E22)*$CY$108, SUM(D129:E129)*$CY$109, SUM(D236:E236)*$CY$110, SUM(D343:E343)*$CY$111, SUM(D450:E450)*$CY$112, SUM(D557:E557)*$CY$113, SUM(D664:E664)*$CY$114)/config!$AC$16 -> 0 | DA18: =SUM(SUM(F22:G22)*$CY$108, SUM(F129:G129)*$CY$109, SUM(F236:G236)*$CY$110, SUM(F343:G343)*$CY$111, SUM(F450:G450)*$CY$112, SUM(F557:G557)*$CY$113, SUM(F664:G664)*$CY$114)/config!$AC$16 -> 0 | DB18: =SUM(H22*$CY$108, H129*$CY$109, H236*$CY$110, H343*$CY$111, H450*$CY$112, H557*$CY$113, H664*$CY$114)/config!$AC$16 -> 0 | DC18: =SUM(SUM(I22:L22)*$CY$108, SUM(I129:L129)*$CY$109, SUM(I236:L236)*$CY$110, SUM(I343:L343)*$CY$111, SUM(I450:L450)*$CY$112, SUM(I557:L557)*$CY$113, SUM(I664:L664)*$CY$114)/config!$AC$16 -> 0 | DF18: =IFERROR((CD18/AZ18)*100, "") | DG18: =IFERROR((CE18/BA18)*100, "") | DH18: =IFERROR((CF18/BB18)*100, "") | DI18: =IFERROR((CG18/BC18)*100, "") | DJ18: =IFERROR((CH18/BD18)*100, "") -> 100 | DK18: =IFERROR((CI18/BE18)*100, "") | DL18: =IFERROR((CJ18/BF18)*100, "") | DN18: =AG22 -> 0 | DO18: =AG129 -> 0 | DP18: =AG236 -> 0 | DQ18: =AG343 -> 0 | DR18: =AG450 -> 0 | DS18: =AG557 -> 0 | DT18: =AG664 -> 0 | DV18: =CD18-DN18 -> 0 | DW18: =CE18-DO18 -> 0 | DX18: =CF18-DP18 -> 0 | DY18: =CG18-DQ18 -> 0 | DZ18: =CH18-DR18 -> 1 | EA18: =CI18-DS18 -> 0 | EB18: =CJ18-DT18 -> 0
A19: 0100 | B19: 0 | C19: 0 | D19: 0 | E19: 0 | F19: 0 | G19: 0 | H19: 0 | I19: 0 | J19: 0 | K19: 0 | L19: 0 | N19: 0100 | O19: 0 | P19: 0 | Q19: 0 | R19: 0 | S19: 0 | T19: 0 | U19: 0 | V19: 0 | W19: 0 | X19: 0 | Y19: 0 | Z19: 0 | AA19: 0 | AB19: 0 | AE19: 0 | AF19: 0 | AG19: 0 | AH19: 0 | AI19: 0 | AJ19: 0 | AP19: =SUM(F23,F130,F237,F344,F451,F558,F665) -> 0 | AR19: =AR18+TIME(0,15,0) -> 0.083333333 | AS19: =SUM(C23,C130,C237,C344,C451,C558,C665)/config!$AC$13 -> 0 | AT19: =SUM(D23:E23,D130:E130,D237:E237,D344:E344,D451:E451,D558:E558,D665:E665)/config!$AC$13 -> 0.28571429 | AU19: =SUM(F23:G23,F130:G130,F237:G237,F344:G344,F451:G451,F558:G558,F665:G665)/config!$AC$13 -> 0 | AV19: =SUM(H23,H130,H237,H344,H451,H558,H665)/config!$AC$13 -> 0 | AW19: =SUM(I23:L23,I130:L130,I237:L237,I344:L344,I451:L451,I558:L558,I665:L665)/config!$AC$13 -> 0 | AY19: =AY18+TIME(0,15,0) -> 0.083333333 | AZ19: =B23 -> 0 | BA19: =B130 -> 0 | BB19: =B237 -> 1 | BC19: =B344 -> 1 | BD19: =B451 -> 0 | BE19: =B558 -> 0 | BF19: =B665 -> 0 | BH19: =AY19 -> 0.083333333 | BI19: =AC23 | BJ19: =AC130 | BK19: =AC237 -> 18.8 | BL19: =AC344 -> 21.5 | BM19: =AC451 | BN19: =AC558 | BO19: =AC665 | BQ19: =BH19 -> 0.083333333 | BR19: =AD23 | BS19: =AD130 | BT19: =AD237 | BU19: =AD344 | BV19: =AD451 | BW19: =AD558 | BX19: =AD665 | BZ19: =IF(SUM(BI19:BO19)>0,SUM(BI19:BO19) / COUNTIF(BI19:BO19, ">0"),NA()) -> 20.15 | CA19: =IFERROR(SUM(BR19:BX19) / COUNTIF(BR19:BX19, ">0"), NA()) -> #N/A | CB19: =CB18 -> 30 | CD19: =AE23 -> 0 | CE19: =AE130 -> 0 | CF19: =AE237 -> 0 | CG19: =AE344 -> 0 | CH19: =AE451 -> 0 | CI19: =AE558 -> 0 | CJ19: =AE665 -> 0 | CK19: =IFERROR((SUM(CD19:CJ19)/SUM(AZ19:BF19)) * 100, "") -> 0 | CM19: =IFERROR(AZ19*BI19,"") | CN19: =IFERROR(BA19*BJ19,"") | CO19: =IFERROR(BB19*BK19,"") -> 18.8 | CP19: =IFERROR(BC19*BL19,"") -> 21.5 | CQ19: =IFERROR(BD19*BM19,"") | CR19: =IFERROR(BE19*BN19,"") | CS19: =IFERROR(BF19*BO19,"") | CU19: =SUM(SUMIF($AZ$8:$BF$8, {"NON";"NEUT"}, AZ19:BF19))/config!$AC$16 -> 0.4 | CV19: =AY19 -> 0.083333333 | CY19: =SUM(C23*$CY$108, C130*$CY$109, C237*$CY$110, C344*$CY$111, C451*$CY$112, C558*$CY$113, C665*$CY$114)/config!$AC$16 -> 0 | CZ19: =SUM(SUM(D23:E23)*$CY$108, SUM(D130:E130)*$CY$109, SUM(D237:E237)*$CY$110, SUM(D344:E344)*$CY$111, SUM(D451:E451)*$CY$112, SUM(D558:E558)*$CY$113, SUM(D665:E665)*$CY$114)/config!$AC$16 -> 0.4 | DA19: =SUM(SUM(F23:G23)*$CY$108, SUM(F130:G130)*$CY$109, SUM(F237:G237)*$CY$110, SUM(F344:G344)*$CY$111, SUM(F451:G451)*$CY$112, SUM(F558:G558)*$CY$113, SUM(F665:G665)*$CY$114)/config!$AC$16 -> 0 | DB19: =SUM(H23*$CY$108, H130*$CY$109, H237*$CY$110, H344*$CY$111, H451*$CY$112, H558*$CY$113, H665*$CY$114)/config!$AC$16 -> 0 | DC19: =SUM(SUM(I23:L23)*$CY$108, SUM(I130:L130)*$CY$109, SUM(I237:L237)*$CY$110, SUM(I344:L344)*$CY$111, SUM(I451:L451)*$CY$112, SUM(I558:L558)*$CY$113, SUM(I665:L665)*$CY$114)/config!$AC$16 -> 0 | DF19: =IFERROR((CD19/AZ19)*100, "") | DG19: =IFERROR((CE19/BA19)*100, "") | DH19: =IFERROR((CF19/BB19)*100, "") -> 0 | DI19: =IFERROR((CG19/BC19)*100, "") -> 0 | DJ19: =IFERROR((CH19/BD19)*100, "") | DK19: =IFERROR((CI19/BE19)*100, "") | DL19: =IFERROR((CJ19/BF19)*100, "") | DN19: =AG23 -> 0 | DO19: =AG130 -> 0 | DP19: =AG237 -> 0 | DQ19: =AG344 -> 0 | DR19: =AG451 -> 0 | DS19: =AG558 -> 0 | DT19: =AG665 -> 0 | DV19: =CD19-DN19 -> 0 | DW19: =CE19-DO19 -> 0 | DX19: =CF19-DP19 -> 0 | DY19: =CG19-DQ19 -> 0 | DZ19: =CH19-DR19 -> 0 | EA19: =CI19-DS19 -> 0 | EB19: =CJ19-DT19 -> 0
A20: 0115 | B20: 1 | C20: 0 | D20: 0 | E20: 0 | F20: 1 | G20: 0 | H20: 0 | I20: 0 | J20: 0 | K20: 0 | L20: 0 | N20: 0115 | O20: 0 | P20: 0 | Q20: 0 | R20: 1 | S20: 0 | T20: 0 | U20: 0 | V20: 0 | W20: 0 | X20: 0 | Y20: 0 | Z20: 0 | AA20: 0 | AB20: 0 | AC20: 24 | AE20: 0 | AF20: 0 | AG20: 0 | AH20: 0 | AI20: 0 | AJ20: 0 | AP20: =SUM(F24,F131,F238,F345,F452,F559,F666) -> 0 | AR20: =AR19+TIME(0,15,0) -> 0.09375 | AS20: =SUM(C24,C131,C238,C345,C452,C559,C666)/config!$AC$13 -> 0 | AT20: =SUM(D24:E24,D131:E131,D238:E238,D345:E345,D452:E452,D559:E559,D666:E666)/config!$AC$13 -> 0.42857143 | AU20: =SUM(F24:G24,F131:G131,F238:G238,F345:G345,F452:G452,F559:G559,F666:G666)/config!$AC$13 -> 0 | AV20: =SUM(H24,H131,H238,H345,H452,H559,H666)/config!$AC$13 -> 0 | AW20: =SUM(I24:L24,I131:L131,I238:L238,I345:L345,I452:L452,I559:L559,I666:L666)/config!$AC$13 -> 0 | AY20: =AY19+TIME(0,15,0) -> 0.09375 | AZ20: =B24 -> 0 | BA20: =B131 -> 1 | BB20: =B238 -> 2 | BC20: =B345 -> 0 | BD20: =B452 -> 0 | BE20: =B559 -> 0 | BF20: =B666 -> 0 | BH20: =AY20 -> 0.09375 | BI20: =AC24 | BJ20: =AC131 -> 22.9 | BK20: =AC238 -> 20.1 | BL20: =AC345 | BM20: =AC452 | BN20: =AC559 | BO20: =AC666 | BQ20: =BH20 -> 0.09375 | BR20: =AD24 | BS20: =AD131 | BT20: =AD238 | BU20: =AD345 | BV20: =AD452 | BW20: =AD559 | BX20: =AD666 | BZ20: =IF(SUM(BI20:BO20)>0,SUM(BI20:BO20) / COUNTIF(BI20:BO20, ">0"),NA()) -> 21.5 | CA20: =IFERROR(SUM(BR20:BX20) / COUNTIF(BR20:BX20, ">0"), NA()) -> #N/A | CB20: =CB19 -> 30 | CD20: =AE24 -> 0 | CE20: =AE131 -> 0 | CF20: =AE238 -> 0 | CG20: =AE345 -> 0 | CH20: =AE452 -> 0 | CI20: =AE559 -> 0 | CJ20: =AE666 -> 0 | CK20: =IFERROR((SUM(CD20:CJ20)/SUM(AZ20:BF20)) * 100, "") -> 0 | CM20: =IFERROR(AZ20*BI20,"") | CN20: =IFERROR(BA20*BJ20,"") -> 22.9 | CO20: =IFERROR(BB20*BK20,"") -> 40.2 | CP20: =IFERROR(BC20*BL20,"") | CQ20: =IFERROR(BD20*BM20,"") | CR20: =IFERROR(BE20*BN20,"") | CS20: =IFERROR(BF20*BO20,"") | CU20: =SUM(SUMIF($AZ$8:$BF$8, {"NON";"NEUT"}, AZ20:BF20))/config!$AC$16 -> 0.6 | CV20: =AY20 -> 0.09375 | CY20: =SUM(C24*$CY$108, C131*$CY$109, C238*$CY$110, C345*$CY$111, C452*$CY$112, C559*$CY$113, C666*$CY$114)/config!$AC$16 -> 0 | CZ20: =SUM(SUM(D24:E24)*$CY$108, SUM(D131:E131)*$CY$109, SUM(D238:E238)*$CY$110, SUM(D345:E345)*$CY$111, SUM(D452:E452)*$CY$112, SUM(D559:E559)*$CY$113, SUM(D666:E666)*$CY$114)/config!$AC$16 -> 0.6 | DA20: =SUM(SUM(F24:G24)*$CY$108, SUM(F131:G131)*$CY$109, SUM(F238:G238)*$CY$110, SUM(F345:G345)*$CY$111, SUM(F452:G452)*$CY$112, SUM(F559:G559)*$CY$113, SUM(F666:G666)*$CY$114)/config!$AC$16 -> 0 | DB20: =SUM(H24*$CY$108, H131*$CY$109, H238*$CY$110, H345*$CY$111, H452*$CY$112, H559*$CY$113, H666*$CY$114)/config!$AC$16 -> 0 | DC20: =SUM(SUM(I24:L24)*$CY$108, SUM(I131:L131)*$CY$109, SUM(I238:L238)*$CY$110, SUM(I345:L345)*$CY$111, SUM(I452:L452)*$CY$112, SUM(I559:L559)*$CY$113, SUM(I666:L666)*$CY$114)/config!$AC$16 -> 0 | DF20: =IFERROR((CD20/AZ20)*100, "") | DG20: =IFERROR((CE20/BA20)*100, "") -> 0 | DH20: =IFERROR((CF20/BB20)*100, "") -> 0 | DI20: =IFERROR((CG20/BC20)*100, "") | DJ20: =IFERROR((CH20/BD20)*100, "") | DK20: =IFERROR((CI20/BE20)*100, "") | DL20: =IFERROR((CJ20/BF20)*100, "") | DN20: =AG24 -> 0 | DO20: =AG131 -> 0 | DP20: =AG238 -> 0 | DQ20: =AG345 -> 0 | DR20: =AG452 -> 0 | DS20: =AG559 -> 0 | DT20: =AG666 -> 0 | DV20: =CD20-DN20 -> 0 | DW20: =CE20-DO20 -> 0 | DX20: =CF20-DP20 -> 0 | DY20: =CG20-DQ20 -> 0 | DZ20: =CH20-DR20 -> 0 | EA20: =CI20-DS20 -> 0 | EB20: =CJ20-DT20 -> 0
A21: 0130 | B21: 0 | C21: 0 | D21: 0 | E21: 0 | F21: 0 | G21: 0 | H21: 0 | I21: 0 | J21: 0 | K21: 0 | L21: 0 | N21: 0130 | O21: 0 | P21: 0 | Q21: 0 | R21: 0 | S21: 0 | T21: 0 | U21: 0 | V21: 0 | W21: 0 | X21: 0 | Y21: 0 | Z21: 0 | AA21: 0 | AB21: 0 | AE21: 0 | AF21: 0 | AG21: 0 | AH21: 0 | AI21: 0 | AJ21: 0 | AP21: =SUM(F25,F132,F239,F346,F453,F560,F667) -> 1 | AR21: =AR20+TIME(0,15,0) -> 0.10416667 | AS21: =SUM(C25,C132,C239,C346,C453,C560,C667)/config!$AC$13 -> 0 | AT21: =SUM(D25:E25,D132:E132,D239:E239,D346:E346,D453:E453,D560:E560,D667:E667)/config!$AC$13 -> 0 | AU21: =SUM(F25:G25,F132:G132,F239:G239,F346:G346,F453:G453,F560:G560,F667:G667)/config!$AC$13 -> 0.14285714 | AV21: =SUM(H25,H132,H239,H346,H453,H560,H667)/config!$AC$13 -> 0 | AW21: =SUM(I25:L25,I132:L132,I239:L239,I346:L346,I453:L453,I560:L560,I667:L667)/config!$AC$13 -> 0 | AY21: =AY20+TIME(0,15,0) -> 0.10416667 | AZ21: =B25 -> 0 | BA21: =B132 -> 1 | BB21: =B239 -> 0 | BC21: =B346 -> 0 | BD21: =B453 -> 0 | BE21: =B560 -> 0 | BF21: =B667 -> 0 | BH21: =AY21 -> 0.10416667 | BI21: =AC25 | BJ21: =AC132 -> 35.7 | BK21: =AC239 | BL21: =AC346 | BM21: =AC453 | BN21: =AC560 | BO21: =AC667 | BQ21: =BH21 -> 0.10416667 | BR21: =AD25 | BS21: =AD132 | BT21: =AD239 | BU21: =AD346 | BV21: =AD453 | BW21: =AD560 | BX21: =AD667 | BZ21: =IF(SUM(BI21:BO21)>0,SUM(BI21:BO21) / COUNTIF(BI21:BO21, ">0"),NA()) -> 35.7 | CA21: =IFERROR(SUM(BR21:BX21) / COUNTIF(BR21:BX21, ">0"), NA()) -> #N/A | CB21: =CB20 -> 30 | CD21: =AE25 -> 0 | CE21: =AE132 -> 1 | CF21: =AE239 -> 0 | CG21: =AE346 -> 0 | CH21: =AE453 -> 0 | CI21: =AE560 -> 0 | CJ21: =AE667 -> 0 | CK21: =IFERROR((SUM(CD21:CJ21)/SUM(AZ21:BF21)) * 100, "") -> 100 | CM21: =IFERROR(AZ21*BI21,"") | CN21: =IFERROR(BA21*BJ21,"") -> 35.7 | CO21: =IFERROR(BB21*BK21,"") | CP21: =IFERROR(BC21*BL21,"") | CQ21: =IFERROR(BD21*BM21,"") | CR21: =IFERROR(BE21*BN21,"") | CS21: =IFERROR(BF21*BO21,"") | CU21: =SUM(SUMIF($AZ$8:$BF$8, {"NON";"NEUT"}, AZ21:BF21))/config!$AC$16 -> 0.2 | CV21: =AY21 -> 0.10416667 | CY21: =SUM(C25*$CY$108, C132*$CY$109, C239*$CY$110, C346*$CY$111, C453*$CY$112, C560*$CY$113, C667*$CY$114)/config!$AC$16 -> 0 | CZ21: =SUM(SUM(D25:E25)*$CY$108, SUM(D132:E132)*$CY$109, SUM(D239:E239)*$CY$110, SUM(D346:E346)*$CY$111, SUM(D453:E453)*$CY$112, SUM(D560:E560)*$CY$113, SUM(D667:E667)*$CY$114)/config!$AC$16 -> 0 | DA21: =SUM(SUM(F25:G25)*$CY$108, SUM(F132:G132)*$CY$109, SUM(F239:G239)*$CY$110, SUM(F346:G346)*$CY$111, SUM(F453:G453)*$CY$112, SUM(F560:G560)*$CY$113, SUM(F667:G667)*$CY$114)/config!$AC$16 -> 0.2 | DB21: =SUM(H25*$CY$108, H132*$CY$109, H239*$CY$110, H346*$CY$111, H453*$CY$112, H560*$CY$113, H667*$CY$114)/config!$AC$16 -> 0 | DC21: =SUM(SUM(I25:L25)*$CY$108, SUM(I132:L132)*$CY$109, SUM(I239:L239)*$CY$110, SUM(I346:L346)*$CY$111, SUM(I453:L453)*$CY$112, SUM(I560:L560)*$CY$113, SUM(I667:L667)*$CY$114)/config!$AC$16 -> 0 | DF21: =IFERROR((CD21/AZ21)*100, "") | DG21: =IFERROR((CE21/BA21)*100, "") -> 100 | DH21: =IFERROR((CF21/BB21)*100, "") | DI21: =IFERROR((CG21/BC21)*100, "") | DJ21: =IFERROR((CH21/BD21)*100, "") | DK21: =IFERROR((CI21/BE21)*100, "") | DL21: =IFERROR((CJ21/BF21)*100, "") | DN21: =AG25 -> 0 | DO21: =AG132 -> 1 | DP21: =AG239 -> 0 | DQ21: =AG346 -> 0 | DR21: =AG453 -> 0 | DS21: =AG560 -> 0 | DT21: =AG667 -> 0 | DV21: =CD21-DN21 -> 0 | DW21: =CE21-DO21 -> 0 | DX21: =CF21-DP21 -> 0 | DY21: =CG21-DQ21 -> 0 | DZ21: =CH21-DR21 -> 0 | EA21: =CI21-DS21 -> 0 | EB21: =CJ21-DT21 -> 0
A22: 0145 | B22: 0 | C22: 0 | D22: 0 | E22: 0 | F22: 0 | G22: 0 | H22: 0 | I22: 0 | J22: 0 | K22: 0 | L22: 0 | N22: 0145 | O22: 0 | P22: 0 | Q22: 0 | R22: 0 | S22: 0 | T22: 0 | U22: 0 | V22: 0 | W22: 0 | X22: 0 | Y22: 0 | Z22: 0 | AA22: 0 | AB22: 0 | AE22: 0 | AF22: 0 | AG22: 0 | AH22: 0 | AI22: 0 | AJ22: 0 | AP22: =SUM(F26,F133,F240,F347,F454,F561,F668) -> 0 | AR22: =AR21+TIME(0,15,0) -> 0.11458333 | AS22: =SUM(C26,C133,C240,C347,C454,C561,C668)/config!$AC$13 -> 0 | AT22: =SUM(D26:E26,D133:E133,D240:E240,D347:E347,D454:E454,D561:E561,D668:E668)/config!$AC$13 -> 0 | AU22: =SUM(F26:G26,F133:G133,F240:G240,F347:G347,F454:G454,F561:G561,F668:G668)/config!$AC$13 -> 0 | AV22: =SUM(H26,H133,H240,H347,H454,H561,H668)/config!$AC$13 -> 0 | AW22: =SUM(I26:L26,I133:L133,I240:L240,I347:L347,I454:L454,I561:L561,I668:L668)/config!$AC$13 -> 0 | AY22: =AY21+TIME(0,15,0) -> 0.11458333 | AZ22: =B26 -> 0 | BA22: =B133 -> 0 | BB22: =B240 -> 0 | BC22: =B347 -> 0 | BD22: =B454 -> 0 | BE22: =B561 -> 0 | BF22: =B668 -> 0 | BH22: =AY22 -> 0.11458333 | BI22: =AC26 | BJ22: =AC133 | BK22: =AC240 | BL22: =AC347 | BM22: =AC454 | BN22: =AC561 | BO22: =AC668 | BQ22: =BH22 -> 0.11458333 | BR22: =AD26 | BS22: =AD133 | BT22: =AD240 | BU22: =AD347 | BV22: =AD454 | BW22: =AD561 | BX22: =AD668 | BZ22: =IF(SUM(BI22:BO22)>0,SUM(BI22:BO22) / COUNTIF(BI22:BO22, ">0"),NA()) -> #N/A | CA22: =IFERROR(SUM(BR22:BX22) / COUNTIF(BR22:BX22, ">0"), NA()) -> #N/A | CB22: =CB21 -> 30 | CD22: =AE26 -> 0 | CE22: =AE133 -> 0 | CF22: =AE240 -> 0 | CG22: =AE347 -> 0 | CH22: =AE454 -> 0 | CI22: =AE561 -> 0 | CJ22: =AE668 -> 0 | CK22: =IFERROR((SUM(CD22:CJ22)/SUM(AZ22:BF22)) * 100, "") | CM22: =IFERROR(AZ22*BI22,"") | CN22: =IFERROR(BA22*BJ22,"") | CO22: =IFERROR(BB22*BK22,"") | CP22: =IFERROR(BC22*BL22,"") | CQ22: =IFERROR(BD22*BM22,"") | CR22: =IFERROR(BE22*BN22,"") | CS22: =IFERROR(BF22*BO22,"") | CU22: =SUM(SUMIF($AZ$8:$BF$8, {"NON";"NEUT"}, AZ22:BF22))/config!$AC$16 -> 0 | CV22: =AY22 -> 0.11458333 | CY22: =SUM(C26*$CY$108, C133*$CY$109, C240*$CY$110, C347*$CY$111, C454*$CY$112, C561*$CY$113, C668*$CY$114)/config!$AC$16 -> 0 | CZ22: =SUM(SUM(D26:E26)*$CY$108, SUM(D133:E133)*$CY$109, SUM(D240:E240)*$CY$110, SUM(D347:E347)*$CY$111, SUM(D454:E454)*$CY$112, SUM(D561:E561)*$CY$113, SUM(D668:E668)*$CY$114)/config!$AC$16 -> 0 | DA22: =SUM(SUM(F26:G26)*$CY$108, SUM(F133:G133)*$CY$109, SUM(F240:G240)*$CY$110, SUM(F347:G347)*$CY$111, SUM(F454:G454)*$CY$112, SUM(F561:G561)*$CY$113, SUM(F668:G668)*$CY$114)/config!$AC$16 -> 0 | DB22: =SUM(H26*$CY$108, H133*$CY$109, H240*$CY$110, H347*$CY$111, H454*$CY$112, H561*$CY$113, H668*$CY$114)/config!$AC$16 -> 0 | DC22: =SUM(SUM(I26:L26)*$CY$108, SUM(I133:L133)*$CY$109, SUM(I240:L240)*$CY$110, SUM(I347:L347)*$CY$111, SUM(I454:L454)*$CY$112, SUM(I561:L561)*$CY$113, SUM(I668:L668)*$CY$114)/config!$AC$16 -> 0 | DF22: =IFERROR((CD22/AZ22)*100, "") | DG22: =IFERROR((CE22/BA22)*100, "") | DH22: =IFERROR((CF22/BB22)*100, "") | DI22: =IFERROR((CG22/BC22)*100, "") | DJ22: =IFERROR((CH22/BD22)*100, "") | DK22: =IFERROR((CI22/BE22)*100, "") | DL22: =IFERROR((CJ22/BF22)*100, "") | DN22: =AG26 -> 0 | DO22: =AG133 -> 0 | DP22: =AG240 -> 0 | DQ22: =AG347 -> 0 | DR22: =AG454 -> 0 | DS22: =AG561 -> 0 | DT22: =AG668 -> 0 | DV22: =CD22-DN22 -> 0 | DW22: =CE22-DO22 -> 0 | DX22: =CF22-DP22 -> 0 | DY22: =CG22-DQ22 -> 0 | DZ22: =CH22-DR22 -> 0 | EA22: =CI22-DS22 -> 0 | EB22: =CJ22-DT22 -> 0
A23: 0200 | B23: 0 | C23: 0 | D23: 0 | E23: 0 | F23: 0 | G23: 0 | H23: 0 | I23: 0 | J23: 0 | K23: 0 | L23: 0 | N23: 0200 | O23: 0 | P23: 0 | Q23: 0 | R23: 0 | S23: 0 | T23: 0 | U23: 0 | V23: 0 | W23: 0 | X23: 0 | Y23: 0 | Z23: 0 | AA23: 0 | AB23: 0 | AE23: 0 | AF23: 0 | AG23: 0 | AH23: 0 | AI23: 0 | AJ23: 0 | AP23: =SUM(F27,F134,F241,F348,F455,F562,F669) -> 0 | AR23: =AR22+TIME(0,15,0) -> 0.125 | AS23: =SUM(C27,C134,C241,C348,C455,C562,C669)/config!$AC$13 -> 0 | AT23: =SUM(D27:E27,D134:E134,D241:E241,D348:E348,D455:E455,D562:E562,D669:E669)/config!$AC$13 -> 0 | AU23: =SUM(F27:G27,F134:G134,F241:G241,F348:G348,F455:G455,F562:G562,F669:G669)/config!$AC$13 -> 0 | AV23: =SUM(H27,H134,H241,H348,H455,H562,H669)/config!$AC$13 -> 0 | AW23: =SUM(I27:L27,I134:L134,I241:L241,I348:L348,I455:L455,I562:L562,I669:L669)/config!$AC$13 -> 0 | AY23: =AY22+TIME(0,15,0) -> 0.125 | AZ23: =B27 -> 0 | BA23: =B134 -> 0 | BB23: =B241 -> 0 | BC23: =B348 -> 0 | BD23: =B455 -> 0 | BE23: =B562 -> 0 | BF23: =B669 -> 0 | BH23: =AY23 -> 0.125 | BI23: =AC27 | BJ23: =AC134 | BK23: =AC241 | BL23: =AC348 | BM23: =AC455 | BN23: =AC562 | BO23: =AC669 | BQ23: =BH23 -> 0.125 | BR23: =AD27 | BS23: =AD134 | BT23: =AD241 | BU23: =AD348 | BV23: =AD455 | BW23: =AD562 | BX23: =AD669 | BZ23: =IF(SUM(BI23:BO23)>0,SUM(BI23:BO23) / COUNTIF(BI23:BO23, ">0"),NA()) -> #N/A | CA23: =IFERROR(SUM(BR23:BX23) / COUNTIF(BR23:BX23, ">0"), NA()) -> #N/A | CB23: =CB22 -> 30 | CD23: =AE27 -> 0 | CE23: =AE134 -> 0 | CF23: =AE241 -> 0 | CG23: =AE348 -> 0 | CH23: =AE455 -> 0 | CI23: =AE562 -> 0 | CJ23: =AE669 -> 0 | CK23: =IFERROR((SUM(CD23:CJ23)/SUM(AZ23:BF23)) * 100, "") | CM23: =IFERROR(AZ23*BI23,"") | CN23: =IFERROR(BA23*BJ23,"") | CO23: =IFERROR(BB23*BK23,"") | CP23: =IFERROR(BC23*BL23,"") | CQ23: =IFERROR(BD23*BM23,"") | CR23: =IFERROR(BE23*BN23,"") | CS23: =IFERROR(BF23*BO23,"") | CU23: =SUM(SUMIF($AZ$8:$BF$8, {"NON";"NEUT"}, AZ23:BF23))/config!$AC$16 -> 0 | CV23: =AY23 -> 0.125 | CY23: =SUM(C27*$CY$108, C134*$CY$109, C241*$CY$110, C348*$CY$111, C455*$CY$112, C562*$CY$113, C669*$CY$114)/config!$AC$16 -> 0 | CZ23: =SUM(SUM(D27:E27)*$CY$108, SUM(D134:E134)*$CY$109, SUM(D241:E241)*$CY$110, SUM(D348:E348)*$CY$111, SUM(D455:E455)*$CY$112, SUM(D562:E562)*$CY$113, SUM(D669:E669)*$CY$114)/config!$AC$16 -> 0 | DA23: =SUM(SUM(F27:G27)*$CY$108, SUM(F134:G134)*$CY$109, SUM(F241:G241)*$CY$110, SUM(F348:G348)*$CY$111, SUM(F455:G455)*$CY$112, SUM(F562:G562)*$CY$113, SUM(F669:G669)*$CY$114)/config!$AC$16 -> 0 | DB23: =SUM(H27*$CY$108, H134*$CY$109, H241*$CY$110, H348*$CY$111, H455*$CY$112, H562*$CY$113, H669*$CY$114)/config!$AC$16 -> 0 | DC23: =SUM(SUM(I27:L27)*$CY$108, SUM(I134:L134)*$CY$109, SUM(I241:L241)*$CY$110, SUM(I348:L348)*$CY$111, SUM(I455:L455)*$CY$112, SUM(I562:L562)*$CY$113, SUM(I669:L669)*$CY$114)/config!$AC$16 -> 0 | DF23: =IFERROR((CD23/AZ23)*100, "") | DG23: =IFERROR((CE23/BA23)*100, "") | DH23: =IFERROR((CF23/BB23)*100, "") | DI23: =IFERROR((CG23/BC23)*100, "") | DJ23: =IFERROR((CH23/BD23)*100, "") | DK23: =IFERROR((CI23/BE23)*100, "") | DL23: =IFERROR((CJ23/BF23)*100, "") | DN23: =AG27 -> 0 | DO23: =AG134 -> 0 | DP23: =AG241 -> 0 | DQ23: =AG348 -> 0 | DR23: =AG455 -> 0 | DS23: =AG562 -> 0 | DT23: =AG669 -> 0 | DV23: =CD23-DN23 -> 0 | DW23: =CE23-DO23 -> 0 | DX23: =CF23-DP23 -> 0 | DY23: =CG23-DQ23 -> 0 | DZ23: =CH23-DR23 -> 0 | EA23: =CI23-DS23 -> 0 | EB23: =CJ23-DT23 -> 0
A24: 0215 | B24: 0 | C24: 0 | D24: 0 | E24: 0 | F24: 0 | G24: 0 | H24: 0 | I24: 0 | J24: 0 | K24: 0 | L24: 0 | N24: 0215 | O24: 0 | P24: 0 | Q24: 0 | R24: 0 | S24: 0 | T24: 0 | U24: 0 | V24: 0 | W24: 0 | X24: 0 | Y24: 0 | Z24: 0 | AA24: 0 | AB24: 0 | AE24: 0 | AF24: 0 | AG24: 0 | AH24: 0 | AI24: 0 | AJ24: 0 | AP24: =SUM(F28,F135,F242,F349,F456,F563,F670) -> 0 | AR24: =AR23+TIME(0,15,0) -> 0.13541667 | AS24: =SUM(C28,C135,C242,C349,C456,C563,C670)/config!$AC$13 -> 0 | AT24: =SUM(D28:E28,D135:E135,D242:E242,D349:E349,D456:E456,D563:E563,D670:E670)/config!$AC$13 -> 0 | AU24: =SUM(F28:G28,F135:G135,F242:G242,F349:G349,F456:G456,F563:G563,F670:G670)/config!$AC$13 -> 0 | AV24: =SUM(H28,H135,H242,H349,H456,H563,H670)/config!$AC$13 -> 0 | AW24: =SUM(I28:L28,I135:L135,I242:L242,I349:L349,I456:L456,I563:L563,I670:L670)/config!$AC$13 -> 0 | AY24: =AY23+TIME(0,15,0) -> 0.13541667 | AZ24: =B28 -> 0 | BA24: =B135 -> 0 | BB24: =B242 -> 0 | BC24: =B349 -> 0 | BD24: =B456 -> 0 | BE24: =B563 -> 0 | BF24: =B670 -> 0 | BH24: =AY24 -> 0.13541667 | BI24: =AC28 | BJ24: =AC135 | BK24: =AC242 | BL24: =AC349 | BM24: =AC456 | BN24: =AC563 | BO24: =AC670 | BQ24: =BH24 -> 0.13541667 | BR24: =AD28 | BS24: =AD135 | BT24: =AD242 | BU24: =AD349 | BV24: =AD456 | BW24: =AD563 | BX24: =AD670 | BZ24: =IF(SUM(BI24:BO24)>0,SUM(BI24:BO24) / COUNTIF(BI24:BO24, ">0"),NA()) -> #N/A | CA24: =IFERROR(SUM(BR24:BX24) / COUNTIF(BR24:BX24, ">0"), NA()) -> #N/A | CB24: =CB23 -> 30 | CD24: =AE28 -> 0 | CE24: =AE135 -> 0 | CF24: =AE242 -> 0 | CG24: =AE349 -> 0 | CH24: =AE456 -> 0 | CI24: =AE563 -> 0 | CJ24: =AE670 -> 0 | CK24: =IFERROR((SUM(CD24:CJ24)/SUM(AZ24:BF24)) * 100, "") | CM24: =IFERROR(AZ24*BI24,"") | CN24: =IFERROR(BA24*BJ24,"") | CO24: =IFERROR(BB24*BK24,"") | CP24: =IFERROR(BC24*BL24,"") | CQ24: =IFERROR(BD24*BM24,"") | CR24: =IFERROR(BE24*BN24,"") | CS24: =IFERROR(BF24*BO24,"") | CU24: =SUM(SUMIF($AZ$8:$BF$8, {"NON";"NEUT"}, AZ24:BF24))/config!$AC$16 -> 0 | CV24: =AY24 -> 0.13541667 | CY24: =SUM(C28*$CY$108, C135*$CY$109, C242*$CY$110, C349*$CY$111, C456*$CY$112, C563*$CY$113, C670*$CY$114)/config!$AC$16 -> 0 | CZ24: =SUM(SUM(D28:E28)*$CY$108, SUM(D135:E135)*$CY$109, SUM(D242:E242)*$CY$110, SUM(D349:E349)*$CY$111, SUM(D456:E456)*$CY$112, SUM(D563:E563)*$CY$113, SUM(D670:E670)*$CY$114)/config!$AC$16 -> 0 | DA24: =SUM(SUM(F28:G28)*$CY$108, SUM(F135:G135)*$CY$109, SUM(F242:G242)*$CY$110, SUM(F349:G349)*$CY$111, SUM(F456:G456)*$CY$112, SUM(F563:G563)*$CY$113, SUM(F670:G670)*$CY$114)/config!$AC$16 -> 0 | DB24: =SUM(H28*$CY$108, H135*$CY$109, H242*$CY$110, H349*$CY$111, H456*$CY$112, H563*$CY$113, H670*$CY$114)/config!$AC$16 -> 0 | DC24: =SUM(SUM(I28:L28)*$CY$108, SUM(I135:L135)*$CY$109, SUM(I242:L242)*$CY$110, SUM(I349:L349)*$CY$111, SUM(I456:L456)*$CY$112, SUM(I563:L563)*$CY$113, SUM(I670:L670)*$CY$114)/config!$AC$16 -> 0 | DF24: =IFERROR((CD24/AZ24)*100, "") | DG24: =IFERROR((CE24/BA24)*100, "") | DH24: =IFERROR((CF24/BB24)*100, "") | DI24: =IFERROR((CG24/BC24)*100, "") | DJ24: =IFERROR((CH24/BD24)*100, "") | DK24: =IFERROR((CI24/BE24)*100, "") | DL24: =IFERROR((CJ24/BF24)*100, "") | DN24: =AG28 -> 0 | DO24: =AG135 -> 0 | DP24: =AG242 -> 0 | DQ24: =AG349 -> 0 | DR24: =AG456 -> 0 | DS24: =AG563 -> 0 | DT24: =AG670 -> 0 | DV24: =CD24-DN24 -> 0 | DW24: =CE24-DO24 -> 0 | DX24: =CF24-DP24 -> 0 | DY24: =CG24-DQ24 -> 0 | DZ24: =CH24-DR24 -> 0 | EA24: =CI24-DS24 -> 0 | EB24: =CJ24-DT24 -> 0
A25: 0230 | B25: 0 | C25: 0 | D25: 0 | E25: 0 | F25: 0 | G25: 0 | H25: 0 | I25: 0 | J25: 0 | K25: 0 | L25: 0 | N25: 0230 | O25: 0 | P25: 0 | Q25: 0 | R25: 0 | S25: 0 | T25: 0 | U25: 0 | V25: 0 | W25: 0 | X25: 0 | Y25: 0 | Z25: 0 | AA25: 0 | AB25: 0 | AE25: 0 | AF25: 0 | AG25: 0 | AH25: 0 | AI25: 0 | AJ25: 0 | AP25: =SUM(F29,F136,F243,F350,F457,F564,F671) -> 0 | AR25: =AR24+TIME(0,15,0) -> 0.14583333 | AS25: =SUM(C29,C136,C243,C350,C457,C564,C671)/config!$AC$13 -> 0 | AT25: =SUM(D29:E29,D136:E136,D243:E243,D350:E350,D457:E457,D564:E564,D671:E671)/config!$AC$13 -> 0.71428571 | AU25: =SUM(F29:G29,F136:G136,F243:G243,F350:G350,F457:G457,F564:G564,F671:G671)/config!$AC$13 -> 0 | AV25: =SUM(H29,H136,H243,H350,H457,H564,H671)/config!$AC$13 -> 0 | AW25: =SUM(I29:L29,I136:L136,I243:L243,I350:L350,I457:L457,I564:L564,I671:L671)/config!$AC$13 -> 0 | AY25: =AY24+TIME(0,15,0) -> 0.14583333 | AZ25: =B29 -> 1 | BA25: =B136 -> 1 | BB25: =B243 -> 1 | BC25: =B350 -> 1 | BD25: =B457 -> 0 | BE25: =B564 -> 0 | BF25: =B671 -> 1 | BH25: =AY25 -> 0.14583333 | BI25: =AC29 -> 33.9 | BJ25: =AC136 -> 34.9 | BK25: =AC243 -> 35.2 | BL25: =AC350 -> 33.6 | BM25: =AC457 | BN25: =AC564 | BO25: =AC671 -> 34.1 | BQ25: =BH25 -> 0.14583333 | BR25: =AD29 | BS25: =AD136 | BT25: =AD243 | BU25: =AD350 | BV25: =AD457 | BW25: =AD564 | BX25: =AD671 | BZ25: =IF(SUM(BI25:BO25)>0,SUM(BI25:BO25) / COUNTIF(BI25:BO25, ">0"),NA()) -> 34.34 | CA25: =IFERROR(SUM(BR25:BX25) / COUNTIF(BR25:BX25, ">0"), NA()) -> #N/A | CB25: =CB24 -> 30 | CD25: =AE29 -> 1 | CE25: =AE136 -> 1 | CF25: =AE243 -> 1 | CG25: =AE350 -> 1 | CH25: =AE457 -> 0 | CI25: =AE564 -> 0 | CJ25: =AE671 -> 1 | CK25: =IFERROR((SUM(CD25:CJ25)/SUM(AZ25:BF25)) * 100, "") -> 100 | CM25: =IFERROR(AZ25*BI25,"") -> 33.9 | CN25: =IFERROR(BA25*BJ25,"") -> 34.9 | CO25: =IFERROR(BB25*BK25,"") -> 35.2 | CP25: =IFERROR(BC25*BL25,"") -> 33.6 | CQ25: =IFERROR(BD25*BM25,"") | CR25: =IFERROR(BE25*BN25,"") | CS25: =IFERROR(BF25*BO25,"") -> 34.1 | CU25: =SUM(SUMIF($AZ$8:$BF$8, {"NON";"NEUT"}, AZ25:BF25))/config!$AC$16 -> 1 | CV25: =AY25 -> 0.14583333 | CY25: =SUM(C29*$CY$108, C136*$CY$109, C243*$CY$110, C350*$CY$111, C457*$CY$112, C564*$CY$113, C671*$CY$114)/config!$AC$16 -> 0 | CZ25: =SUM(SUM(D29:E29)*$CY$108, SUM(D136:E136)*$CY$109, SUM(D243:E243)*$CY$110, SUM(D350:E350)*$CY$111, SUM(D457:E457)*$CY$112, SUM(D564:E564)*$CY$113, SUM(D671:E671)*$CY$114)/config!$AC$16 -> 1 | DA25: =SUM(SUM(F29:G29)*$CY$108, SUM(F136:G136)*$CY$109, SUM(F243:G243)*$CY$110, SUM(F350:G350)*$CY$111, SUM(F457:G457)*$CY$112, SUM(F564:G564)*$CY$113, SUM(F671:G671)*$CY$114)/config!$AC$16 -> 0 | DB25: =SUM(H29*$CY$108, H136*$CY$109, H243*$CY$110, H350*$CY$111, H457*$CY$112, H564*$CY$113, H671*$CY$114)/config!$AC$16 -> 0 | DC25: =SUM(SUM(I29:L29)*$CY$108, SUM(I136:L136)*$CY$109, SUM(I243:L243)*$CY$110, SUM(I350:L350)*$CY$111, SUM(I457:L457)*$CY$112, SUM(I564:L564)*$CY$113, SUM(I671:L671)*$CY$114)/config!$AC$16 -> 0 | DF25: =IFERROR((CD25/AZ25)*100, "") -> 100 | DG25: =IFERROR((CE25/BA25)*100, "") -> 100 | DH25: =IFERROR((CF25/BB25)*100, "") -> 100 | DI25: =IFERROR((CG25/BC25)*100, "") -> 100 | DJ25: =IFERROR((CH25/BD25)*100, "") | DK25: =IFERROR((CI25/BE25)*100, "") | DL25: =IFERROR((CJ25/BF25)*100, "") -> 100 | DN25: =AG29 -> 0 | DO25: =AG136 -> 0 | DP25: =AG243 -> 1 | DQ25: =AG350 -> 0 | DR25: =AG457 -> 0 | DS25: =AG564 -> 0 | DT25: =AG671 -> 0 | DV25: =CD25-DN25 -> 1 | DW25: =CE25-DO25 -> 1 | DX25: =CF25-DP25 -> 0 | DY25: =CG25-DQ25 -> 1 | DZ25: =CH25-DR25 -> 0 | EA25: =CI25-DS25 -> 0 | EB25: =CJ25-DT25 -> 1
A26: 0245 | B26: 0 | C26: 0 | D26: 0 | E26: 0 | F26: 0 | G26: 0 | H26: 0 | I26: 0 | J26: 0 | K26: 0 | L26: 0 | N26: 0245 | O26: 0 | P26: 0 | Q26: 0 | R26: 0 | S26: 0 | T26: 0 | U26: 0 | V26: 0 | W26: 0 | X26: 0 | Y26: 0 | Z26: 0 | AA26: 0 | AB26: 0 | AE26: 0 | AF26: 0 | AG26: 0 | AH26: 0 | AI26: 0 | AJ26: 0 | AP26: =SUM(F30,F137,F244,F351,F458,F565,F672) -> 0 | AR26: =AR25+TIME(0,15,0) -> 0.15625 | AS26: =SUM(C30,C137,C244,C351,C458,C565,C672)/config!$AC$13 -> 0 | AT26: =SUM(D30:E30,D137:E137,D244:E244,D351:E351,D458:E458,D565:E565,D672:E672)/config!$AC$13 -> 0.14285714 | AU26: =SUM(F30:G30,F137:G137,F244:G244,F351:G351,F458:G458,F565:G565,F672:G672)/config!$AC$13 -> 0 | AV26: =SUM(H30,H137,H244,H351,H458,H565,H672)/config!$AC$13 -> 0 | AW26: =SUM(I30:L30,I137:L137,I244:L244,I351:L351,I458:L458,I565:L565,I672:L672)/config!$AC$13 -> 0 | AY26: =AY25+TIME(0,15,0) -> 0.15625 | AZ26: =B30 -> 0 | BA26: =B137 -> 0 | BB26: =B244 -> 0 | BC26: =B351 -> 0 | BD26: =B458 -> 0 | BE26: =B565 -> 0 | BF26: =B672 -> 1 | BH26: =AY26 -> 0.15625 | BI26: =AC30 | BJ26: =AC137 | BK26: =AC244 | BL26: =AC351 | BM26: =AC458 | BN26: =AC565 | BO26: =AC672 -> 27.7 | BQ26: =BH26 -> 0.15625 | BR26: =AD30 | BS26: =AD137 | BT26: =AD244 | BU26: =AD351 | BV26: =AD458 | BW26: =AD565 | BX26: =AD672 | BZ26: =IF(SUM(BI26:BO26)>0,SUM(BI26:BO26) / COUNTIF(BI26:BO26, ">0"),NA()) -> 27.7 | CA26: =IFERROR(SUM(BR26:BX26) / COUNTIF(BR26:BX26, ">0"), NA()) -> #N/A | CB26: =CB25 -> 30 | CD26: =AE30 -> 0 | CE26: =AE137 -> 0 | CF26: =AE244 -> 0 | CG26: =AE351 -> 0 | CH26: =AE458 -> 0 | CI26: =AE565 -> 0 | CJ26: =AE672 -> 0 | CK26: =IFERROR((SUM(CD26:CJ26)/SUM(AZ26:BF26)) * 100, "") -> 0 | CM26: =IFERROR(AZ26*BI26,"") | CN26: =IFERROR(BA26*BJ26,"") | CO26: =IFERROR(BB26*BK26,"") | CP26: =IFERROR(BC26*BL26,"") | CQ26: =IFERROR(BD26*BM26,"") | CR26: =IFERROR(BE26*BN26,"") | CS26: =IFERROR(BF26*BO26,"") -> 27.7 | CU26: =SUM(SUMIF($AZ$8:$BF$8, {"NON";"NEUT"}, AZ26:BF26))/config!$AC$16 -> 0.2 | CV26: =AY26 -> 0.15625 | CY26: =SUM(C30*$CY$108, C137*$CY$109, C244*$CY$110, C351*$CY$111, C458*$CY$112, C565*$CY$113, C672*$CY$114)/config!$AC$16 -> 0 | CZ26: =SUM(SUM(D30:E30)*$CY$108, SUM(D137:E137)*$CY$109, SUM(D244:E244)*$CY$110, SUM(D351:E351)*$CY$111, SUM(D458:E458)*$CY$112, SUM(D565:E565)*$CY$113, SUM(D672:E672)*$CY$114)/config!$AC$16 -> 0.2 | DA26: =SUM(SUM(F30:G30)*$CY$108, SUM(F137:G137)*$CY$109, SUM(F244:G244)*$CY$110, SUM(F351:G351)*$CY$111, SUM(F458:G458)*$CY$112, SUM(F565:G565)*$CY$113, SUM(F672:G672)*$CY$114)/config!$AC$16 -> 0 | DB26: =SUM(H30*$CY$108, H137*$CY$109, H244*$CY$110, H351*$CY$111, H458*$CY$112, H565*$CY$113, H672*$CY$114)/config!$AC$16 -> 0 | DC26: =SUM(SUM(I30:L30)*$CY$108, SUM(I137:L137)*$CY$109, SUM(I244:L244)*$CY$110, SUM(I351:L351)*$CY$111, SUM(I458:L458)*$CY$112, SUM(I565:L565)*$CY$113, SUM(I672:L672)*$CY$114)/config!$AC$16 -> 0 | DF26: =IFERROR((CD26/AZ26)*100, "") | DG26: =IFERROR((CE26/BA26)*100, "") | DH26: =IFERROR((CF26/BB26)*100, "") | DI26: =IFERROR((CG26/BC26)*100, "") | DJ26: =IFERROR((CH26/BD26)*100, "") | DK26: =IFERROR((CI26/BE26)*100, "") | DL26: =IFERROR((CJ26/BF26)*100, "") -> 0 | DN26: =AG30 -> 0 | DO26: =AG137 -> 0 | DP26: =AG244 -> 0 | DQ26: =AG351 -> 0 | DR26: =AG458 -> 0 | DS26: =AG565 -> 0 | DT26: =AG672 -> 0 | DV26: =CD26-DN26 -> 0 | DW26: =CE26-DO26 -> 0 | DX26: =CF26-DP26 -> 0 | DY26: =CG26-DQ26 -> 0 | DZ26: =CH26-DR26 -> 0 | EA26: =CI26-DS26 -> 0 | EB26: =CJ26-DT26 -> 0
A27: 0300 | B27: 0 | C27: 0 | D27: 0 | E27: 0 | F27: 0 | G27: 0 | H27: 0 | I27: 0 | J27: 0 | K27: 0 | L27: 0 | N27: 0300 | O27: 0 | P27: 0 | Q27: 0 | R27: 0 | S27: 0 | T27: 0 | U27: 0 | V27: 0 | W27: 0 | X27: 0 | Y27: 0 | Z27: 0 | AA27: 0 | AB27: 0 | AE27: 0 | AF27: 0 | AG27: 0 | AH27: 0 | AI27: 0 | AJ27: 0 | AP27: =SUM(F31,F138,F245,F352,F459,F566,F673) -> 0 | AR27: =AR26+TIME(0,15,0) -> 0.16666667 | AS27: =SUM(C31,C138,C245,C352,C459,C566,C673)/config!$AC$13 -> 0 | AT27: =SUM(D31:E31,D138:E138,D245:E245,D352:E352,D459:E459,D566:E566,D673:E673)/config!$AC$13 -> 0.14285714 | AU27: =SUM(F31:G31,F138:G138,F245:G245,F352:G352,F459:G459,F566:G566,F673:G673)/config!$AC$13 -> 0 | AV27: =SUM(H31,H138,H245,H352,H459,H566,H673)/config!$AC$13 -> 0 | AW27: =SUM(I31:L31,I138:L138,I245:L245,I352:L352,I459:L459,I566:L566,I673:L673)/config!$AC$13 -> 0 | AY27: =AY26+TIME(0,15,0) -> 0.16666667 | AZ27: =B31 -> 0 | BA27: =B138 -> 1 | BB27: =B245 -> 0 | BC27: =B352 -> 0 | BD27: =B459 -> 0 | BE27: =B566 -> 0 | BF27: =B673 -> 0 | BH27: =AY27 -> 0.16666667 | BI27: =AC31 | BJ27: =AC138 -> 28.4 | BK27: =AC245 | BL27: =AC352 | BM27: =AC459 | BN27: =AC566 | BO27: =AC673 | BQ27: =BH27 -> 0.16666667 | BR27: =AD31 | BS27: =AD138 | BT27: =AD245 | BU27: =AD352 | BV27: =AD459 | BW27: =AD566 | BX27: =AD673 | BZ27: =IF(SUM(BI27:BO27)>0,SUM(BI27:BO27) / COUNTIF(BI27:BO27, ">0"),NA()) -> 28.4 | CA27: =IFERROR(SUM(BR27:BX27) / COUNTIF(BR27:BX27, ">0"), NA()) -> #N/A | CB27: =CB26 -> 30 | CD27: =AE31 -> 0 | CE27: =AE138 -> 0 | CF27: =AE245 -> 0 | CG27: =AE352 -> 0 | CH27: =AE459 -> 0 | CI27: =AE566 -> 0 | CJ27: =AE673 -> 0 | CK27: =IFERROR((SUM(CD27:CJ27)/SUM(AZ27:BF27)) * 100, "") -> 0 | CM27: =IFERROR(AZ27*BI27,"") | CN27: =IFERROR(BA27*BJ27,"") -> 28.4 | CO27: =IFERROR(BB27*BK27,"") | CP27: =IFERROR(BC27*BL27,"") | CQ27: =IFERROR(BD27*BM27,"") | CR27: =IFERROR(BE27*BN27,"") | CS27: =IFERROR(BF27*BO27,"") | CU27: =SUM(SUMIF($AZ$8:$BF$8, {"NON";"NEUT"}, AZ27:BF27))/config!$AC$16 -> 0.2 | CV27: =AY27 -> 0.16666667 | CY27: =SUM(C31*$CY$108, C138*$CY$109, C245*$CY$110, C352*$CY$111, C459*$CY$112, C566*$CY$113, C673*$CY$114)/config!$AC$16 -> 0 | CZ27: =SUM(SUM(D31:E31)*$CY$108, SUM(D138:E138)*$CY$109, SUM(D245:E245)*$CY$110, SUM(D352:E352)*$CY$111, SUM(D459:E459)*$CY$112, SUM(D566:E566)*$CY$113, SUM(D673:E673)*$CY$114)/config!$AC$16 -> 0.2 | DA27: =SUM(SUM(F31:G31)*$CY$108, SUM(F138:G138)*$CY$109, SUM(F245:G245)*$CY$110, SUM(F352:G352)*$CY$111, SUM(F459:G459)*$CY$112, SUM(F566:G566)*$CY$113, SUM(F673:G673)*$CY$114)/config!$AC$16 -> 0 | DB27: =SUM(H31*$CY$108, H138*$CY$109, H245*$CY$110, H352*$CY$111, H459*$CY$112, H566*$CY$113, H673*$CY$114)/config!$AC$16 -> 0 | DC27: =SUM(SUM(I31:L31)*$CY$108, SUM(I138:L138)*$CY$109, SUM(I245:L245)*$CY$110, SUM(I352:L352)*$CY$111, SUM(I459:L459)*$CY$112, SUM(I566:L566)*$CY$113, SUM(I673:L673)*$CY$114)/config!$AC$16 -> 0 | DF27: =IFERROR((CD27/AZ27)*100, "") | DG27: =IFERROR((CE27/BA27)*100, "") -> 0 | DH27: =IFERROR((CF27/BB27)*100, "") | DI27: =IFERROR((CG27/BC27)*100, "") | DJ27: =IFERROR((CH27/BD27)*100, "") | DK27: =IFERROR((CI27/BE27)*100, "") | DL27: =IFERROR((CJ27/BF27)*100, "") | DN27: =AG31 -> 0 | DO27: =AG138 -> 0 | DP27: =AG245 -> 0 | DQ27: =AG352 -> 0 | DR27: =AG459 -> 0 | DS27: =AG566 -> 0 | DT27: =AG673 -> 0 | DV27: =CD27-DN27 -> 0 | DW27: =CE27-DO27 -> 0 | DX27: =CF27-DP27 -> 0 | DY27: =CG27-DQ27 -> 0 | DZ27: =CH27-DR27 -> 0 | EA27: =CI27-DS27 -> 0 | EB27: =CJ27-DT27 -> 0
A28: 0315 | B28: 0 | C28: 0 | D28: 0 | E28: 0 | F28: 0 | G28: 0 | H28: 0 | I28: 0 | J28: 0 | K28: 0 | L28: 0 | N28: 0315 | O28: 0 | P28: 0 | Q28: 0 | R28: 0 | S28: 0 | T28: 0 | U28: 0 | V28: 0 | W28: 0 | X28: 0 | Y28: 0 | Z28: 0 | AA28: 0 | AB28: 0 | AE28: 0 | AF28: 0 | AG28: 0 | AH28: 0 | AI28: 0 | AJ28: 0 | AP28: =SUM(F32,F139,F246,F353,F460,F567,F674) -> 0 | AR28: =AR27+TIME(0,15,0) -> 0.17708333 | AS28: =SUM(C32,C139,C246,C353,C460,C567,C674)/config!$AC$13 -> 0 | AT28: =SUM(D32:E32,D139:E139,D246:E246,D353:E353,D460:E460,D567:E567,D674:E674)/config!$AC$13 -> 0 | AU28: =SUM(F32:G32,F139:G139,F246:G246,F353:G353,F460:G460,F567:G567,F674:G674)/config!$AC$13 -> 0.14285714 | AV28: =SUM(H32,H139,H246,H353,H460,H567,H674)/config!$AC$13 -> 0 | AW28: =SUM(I32:L32,I139:L139,I246:L246,I353:L353,I460:L460,I567:L567,I674:L674)/config!$AC$13 -> 0 | AY28: =AY27+TIME(0,15,0) -> 0.17708333 | AZ28: =B32 -> 0 | BA28: =B139 -> 0 | BB28: =B246 -> 1 | BC28: =B353 -> 0 | BD28: =B460 -> 0 | BE28: =B567 -> 0 | BF28: =B674 -> 0 | BH28: =AY28 -> 0.17708333 | BI28: =AC32 | BJ28: =AC139 | BK28: =AC246 -> 36.7 | BL28: =AC353 | BM28: =AC460 | BN28: =AC567 | BO28: =AC674 | BQ28: =BH28 -> 0.17708333 | BR28: =AD32 | BS28: =AD139 | BT28: =AD246 | BU28: =AD353 | BV28: =AD460 | BW28: =AD567 | BX28: =AD674 | BZ28: =IF(SUM(BI28:BO28)>0,SUM(BI28:BO28) / COUNTIF(BI28:BO28, ">0"),NA()) -> 36.7 | CA28: =IFERROR(SUM(BR28:BX28) / COUNTIF(BR28:BX28, ">0"), NA()) -> #N/A | CB28: =CB27 -> 30 | CD28: =AE32 -> 0 | CE28: =AE139 -> 0 | CF28: =AE246 -> 1 | CG28: =AE353 -> 0 | CH28: =AE460 -> 0 | CI28: =AE567 -> 0 | CJ28: =AE674 -> 0 | CK28: =IFERROR((SUM(CD28:CJ28)/SUM(AZ28:BF28)) * 100, "") -> 100 | CM28: =IFERROR(AZ28*BI28,"") | CN28: =IFERROR(BA28*BJ28,"") | CO28: =IFERROR(BB28*BK28,"") -> 36.7 | CP28: =IFERROR(BC28*BL28,"") | CQ28: =IFERROR(BD28*BM28,"") | CR28: =IFERROR(BE28*BN28,"") | CS28: =IFERROR(BF28*BO28,"") | CU28: =SUM(SUMIF($AZ$8:$BF$8, {"NON";"NEUT"}, AZ28:BF28))/config!$AC$16 -> 0.2 | CV28: =AY28 -> 0.17708333 | CY28: =SUM(C32*$CY$108, C139*$CY$109, C246*$CY$110, C353*$CY$111, C460*$CY$112, C567*$CY$113, C674*$CY$114)/config!$AC$16 -> 0 | CZ28: =SUM(SUM(D32:E32)*$CY$108, SUM(D139:E139)*$CY$109, SUM(D246:E246)*$CY$110, SUM(D353:E353)*$CY$111, SUM(D460:E460)*$CY$112, SUM(D567:E567)*$CY$113, SUM(D674:E674)*$CY$114)/config!$AC$16 -> 0 | DA28: =SUM(SUM(F32:G32)*$CY$108, SUM(F139:G139)*$CY$109, SUM(F246:G246)*$CY$110, SUM(F353:G353)*$CY$111, SUM(F460:G460)*$CY$112, SUM(F567:G567)*$CY$113, SUM(F674:G674)*$CY$114)/config!$AC$16 -> 0.2 | DB28: =SUM(H32*$CY$108, H139*$CY$109, H246*$CY$110, H353*$CY$111, H460*$CY$112, H567*$CY$113, H674*$CY$114)/config!$AC$16 -> 0 | DC28: =SUM(SUM(I32:L32)*$CY$108, SUM(I139:L139)*$CY$109, SUM(I246:L246)*$CY$110, SUM(I353:L353)*$CY$111, SUM(I460:L460)*$CY$112, SUM(I567:L567)*$CY$113, SUM(I674:L674)*$CY$114)/config!$AC$16 -> 0 | DF28: =IFERROR((CD28/AZ28)*100, "") | DG28: =IFERROR((CE28/BA28)*100, "") | DH28: =IFERROR((CF28/BB28)*100, "") -> 100 | DI28: =IFERROR((CG28/BC28)*100, "") | DJ28: =IFERROR((CH28/BD28)*100, "") | DK28: =IFERROR((CI28/BE28)*100, "") | DL28: =IFERROR((CJ28/BF28)*100, "") | DN28: =AG32 -> 0 | DO28: =AG139 -> 0 | DP28: =AG246 -> 1 | DQ28: =AG353 -> 0 | DR28: =AG460 -> 0 | DS28: =AG567 -> 0 | DT28: =AG674 -> 0 | DV28: =CD28-DN28 -> 0 | DW28: =CE28-DO28 -> 0 | DX28: =CF28-DP28 -> 0 | DY28: =CG28-DQ28 -> 0 | DZ28: =CH28-DR28 -> 0 | EA28: =CI28-DS28 -> 0 | EB28: =CJ28-DT28 -> 0
A29: 0330 | B29: 1 | C29: 0 | D29: 1 | E29: 0 | F29: 0 | G29: 0 | H29: 0 | I29: 0 | J29: 0 | K29: 0 | L29: 0 | N29: 0330 | O29: 0 | P29: 0 | Q29: 0 | R29: 0 | S29: 0 | T29: 1 | U29: 0 | V29: 0 | W29: 0 | X29: 0 | Y29: 0 | Z29: 0 | AA29: 0 | AB29: 0 | AC29: 33.9 | AE29: 1 | AF29: 100 | AG29: 0 | AH29: 0 | AI29: 0 | AJ29: 0 | AP29: =SUM(F33,F140,F247,F354,F461,F568,F675) -> 0 | AR29: =AR28+TIME(0,15,0) -> 0.1875 | AS29: =SUM(C33,C140,C247,C354,C461,C568,C675)/config!$AC$13 -> 0 | AT29: =SUM(D33:E33,D140:E140,D247:E247,D354:E354,D461:E461,D568:E568,D675:E675)/config!$AC$13 -> 0 | AU29: =SUM(F33:G33,F140:G140,F247:G247,F354:G354,F461:G461,F568:G568,F675:G675)/config!$AC$13 -> 0 | AV29: =SUM(H33,H140,H247,H354,H461,H568,H675)/config!$AC$13 -> 0 | AW29: =SUM(I33:L33,I140:L140,I247:L247,I354:L354,I461:L461,I568:L568,I675:L675)/config!$AC$13 -> 0 | AY29: =AY28+TIME(0,15,0) -> 0.1875 | AZ29: =B33 -> 0 | BA29: =B140 -> 0 | BB29: =B247 -> 0 | BC29: =B354 -> 0 | BD29: =B461 -> 0 | BE29: =B568 -> 0 | BF29: =B675 -> 0 | BH29: =AY29 -> 0.1875 | BI29: =AC33 | BJ29: =AC140 | BK29: =AC247 | BL29: =AC354 | BM29: =AC461 | BN29: =AC568 | BO29: =AC675 | BQ29: =BH29 -> 0.1875 | BR29: =AD33 | BS29: =AD140 | BT29: =AD247 | BU29: =AD354 | BV29: =AD461 | BW29: =AD568 | BX29: =AD675 | BZ29: =IF(SUM(BI29:BO29)>0,SUM(BI29:BO29) / COUNTIF(BI29:BO29, ">0"),NA()) -> #N/A | CA29: =IFERROR(SUM(BR29:BX29) / COUNTIF(BR29:BX29, ">0"), NA()) -> #N/A | CB29: =CB28 -> 30 | CD29: =AE33 -> 0 | CE29: =AE140 -> 0 | CF29: =AE247 -> 0 | CG29: =AE354 -> 0 | CH29: =AE461 -> 0 | CI29: =AE568 -> 0 | CJ29: =AE675 -> 0 | CK29: =IFERROR((SUM(CD29:CJ29)/SUM(AZ29:BF29)) * 100, "") | CM29: =IFERROR(AZ29*BI29,"") | CN29: =IFERROR(BA29*BJ29,"") | CO29: =IFERROR(BB29*BK29,"") | CP29: =IFERROR(BC29*BL29,"") | CQ29: =IFERROR(BD29*BM29,"") | CR29: =IFERROR(BE29*BN29,"") | CS29: =IFERROR(BF29*BO29,"") | CU29: =SUM(SUMIF($AZ$8:$BF$8, {"NON";"NEUT"}, AZ29:BF29))/config!$AC$16 -> 0 | CV29: =AY29 -> 0.1875 | CY29: =SUM(C33*$CY$108, C140*$CY$109, C247*$CY$110, C354*$CY$111, C461*$CY$112, C568*$CY$113, C675*$CY$114)/config!$AC$16 -> 0 | CZ29: =SUM(SUM(D33:E33)*$CY$108, SUM(D140:E140)*$CY$109, SUM(D247:E247)*$CY$110, SUM(D354:E354)*$CY$111, SUM(D461:E461)*$CY$112, SUM(D568:E568)*$CY$113, SUM(D675:E675)*$CY$114)/config!$AC$16 -> 0 | DA29: =SUM(SUM(F33:G33)*$CY$108, SUM(F140:G140)*$CY$109, SUM(F247:G247)*$CY$110, SUM(F354:G354)*$CY$111, SUM(F461:G461)*$CY$112, SUM(F568:G568)*$CY$113, SUM(F675:G675)*$CY$114)/config!$AC$16 -> 0 | DB29: =SUM(H33*$CY$108, H140*$CY$109, H247*$CY$110, H354*$CY$111, H461*$CY$112, H568*$CY$113, H675*$CY$114)/config!$AC$16 -> 0 | DC29: =SUM(SUM(I33:L33)*$CY$108, SUM(I140:L140)*$CY$109, SUM(I247:L247)*$CY$110, SUM(I354:L354)*$CY$111, SUM(I461:L461)*$CY$112, SUM(I568:L568)*$CY$113, SUM(I675:L675)*$CY$114)/config!$AC$16 -> 0 | DF29: =IFERROR((CD29/AZ29)*100, "") | DG29: =IFERROR((CE29/BA29)*100, "") | DH29: =IFERROR((CF29/BB29)*100, "") | DI29: =IFERROR((CG29/BC29)*100, "") | DJ29: =IFERROR((CH29/BD29)*100, "") | DK29: =IFERROR((CI29/BE29)*100, "") | DL29: =IFERROR((CJ29/BF29)*100, "") | DN29: =AG33 -> 0 | DO29: =AG140 -> 0 | DP29: =AG247 -> 0 | DQ29: =AG354 -> 0 | DR29: =AG461 -> 0 | DS29: =AG568 -> 0 | DT29: =AG675 -> 0 | DV29: =CD29-DN29 -> 0 | DW29: =CE29-DO29 -> 0 | DX29: =CF29-DP29 -> 0 | DY29: =CG29-DQ29 -> 0 | DZ29: =CH29-DR29 -> 0 | EA29: =CI29-DS29 -> 0 | EB29: =CJ29-DT29 -> 0
A30: 0345 | B30: 0 | C30: 0 | D30: 0 | E30: 0 | F30: 0 | G30: 0 | H30: 0 | I30: 0 | J30: 0 | K30: 0 | L30: 0 | N30: 0345 | O30: 0 | P30: 0 | Q30: 0 | R30: 0 | S30: 0 | T30: 0 | U30: 0 | V30: 0 | W30: 0 | X30: 0 | Y30: 0 | Z30: 0 | AA30: 0 | AB30: 0 | AE30: 0 | AF30: 0 | AG30: 0 | AH30: 0 | AI30: 0 | AJ30: 0 | AP30: =SUM(F34,F141,F248,F355,F462,F569,F676) -> 0 | AR30: =AR29+TIME(0,15,0) -> 0.19791667 | AS30: =SUM(C34,C141,C248,C355,C462,C569,C676)/config!$AC$13 -> 0 | AT30: =SUM(D34:E34,D141:E141,D248:E248,D355:E355,D462:E462,D569:E569,D676:E676)/config!$AC$13 -> 0.57142857 | AU30: =SUM(F34:G34,F141:G141,F248:G248,F355:G355,F462:G462,F569:G569,F676:G676)/config!$AC$13 -> 0 | AV30: =SUM(H34,H141,H248,H355,H462,H569,H676)/config!$AC$13 -> 0 | AW30: =SUM(I34:L34,I141:L141,I248:L248,I355:L355,I462:L462,I569:L569,I676:L676)/config!$AC$13 -> 0 | AY30: =AY29+TIME(0,15,0) -> 0.19791667 | AZ30: =B34 -> 1 | BA30: =B141 -> 1 | BB30: =B248 -> 1 | BC30: =B355 -> 1 | BD30: =B462 -> 0 | BE30: =B569 -> 0 | BF30: =B676 -> 0 | BH30: =AY30 -> 0.19791667 | BI30: =AC34 -> 22.1 | BJ30: =AC141 -> 17.2 | BK30: =AC248 -> 27.1 | BL30: =AC355 -> 16 | BM30: =AC462 | BN30: =AC569 | BO30: =AC676 | BQ30: =BH30 -> 0.19791667 | BR30: =AD34 | BS30: =AD141 | BT30: =AD248 | BU30: =AD355 | BV30: =AD462 | BW30: =AD569 | BX30: =AD676 | BZ30: =IF(SUM(BI30:BO30)>0,SUM(BI30:BO30) / COUNTIF(BI30:BO30, ">0"),NA()) -> 20.6 | CA30: =IFERROR(SUM(BR30:BX30) / COUNTIF(BR30:BX30, ">0"), NA()) -> #N/A | CB30: =CB29 -> 30 | CD30: =AE34 -> 0 | CE30: =AE141 -> 0 | CF30: =AE248 -> 0 | CG30: =AE355 -> 0 | CH30: =AE462 -> 0 | CI30: =AE569 -> 0 | CJ30: =AE676 -> 0 | CK30: =IFERROR((SUM(CD30:CJ30)/SUM(AZ30:BF30)) * 100, "") -> 0 | CM30: =IFERROR(AZ30*BI30,"") -> 22.1 | CN30: =IFERROR(BA30*BJ30,"") -> 17.2 | CO30: =IFERROR(BB30*BK30,"") -> 27.1 | CP30: =IFERROR(BC30*BL30,"") -> 16 | CQ30: =IFERROR(BD30*BM30,"") | CR30: =IFERROR(BE30*BN30,"") | CS30: =IFERROR(BF30*BO30,"") | CU30: =SUM(SUMIF($AZ$8:$BF$8, {"NON";"NEUT"}, AZ30:BF30))/config!$AC$16 -> 0.8 | CV30: =AY30 -> 0.19791667 | CY30: =SUM(C34*$CY$108, C141*$CY$109, C248*$CY$110, C355*$CY$111, C462*$CY$112, C569*$CY$113, C676*$CY$114)/config!$AC$16 -> 0 | CZ30: =SUM(SUM(D34:E34)*$CY$108, SUM(D141:E141)*$CY$109, SUM(D248:E248)*$CY$110, SUM(D355:E355)*$CY$111, SUM(D462:E462)*$CY$112, SUM(D569:E569)*$CY$113, SUM(D676:E676)*$CY$114)/config!$AC$16 -> 0.8 | DA30: =SUM(SUM(F34:G34)*$CY$108, SUM(F141:G141)*$CY$109, SUM(F248:G248)*$CY$110, SUM(F355:G355)*$CY$111, SUM(F462:G462)*$CY$112, SUM(F569:G569)*$CY$113, SUM(F676:G676)*$CY$114)/config!$AC$16 -> 0 | DB30: =SUM(H34*$CY$108, H141*$CY$109, H248*$CY$110, H355*$CY$111, H462*$CY$112, H569*$CY$113, H676*$CY$114)/config!$AC$16 -> 0 | DC30: =SUM(SUM(I34:L34)*$CY$108, SUM(I141:L141)*$CY$109, SUM(I248:L248)*$CY$110, SUM(I355:L355)*$CY$111, SUM(I462:L462)*$CY$112, SUM(I569:L569)*$CY$113, SUM(I676:L676)*$CY$114)/config!$AC$16 -> 0 | DF30: =IFERROR((CD30/AZ30)*100, "") -> 0 | DG30: =IFERROR((CE30/BA30)*100, "") -> 0 | DH30: =IFERROR((CF30/BB30)*100, "") -> 0 | DI30: =IFERROR((CG30/BC30)*100, "") -> 0 | DJ30: =IFERROR((CH30/BD30)*100, "") | DK30: =IFERROR((CI30/BE30)*100, "") | DL30: =IFERROR((CJ30/BF30)*100, "") | DN30: =AG34 -> 0 | DO30: =AG141 -> 0 | DP30: =AG248 -> 0 | DQ30: =AG355 -> 0 | DR30: =AG462 -> 0 | DS30: =AG569 -> 0 | DT30: =AG676 -> 0 | DV30: =CD30-DN30 -> 0 | DW30: =CE30-DO30 -> 0 | DX30: =CF30-DP30 -> 0 | DY30: =CG30-DQ30 -> 0 | DZ30: =CH30-DR30 -> 0 | EA30: =CI30-DS30 -> 0 | EB30: =CJ30-DT30 -> 0
A31: 0400 | B31: 0 | C31: 0 | D31: 0 | E31: 0 | F31: 0 | G31: 0 | H31: 0 | I31: 0 | J31: 0 | K31: 0 | L31: 0 | N31: 0400 | O31: 0 | P31: 0 | Q31: 0 | R31: 0 | S31: 0 | T31: 0 | U31: 0 | V31: 0 | W31: 0 | X31: 0 | Y31: 0 | Z31: 0 | AA31: 0 | AB31: 0 | AE31: 0 | AF31: 0 | AG31: 0 | AH31: 0 | AI31: 0 | AJ31: 0 | AP31: =SUM(F35,F142,F249,F356,F463,F570,F677) -> 0 | AR31: =AR30+TIME(0,15,0) -> 0.20833333 | AS31: =SUM(C35,C142,C249,C356,C463,C570,C677)/config!$AC$13 -> 0 | AT31: =SUM(D35:E35,D142:E142,D249:E249,D356:E356,D463:E463,D570:E570,D677:E677)/config!$AC$13 -> 0.14285714 | AU31: =SUM(F35:G35,F142:G142,F249:G249,F356:G356,F463:G463,F570:G570,F677:G677)/config!$AC$13 -> 0 | AV31: =SUM(H35,H142,H249,H356,H463,H570,H677)/config!$AC$13 -> 0 | AW31: =SUM(I35:L35,I142:L142,I249:L249,I356:L356,I463:L463,I570:L570,I677:L677)/config!$AC$13 -> 0 | AY31: =AY30+TIME(0,15,0) -> 0.20833333 | AZ31: =B35 -> 0 | BA31: =B142 -> 0 | BB31: =B249 -> 0 | BC31: =B356 -> 0 | BD31: =B463 -> 0 | BE31: =B570 -> 0 | BF31: =B677 -> 1 | BH31: =AY31 -> 0.20833333 | BI31: =AC35 | BJ31: =AC142 | BK31: =AC249 | BL31: =AC356 | BM31: =AC463 | BN31: =AC570 | BO31: =AC677 -> 18.9 | BQ31: =BH31 -> 0.20833333 | BR31: =AD35 | BS31: =AD142 | BT31: =AD249 | BU31: =AD356 | BV31: =AD463 | BW31: =AD570 | BX31: =AD677 | BZ31: =IF(SUM(BI31:BO31)>0,SUM(BI31:BO31) / COUNTIF(BI31:BO31, ">0"),NA()) -> 18.9 | CA31: =IFERROR(SUM(BR31:BX31) / COUNTIF(BR31:BX31, ">0"), NA()) -> #N/A | CB31: =CB30 -> 30 | CD31: =AE35 -> 0 | CE31: =AE142 -> 0 | CF31: =AE249 -> 0 | CG31: =AE356 -> 0 | CH31: =AE463 -> 0 | CI31: =AE570 -> 0 | CJ31: =AE677 -> 0 | CK31: =IFERROR((SUM(CD31:CJ31)/SUM(AZ31:BF31)) * 100, "") -> 0 | CM31: =IFERROR(AZ31*BI31,"") | CN31: =IFERROR(BA31*BJ31,"") | CO31: =IFERROR(BB31*BK31,"") | CP31: =IFERROR(BC31*BL31,"") | CQ31: =IFERROR(BD31*BM31,"") | CR31: =IFERROR(BE31*BN31,"") | CS31: =IFERROR(BF31*BO31,"") -> 18.9 | CU31: =SUM(SUMIF($AZ$8:$BF$8, {"NON";"NEUT"}, AZ31:BF31))/config!$AC$16 -> 0.2 | CV31: =AY31 -> 0.20833333 | CY31: =SUM(C35*$CY$108, C142*$CY$109, C249*$CY$110, C356*$CY$111, C463*$CY$112, C570*$CY$113, C677*$CY$114)/config!$AC$16 -> 0 | CZ31: =SUM(SUM(D35:E35)*$CY$108, SUM(D142:E142)*$CY$109, SUM(D249:E249)*$CY$110, SUM(D356:E356)*$CY$111, SUM(D463:E463)*$CY$112, SUM(D570:E570)*$CY$113, SUM(D677:E677)*$CY$114)/config!$AC$16 -> 0.2 | DA31: =SUM(SUM(F35:G35)*$CY$108, SUM(F142:G142)*$CY$109, SUM(F249:G249)*$CY$110, SUM(F356:G356)*$CY$111, SUM(F463:G463)*$CY$112, SUM(F570:G570)*$CY$113, SUM(F677:G677)*$CY$114)/config!$AC$16 -> 0 | DB31: =SUM(H35*$CY$108, H142*$CY$109, H249*$CY$110, H356*$CY$111, H463*$CY$112, H570*$CY$113, H677*$CY$114)/config!$AC$16 -> 0 | DC31: =SUM(SUM(I35:L35)*$CY$108, SUM(I142:L142)*$CY$109, SUM(I249:L249)*$CY$110, SUM(I356:L356)*$CY$111, SUM(I463:L463)*$CY$112, SUM(I570:L570)*$CY$113, SUM(I677:L677)*$CY$114)/config!$AC$16 -> 0 | DF31: =IFERROR((CD31/AZ31)*100, "") | DG31: =IFERROR((CE31/BA31)*100, "") | DH31: =IFERROR((CF31/BB31)*100, "") | DI31: =IFERROR((CG31/BC31)*100, "") | DJ31: =IFERROR((CH31/BD31)*100, "") | DK31: =IFERROR((CI31/BE31)*100, "") | DL31: =IFERROR((CJ31/BF31)*100, "") -> 0 | DN31: =AG35 -> 0 | DO31: =AG142 -> 0 | DP31: =AG249 -> 0 | DQ31: =AG356 -> 0 | DR31: =AG463 -> 0 | DS31: =AG570 -> 0 | DT31: =AG677 -> 0 | DV31: =CD31-DN31 -> 0 | DW31: =CE31-DO31 -> 0 | DX31: =CF31-DP31 -> 0 | DY31: =CG31-DQ31 -> 0 | DZ31: =CH31-DR31 -> 0 | EA31: =CI31-DS31 -> 0 | EB31: =CJ31-DT31 -> 0
A32: 0415 | B32: 0 | C32: 0 | D32: 0 | E32: 0 | F32: 0 | G32: 0 | H32: 0 | I32: 0 | J32: 0 | K32: 0 | L32: 0 | N32: 0415 | O32: 0 | P32: 0 | Q32: 0 | R32: 0 | S32: 0 | T32: 0 | U32: 0 | V32: 0 | W32: 0 | X32: 0 | Y32: 0 | Z32: 0 | AA32: 0 | AB32: 0 | AE32: 0 | AF32: 0 | AG32: 0 | AH32: 0 | AI32: 0 | AJ32: 0 | AP32: =SUM(F36,F143,F250,F357,F464,F571,F678) -> 0 | AR32: =AR31+TIME(0,15,0) -> 0.21875 | AS32: =SUM(C36,C143,C250,C357,C464,C571,C678)/config!$AC$13 -> 0 | AT32: =SUM(D36:E36,D143:E143,D250:E250,D357:E357,D464:E464,D571:E571,D678:E678)/config!$AC$13 -> 0.85714286 | AU32: =SUM(F36:G36,F143:G143,F250:G250,F357:G357,F464:G464,F571:G571,F678:G678)/config!$AC$13 -> 0 | AV32: =SUM(H36,H143,H250,H357,H464,H571,H678)/config!$AC$13 -> 0 | AW32: =SUM(I36:L36,I143:L143,I250:L250,I357:L357,I464:L464,I571:L571,I678:L678)/config!$AC$13 -> 0 | AY32: =AY31+TIME(0,15,0) -> 0.21875 | AZ32: =B36 -> 1 | BA32: =B143 -> 1 | BB32: =B250 -> 0 | BC32: =B357 -> 1 | BD32: =B464 -> 1 | BE32: =B571 -> 0 | BF32: =B678 -> 2 | BH32: =AY32 -> 0.21875 | BI32: =AC36 -> 17.6 | BJ32: =AC143 -> 27.3 | BK32: =AC250 | BL32: =AC357 -> 30.4 | BM32: =AC464 -> 28 | BN32: =AC571 | BO32: =AC678 -> 24.3 | BQ32: =BH32 -> 0.21875 | BR32: =AD36 | BS32: =AD143 | BT32: =AD250 | BU32: =AD357 | BV32: =AD464 | BW32: =AD571 | BX32: =AD678 | BZ32: =IF(SUM(BI32:BO32)>0,SUM(BI32:BO32) / COUNTIF(BI32:BO32, ">0"),NA()) -> 25.52 | CA32: =IFERROR(SUM(BR32:BX32) / COUNTIF(BR32:BX32, ">0"), NA()) -> #N/A | CB32: =CB31 -> 30 | CD32: =AE36 -> 0 | CE32: =AE143 -> 0 | CF32: =AE250 -> 0 | CG32: =AE357 -> 1 | CH32: =AE464 -> 0 | CI32: =AE571 -> 0 | CJ32: =AE678 -> 0 | CK32: =IFERROR((SUM(CD32:CJ32)/SUM(AZ32:BF32)) * 100, "") -> 16.666667 | CM32: =IFERROR(AZ32*BI32,"") -> 17.6 | CN32: =IFERROR(BA32*BJ32,"") -> 27.3 | CO32: =IFERROR(BB32*BK32,"") | CP32: =IFERROR(BC32*BL32,"") -> 30.4 | CQ32: =IFERROR(BD32*BM32,"") -> 28 | CR32: =IFERROR(BE32*BN32,"") | CS32: =IFERROR(BF32*BO32,"") -> 48.6 | CU32: =SUM(SUMIF($AZ$8:$BF$8, {"NON";"NEUT"}, AZ32:BF32))/config!$AC$16 -> 1 | CV32: =AY32 -> 0.21875 | CY32: =SUM(C36*$CY$108, C143*$CY$109, C250*$CY$110, C357*$CY$111, C464*$CY$112, C571*$CY$113, C678*$CY$114)/config!$AC$16 -> 0 | CZ32: =SUM(SUM(D36:E36)*$CY$108, SUM(D143:E143)*$CY$109, SUM(D250:E250)*$CY$110, SUM(D357:E357)*$CY$111, SUM(D464:E464)*$CY$112, SUM(D571:E571)*$CY$113, SUM(D678:E678)*$CY$114)/config!$AC$16 -> 1 | DA32: =SUM(SUM(F36:G36)*$CY$108, SUM(F143:G143)*$CY$109, SUM(F250:G250)*$CY$110, SUM(F357:G357)*$CY$111, SUM(F464:G464)*$CY$112, SUM(F571:G571)*$CY$113, SUM(F678:G678)*$CY$114)/config!$AC$16 -> 0 | DB32: =SUM(H36*$CY$108, H143*$CY$109, H250*$CY$110, H357*$CY$111, H464*$CY$112, H571*$CY$113, H678*$CY$114)/config!$AC$16 -> 0 | DC32: =SUM(SUM(I36:L36)*$CY$108, SUM(I143:L143)*$CY$109, SUM(I250:L250)*$CY$110, SUM(I357:L357)*$CY$111, SUM(I464:L464)*$CY$112, SUM(I571:L571)*$CY$113, SUM(I678:L678)*$CY$114)/config!$AC$16 -> 0 | DF32: =IFERROR((CD32/AZ32)*100, "") -> 0 | DG32: =IFERROR((CE32/BA32)*100, "") -> 0 | DH32: =IFERROR((CF32/BB32)*100, "") | DI32: =IFERROR((CG32/BC32)*100, "") -> 100 | DJ32: =IFERROR((CH32/BD32)*100, "") -> 0 | DK32: =IFERROR((CI32/BE32)*100, "") | DL32: =IFERROR((CJ32/BF32)*100, "") -> 0 | DN32: =AG36 -> 0 | DO32: =AG143 -> 0 | DP32: =AG250 -> 0 | DQ32: =AG357 -> 0 | DR32: =AG464 -> 0 | DS32: =AG571 -> 0 | DT32: =AG678 -> 0 | DV32: =CD32-DN32 -> 0 | DW32: =CE32-DO32 -> 0 | DX32: =CF32-DP32 -> 0 | DY32: =CG32-DQ32 -> 1 | DZ32: =CH32-DR32 -> 0 | EA32: =CI32-DS32 -> 0 | EB32: =CJ32-DT32 -> 0
A33: 0430 | B33: 0 | C33: 0 | D33: 0 | E33: 0 | F33: 0 | G33: 0 | H33: 0 | I33: 0 | J33: 0 | K33: 0 | L33: 0 | N33: 0430 | O33: 0 | P33: 0 | Q33: 0 | R33: 0 | S33: 0 | T33: 0 | U33: 0 | V33: 0 | W33: 0 | X33: 0 | Y33: 0 | Z33: 0 | AA33: 0 | AB33: 0 | AE33: 0 | AF33: 0 | AG33: 0 | AH33: 0 | AI33: 0 | AJ33: 0 | AP33: =SUM(F37,F144,F251,F358,F465,F572,F679) -> 0 | AR33: =AR32+TIME(0,15,0) -> 0.22916667 | AS33: =SUM(C37,C144,C251,C358,C465,C572,C679)/config!$AC$13 -> 0.14285714 | AT33: =SUM(D37:E37,D144:E144,D251:E251,D358:E358,D465:E465,D572:E572,D679:E679)/config!$AC$13 -> 0.42857143 | AU33: =SUM(F37:G37,F144:G144,F251:G251,F358:G358,F465:G465,F572:G572,F679:G679)/config!$AC$13 -> 0 | AV33: =SUM(H37,H144,H251,H358,H465,H572,H679)/config!$AC$13 -> 0 | AW33: =SUM(I37:L37,I144:L144,I251:L251,I358:L358,I465:L465,I572:L572,I679:L679)/config!$AC$13 -> 0 | AY33: =AY32+TIME(0,15,0) -> 0.22916667 | AZ33: =B37 -> 1 | BA33: =B144 -> 0 | BB33: =B251 -> 2 | BC33: =B358 -> 1 | BD33: =B465 -> 0 | BE33: =B572 -> 0 | BF33: =B679 -> 0 | BH33: =AY33 -> 0.22916667 | BI33: =AC37 -> 24.7 | BJ33: =AC144 | BK33: =AC251 -> 17.9 | BL33: =AC358 -> 28.3 | BM33: =AC465 | BN33: =AC572 | BO33: =AC679 | BQ33: =BH33 -> 0.22916667 | BR33: =AD37 | BS33: =AD144 | BT33: =AD251 | BU33: =AD358 | BV33: =AD465 | BW33: =AD572 | BX33: =AD679 | BZ33: =IF(SUM(BI33:BO33)>0,SUM(BI33:BO33) / COUNTIF(BI33:BO33, ">0"),NA()) -> 23.633333 | CA33: =IFERROR(SUM(BR33:BX33) / COUNTIF(BR33:BX33, ">0"), NA()) -> #N/A | CB33: =CB32 -> 30 | CD33: =AE37 -> 0 | CE33: =AE144 -> 0 | CF33: =AE251 -> 0 | CG33: =AE358 -> 0 | CH33: =AE465 -> 0 | CI33: =AE572 -> 0 | CJ33: =AE679 -> 0 | CK33: =IFERROR((SUM(CD33:CJ33)/SUM(AZ33:BF33)) * 100, "") -> 0 | CM33: =IFERROR(AZ33*BI33,"") -> 24.7 | CN33: =IFERROR(BA33*BJ33,"") | CO33: =IFERROR(BB33*BK33,"") -> 35.8 | CP33: =IFERROR(BC33*BL33,"") -> 28.3 | CQ33: =IFERROR(BD33*BM33,"") | CR33: =IFERROR(BE33*BN33,"") | CS33: =IFERROR(BF33*BO33,"") | CU33: =SUM(SUMIF($AZ$8:$BF$8, {"NON";"NEUT"}, AZ33:BF33))/config!$AC$16 -> 0.8 | CV33: =AY33 -> 0.22916667 | CY33: =SUM(C37*$CY$108, C144*$CY$109, C251*$CY$110, C358*$CY$111, C465*$CY$112, C572*$CY$113, C679*$CY$114)/config!$AC$16 -> 0.2 | CZ33: =SUM(SUM(D37:E37)*$CY$108, SUM(D144:E144)*$CY$109, SUM(D251:E251)*$CY$110, SUM(D358:E358)*$CY$111, SUM(D465:E465)*$CY$112, SUM(D572:E572)*$CY$113, SUM(D679:E679)*$CY$114)/config!$AC$16 -> 0.6 | DA33: =SUM(SUM(F37:G37)*$CY$108, SUM(F144:G144)*$CY$109, SUM(F251:G251)*$CY$110, SUM(F358:G358)*$CY$111, SUM(F465:G465)*$CY$112, SUM(F572:G572)*$CY$113, SUM(F679:G679)*$CY$114)/config!$AC$16 -> 0 | DB33: =SUM(H37*$CY$108, H144*$CY$109, H251*$CY$110, H358*$CY$111, H465*$CY$112, H572*$CY$113, H679*$CY$114)/config!$AC$16 -> 0 | DC33: =SUM(SUM(I37:L37)*$CY$108, SUM(I144:L144)*$CY$109, SUM(I251:L251)*$CY$110, SUM(I358:L358)*$CY$111, SUM(I465:L465)*$CY$112, SUM(I572:L572)*$CY$113, SUM(I679:L679)*$CY$114)/config!$AC$16 -> 0 | DF33: =IFERROR((CD33/AZ33)*100, "") -> 0 | DG33: =IFERROR((CE33/BA33)*100, "") | DH33: =IFERROR((CF33/BB33)*100, "") -> 0 | DI33: =IFERROR((CG33/BC33)*100, "") -> 0 | DJ33: =IFERROR((CH33/BD33)*100, "") | DK33: =IFERROR((CI33/BE33)*100, "") | DL33: =IFERROR((CJ33/BF33)*100, "") | DN33: =AG37 -> 0 | DO33: =AG144 -> 0 | DP33: =AG251 -> 0 | DQ33: =AG358 -> 0 | DR33: =AG465 -> 0 | DS33: =AG572 -> 0 | DT33: =AG679 -> 0 | DV33: =CD33-DN33 -> 0 | DW33: =CE33-DO33 -> 0 | DX33: =CF33-DP33 -> 0 | DY33: =CG33-DQ33 -> 0 | DZ33: =CH33-DR33 -> 0 | EA33: =CI33-DS33 -> 0 | EB33: =CJ33-DT33 -> 0
A34: 0445 | B34: 1 | C34: 0 | D34: 1 | E34: 0 | F34: 0 | G34: 0 | H34: 0 | I34: 0 | J34: 0 | K34: 0 | L34: 0 | N34: 0445 | O34: 0 | P34: 0 | Q34: 0 | R34: 1 | S34: 0 | T34: 0 | U34: 0 | V34: 0 | W34: 0 | X34: 0 | Y34: 0 | Z34: 0 | AA34: 0 | AB34: 0 | AC34: 22.1 | AE34: 0 | AF34: 0 | AG34: 0 | AH34: 0 | AI34: 0 | AJ34: 0 | AP34: =SUM(F38,F145,F252,F359,F466,F573,F680) -> 1 | AR34: =AR33+TIME(0,15,0) -> 0.23958333 | AS34: =SUM(C38,C145,C252,C359,C466,C573,C680)/config!$AC$13 -> 0.42857143 | AT34: =SUM(D38:E38,D145:E145,D252:E252,D359:E359,D466:E466,D573:E573,D680:E680)/config!$AC$13 -> 1.4285714 | AU34: =SUM(F38:G38,F145:G145,F252:G252,F359:G359,F466:G466,F573:G573,F680:G680)/config!$AC$13 -> 0.14285714 | AV34: =SUM(H38,H145,H252,H359,H466,H573,H680)/config!$AC$13 -> 0 | AW34: =SUM(I38:L38,I145:L145,I252:L252,I359:L359,I466:L466,I573:L573,I680:L680)/config!$AC$13 -> 0 | AY34: =AY33+TIME(0,15,0) -> 0.23958333 | AZ34: =B38 -> 3 | BA34: =B145 -> 2 | BB34: =B252 -> 2 | BC34: =B359 -> 1 | BD34: =B466 -> 2 | BE34: =B573 -> 1 | BF34: =B680 -> 3 | BH34: =AY34 -> 0.23958333 | BI34: =AC38 -> 19.2 | BJ34: =AC145 -> 15.8 | BK34: =AC252 -> 29.4 | BL34: =AC359 -> 20.9 | BM34: =AC466 -> 23 | BN34: =AC573 -> 25.2 | BO34: =AC680 -> 19.4 | BQ34: =BH34 -> 0.23958333 | BR34: =AD38 | BS34: =AD145 | BT34: =AD252 | BU34: =AD359 | BV34: =AD466 | BW34: =AD573 | BX34: =AD680 | BZ34: =IF(SUM(BI34:BO34)>0,SUM(BI34:BO34) / COUNTIF(BI34:BO34, ">0"),NA()) -> 21.842857 | CA34: =IFERROR(SUM(BR34:BX34) / COUNTIF(BR34:BX34, ">0"), NA()) -> #N/A | CB34: =CB33 -> 30 | CD34: =AE38 -> 0 | CE34: =AE145 -> 0 | CF34: =AE252 -> 1 | CG34: =AE359 -> 0 | CH34: =AE466 -> 0 | CI34: =AE573 -> 0 | CJ34: =AE680 -> 0 | CK34: =IFERROR((SUM(CD34:CJ34)/SUM(AZ34:BF34)) * 100, "") -> 7.1428571 | CM34: =IFERROR(AZ34*BI34,"") -> 57.6 | CN34: =IFERROR(BA34*BJ34,"") -> 31.6 | CO34: =IFERROR(BB34*BK34,"") -> 58.8 | CP34: =IFERROR(BC34*BL34,"") -> 20.9 | CQ34: =IFERROR(BD34*BM34,"") -> 46 | CR34: =IFERROR(BE34*BN34,"") -> 25.2 | CS34: =IFERROR(BF34*BO34,"") -> 58.2 | CU34: =SUM(SUMIF($AZ$8:$BF$8, {"NON";"NEUT"}, AZ34:BF34))/config!$AC$16 -> 2.2 | CV34: =AY34 -> 0.23958333 | CY34: =SUM(C38*$CY$108, C145*$CY$109, C252*$CY$110, C359*$CY$111, C466*$CY$112, C573*$CY$113, C680*$CY$114)/config!$AC$16 -> 0.6 | CZ34: =SUM(SUM(D38:E38)*$CY$108, SUM(D145:E145)*$CY$109, SUM(D252:E252)*$CY$110, SUM(D359:E359)*$CY$111, SUM(D466:E466)*$CY$112, SUM(D573:E573)*$CY$113, SUM(D680:E680)*$CY$114)/config!$AC$16 -> 1.4 | DA34: =SUM(SUM(F38:G38)*$CY$108, SUM(F145:G145)*$CY$109, SUM(F252:G252)*$CY$110, SUM(F359:G359)*$CY$111, SUM(F466:G466)*$CY$112, SUM(F573:G573)*$CY$113, SUM(F680:G680)*$CY$114)/config!$AC$16 -> 0.2 | DB34: =SUM(H38*$CY$108, H145*$CY$109, H252*$CY$110, H359*$CY$111, H466*$CY$112, H573*$CY$113, H680*$CY$114)/config!$AC$16 -> 0 | DC34: =SUM(SUM(I38:L38)*$CY$108, SUM(I145:L145)*$CY$109, SUM(I252:L252)*$CY$110, SUM(I359:L359)*$CY$111, SUM(I466:L466)*$CY$112, SUM(I573:L573)*$CY$113, SUM(I680:L680)*$CY$114)/config!$AC$16 -> 0 | DF34: =IFERROR((CD34/AZ34)*100, "") -> 0 | DG34: =IFERROR((CE34/BA34)*100, "") -> 0 | DH34: =IFERROR((CF34/BB34)*100, "") -> 50 | DI34: =IFERROR((CG34/BC34)*100, "") -> 0 | DJ34: =IFERROR((CH34/BD34)*100, "") -> 0 | DK34: =IFERROR((CI34/BE34)*100, "") -> 0 | DL34: =IFERROR((CJ34/BF34)*100, "") -> 0 | DN34: =AG38 -> 0 | DO34: =AG145 -> 0 | DP34: =AG252 -> 1 | DQ34: =AG359 -> 0 | DR34: =AG466 -> 0 | DS34: =AG573 -> 0 | DT34: =AG680 -> 0 | DV34: =CD34-DN34 -> 0 | DW34: =CE34-DO34 -> 0 | DX34: =CF34-DP34 -> 0 | DY34: =CG34-DQ34 -> 0 | DZ34: =CH34-DR34 -> 0 | EA34: =CI34-DS34 -> 0 | EB34: =CJ34-DT34 -> 0
A35: 0500 | B35: 0 | C35: 0 | D35: 0 | E35: 0 | F35: 0 | G35: 0 | H35: 0 | I35: 0 | J35: 0 | K35: 0 | L35: 0 | N35: 0500 | O35: 0 | P35: 0 | Q35: 0 | R35: 0 | S35: 0 | T35: 0 | U35: 0 | V35: 0 | W35: 0 | X35: 0 | Y35: 0 | Z35: 0 | AA35: 0 | AB35: 0 | AE35: 0 | AF35: 0 | AG35: 0 | AH35: 0 | AI35: 0 | AJ35: 0 | AP35: =SUM(F39,F146,F253,F360,F467,F574,F681) -> 2 | AR35: =AR34+TIME(0,15,0) -> 0.25 | AS35: =SUM(C39,C146,C253,C360,C467,C574,C681)/config!$AC$13 -> 0.42857143 | AT35: =SUM(D39:E39,D146:E146,D253:E253,D360:E360,D467:E467,D574:E574,D681:E681)/config!$AC$13 -> 1.1428571 | AU35: =SUM(F39:G39,F146:G146,F253:G253,F360:G360,F467:G467,F574:G574,F681:G681)/config!$AC$13 -> 0.28571429 | AV35: =SUM(H39,H146,H253,H360,H467,H574,H681)/config!$AC$13 -> 0 | AW35: =SUM(I39:L39,I146:L146,I253:L253,I360:L360,I467:L467,I574:L574,I681:L681)/config!$AC$13 -> 0 | AY35: =AY34+TIME(0,15,0) -> 0.25 | AZ35: =B39 -> 3 | BA35: =B146 -> 3 | BB35: =B253 -> 3 | BC35: =B360 -> 1 | BD35: =B467 -> 0 | BE35: =B574 -> 0 | BF35: =B681 -> 3 | BH35: =AY35 -> 0.25 | BI35: =AC39 -> 24.6 | BJ35: =AC146 -> 27.5 | BK35: =AC253 -> 21.8 | BL35: =AC360 -> 27.3 | BM35: =AC467 | BN35: =AC574 | BO35: =AC681 -> 22.4 | BQ35: =BH35 -> 0.25 | BR35: =AD39 | BS35: =AD146 | BT35: =AD253 | BU35: =AD360 | BV35: =AD467 | BW35: =AD574 | BX35: =AD681 | BZ35: =IF(SUM(BI35:BO35)>0,SUM(BI35:BO35) / COUNTIF(BI35:BO35, ">0"),NA()) -> 24.72 | CA35: =IFERROR(SUM(BR35:BX35) / COUNTIF(BR35:BX35, ">0"), NA()) -> #N/A | CB35: =CB34 -> 30 | CD35: =AE39 -> 1 | CE35: =AE146 -> 1 | CF35: =AE253 -> 0 | CG35: =AE360 -> 0 | CH35: =AE467 -> 0 | CI35: =AE574 -> 0 | CJ35: =AE681 -> 1 | CK35: =IFERROR((SUM(CD35:CJ35)/SUM(AZ35:BF35)) * 100, "") -> 23.076923 | CM35: =IFERROR(AZ35*BI35,"") -> 73.8 | CN35: =IFERROR(BA35*BJ35,"") -> 82.5 | CO35: =IFERROR(BB35*BK35,"") -> 65.4 | CP35: =IFERROR(BC35*BL35,"") -> 27.3 | CQ35: =IFERROR(BD35*BM35,"") | CR35: =IFERROR(BE35*BN35,"") | CS35: =IFERROR(BF35*BO35,"") -> 67.2 | CU35: =SUM(SUMIF($AZ$8:$BF$8, {"NON";"NEUT"}, AZ35:BF35))/config!$AC$16 -> 2.6 | CV35: =AY35 -> 0.25 | CY35: =SUM(C39*$CY$108, C146*$CY$109, C253*$CY$110, C360*$CY$111, C467*$CY$112, C574*$CY$113, C681*$CY$114)/config!$AC$16 -> 0.6 | CZ35: =SUM(SUM(D39:E39)*$CY$108, SUM(D146:E146)*$CY$109, SUM(D253:E253)*$CY$110, SUM(D360:E360)*$CY$111, SUM(D467:E467)*$CY$112, SUM(D574:E574)*$CY$113, SUM(D681:E681)*$CY$114)/config!$AC$16 -> 1.6 | DA35: =SUM(SUM(F39:G39)*$CY$108, SUM(F146:G146)*$CY$109, SUM(F253:G253)*$CY$110, SUM(F360:G360)*$CY$111, SUM(F467:G467)*$CY$112, SUM(F574:G574)*$CY$113, SUM(F681:G681)*$CY$114)/config!$AC$16 -> 0.4 | DB35: =SUM(H39*$CY$108, H146*$CY$109, H253*$CY$110, H360*$CY$111, H467*$CY$112, H574*$CY$113, H681*$CY$114)/config!$AC$16 -> 0 | DC35: =SUM(SUM(I39:L39)*$CY$108, SUM(I146:L146)*$CY$109, SUM(I253:L253)*$CY$110, SUM(I360:L360)*$CY$111, SUM(I467:L467)*$CY$112, SUM(I574:L574)*$CY$113, SUM(I681:L681)*$CY$114)/config!$AC$16 -> 0 | DF35: =IFERROR((CD35/AZ35)*100, "") -> 33.333333 | DG35: =IFERROR((CE35/BA35)*100, "") -> 33.333333 | DH35: =IFERROR((CF35/BB35)*100, "") -> 0 | DI35: =IFERROR((CG35/BC35)*100, "") -> 0 | DJ35: =IFERROR((CH35/BD35)*100, "") | DK35: =IFERROR((CI35/BE35)*100, "") | DL35: =IFERROR((CJ35/BF35)*100, "") -> 33.333333 | DN35: =AG39 -> 0 | DO35: =AG146 -> 1 | DP35: =AG253 -> 0 | DQ35: =AG360 -> 0 | DR35: =AG467 -> 0 | DS35: =AG574 -> 0 | DT35: =AG681 -> 0 | DV35: =CD35-DN35 -> 1 | DW35: =CE35-DO35 -> 0 | DX35: =CF35-DP35 -> 0 | DY35: =CG35-DQ35 -> 0 | DZ35: =CH35-DR35 -> 0 | EA35: =CI35-DS35 -> 0 | EB35: =CJ35-DT35 -> 1
A36: 0515 | B36: 1 | C36: 0 | D36: 1 | E36: 0 | F36: 0 | G36: 0 | H36: 0 | I36: 0 | J36: 0 | K36: 0 | L36: 0 | N36: 0515 | O36: 0 | P36: 0 | Q36: 1 | R36: 0 | S36: 0 | T36: 0 | U36: 0 | V36: 0 | W36: 0 | X36: 0 | Y36: 0 | Z36: 0 | AA36: 0 | AB36: 0 | AC36: 17.6 | AE36: 0 | AF36: 0 | AG36: 0 | AH36: 0 | AI36: 0 | AJ36: 0 | AP36: =SUM(F40,F147,F254,F361,F468,F575,F682) -> 2 | AR36: =AR35+TIME(0,15,0) -> 0.26041667 | AS36: =SUM(C40,C147,C254,C361,C468,C575,C682)/config!$AC$13 -> 0 | AT36: =SUM(D40:E40,D147:E147,D254:E254,D361:E361,D468:E468,D575:E575,D682:E682)/config!$AC$13 -> 2.7142857 | AU36: =SUM(F40:G40,F147:G147,F254:G254,F361:G361,F468:G468,F575:G575,F682:G682)/config!$AC$13 -> 0.28571429 | AV36: =SUM(H40,H147,H254,H361,H468,H575,H682)/config!$AC$13 -> 0 | AW36: =SUM(I40:L40,I147:L147,I254:L254,I361:L361,I468:L468,I575:L575,I682:L682)/config!$AC$13 -> 0 | AY36: =AY35+TIME(0,15,0) -> 0.26041667 | AZ36: =B40 -> 5 | BA36: =B147 -> 6 | BB36: =B254 -> 2 | BC36: =B361 -> 3 | BD36: =B468 -> 2 | BE36: =B575 -> 0 | BF36: =B682 -> 3 | BH36: =AY36 -> 0.26041667 | BI36: =AC40 -> 23.4 | BJ36: =AC147 -> 27.9 | BK36: =AC254 -> 25.2 | BL36: =AC361 -> 22.3 | BM36: =AC468 -> 21.7 | BN36: =AC575 | BO36: =AC682 -> 24.8 | BQ36: =BH36 -> 0.26041667 | BR36: =AD40 | BS36: =AD147 | BT36: =AD254 | BU36: =AD361 | BV36: =AD468 | BW36: =AD575 | BX36: =AD682 | BZ36: =IF(SUM(BI36:BO36)>0,SUM(BI36:BO36) / COUNTIF(BI36:BO36, ">0"),NA()) -> 24.216667 | CA36: =IFERROR(SUM(BR36:BX36) / COUNTIF(BR36:BX36, ">0"), NA()) -> #N/A | CB36: =CB35 -> 30 | CD36: =AE40 -> 0 | CE36: =AE147 -> 2 | CF36: =AE254 -> 0 | CG36: =AE361 -> 0 | CH36: =AE468 -> 0 | CI36: =AE575 -> 0 | CJ36: =AE682 -> 0 | CK36: =IFERROR((SUM(CD36:CJ36)/SUM(AZ36:BF36)) * 100, "") -> 9.5238095 | CM36: =IFERROR(AZ36*BI36,"") -> 117 | CN36: =IFERROR(BA36*BJ36,"") -> 167.4 | CO36: =IFERROR(BB36*BK36,"") -> 50.4 | CP36: =IFERROR(BC36*BL36,"") -> 66.9 | CQ36: =IFERROR(BD36*BM36,"") -> 43.4 | CR36: =IFERROR(BE36*BN36,"") | CS36: =IFERROR(BF36*BO36,"") -> 74.4 | CU36: =SUM(SUMIF($AZ$8:$BF$8, {"NON";"NEUT"}, AZ36:BF36))/config!$AC$16 -> 3.8 | CV36: =AY36 -> 0.26041667 | CY36: =SUM(C40*$CY$108, C147*$CY$109, C254*$CY$110, C361*$CY$111, C468*$CY$112, C575*$CY$113, C682*$CY$114)/config!$AC$16 -> 0 | CZ36: =SUM(SUM(D40:E40)*$CY$108, SUM(D147:E147)*$CY$109, SUM(D254:E254)*$CY$110, SUM(D361:E361)*$CY$111, SUM(D468:E468)*$CY$112, SUM(D575:E575)*$CY$113, SUM(D682:E682)*$CY$114)/config!$AC$16 -> 3.4 | DA36: =SUM(SUM(F40:G40)*$CY$108, SUM(F147:G147)*$CY$109, SUM(F254:G254)*$CY$110, SUM(F361:G361)*$CY$111, SUM(F468:G468)*$CY$112, SUM(F575:G575)*$CY$113, SUM(F682:G682)*$CY$114)/config!$AC$16 -> 0.4 | DB36: =SUM(H40*$CY$108, H147*$CY$109, H254*$CY$110, H361*$CY$111, H468*$CY$112, H575*$CY$113, H682*$CY$114)/config!$AC$16 -> 0 | DC36: =SUM(SUM(I40:L40)*$CY$108, SUM(I147:L147)*$CY$109, SUM(I254:L254)*$CY$110, SUM(I361:L361)*$CY$111, SUM(I468:L468)*$CY$112, SUM(I575:L575)*$CY$113, SUM(I682:L682)*$CY$114)/config!$AC$16 -> 0 | DF36: =IFERROR((CD36/AZ36)*100, "") -> 0 | DG36: =IFERROR((CE36/BA36)*100, "") -> 33.333333 | DH36: =IFERROR((CF36/BB36)*100, "") -> 0 | DI36: =IFERROR((CG36/BC36)*100, "") -> 0 | DJ36: =IFERROR((CH36/BD36)*100, "") -> 0 | DK36: =IFERROR((CI36/BE36)*100, "") | DL36: =IFERROR((CJ36/BF36)*100, "") -> 0 | DN36: =AG40 -> 0 | DO36: =AG147 -> 2 | DP36: =AG254 -> 0 | DQ36: =AG361 -> 0 | DR36: =AG468 -> 0 | DS36: =AG575 -> 0 | DT36: =AG682 -> 0 | DV36: =CD36-DN36 -> 0 | DW36: =CE36-DO36 -> 0 | DX36: =CF36-DP36 -> 0 | DY36: =CG36-DQ36 -> 0 | DZ36: =CH36-DR36 -> 0 | EA36: =CI36-DS36 -> 0 | EB36: =CJ36-DT36 -> 0
A37: 0530 | B37: 1 | C37: 0 | D37: 1 | E37: 0 | F37: 0 | G37: 0 | H37: 0 | I37: 0 | J37: 0 | K37: 0 | L37: 0 | N37: 0530 | O37: 0 | P37: 0 | Q37: 0 | R37: 1 | S37: 0 | T37: 0 | U37: 0 | V37: 0 | W37: 0 | X37: 0 | Y37: 0 | Z37: 0 | AA37: 0 | AB37: 0 | AC37: 24.7 | AE37: 0 | AF37: 0 | AG37: 0 | AH37: 0 | AI37: 0 | AJ37: 0 | AP37: =SUM(F41,F148,F255,F362,F469,F576,F683) -> 0 | AR37: =AR36+TIME(0,15,0) -> 0.27083333 | AS37: =SUM(C41,C148,C255,C362,C469,C576,C683)/config!$AC$13 -> 0 | AT37: =SUM(D41:E41,D148:E148,D255:E255,D362:E362,D469:E469,D576:E576,D683:E683)/config!$AC$13 -> 2.2857143 | AU37: =SUM(F41:G41,F148:G148,F255:G255,F362:G362,F469:G469,F576:G576,F683:G683)/config!$AC$13 -> 0 | AV37: =SUM(H41,H148,H255,H362,H469,H576,H683)/config!$AC$13 -> 0 | AW37: =SUM(I41:L41,I148:L148,I255:L255,I362:L362,I469:L469,I576:L576,I683:L683)/config!$AC$13 -> 0 | AY37: =AY36+TIME(0,15,0) -> 0.27083333 | AZ37: =B41 -> 4 | BA37: =B148 -> 2 | BB37: =B255 -> 3 | BC37: =B362 -> 2 | BD37: =B469 -> 1 | BE37: =B576 -> 1 | BF37: =B683 -> 3 | BH37: =AY37 -> 0.27083333 | BI37: =AC41 -> 27.1 | BJ37: =AC148 -> 28.4 | BK37: =AC255 -> 25.7 | BL37: =AC362 -> 21.5 | BM37: =AC469 -> 15.4 | BN37: =AC576 -> 26.5 | BO37: =AC683 -> 24.2 | BQ37: =BH37 -> 0.27083333 | BR37: =AD41 | BS37: =AD148 | BT37: =AD255 | BU37: =AD362 | BV37: =AD469 | BW37: =AD576 | BX37: =AD683 | BZ37: =IF(SUM(BI37:BO37)>0,SUM(BI37:BO37) / COUNTIF(BI37:BO37, ">0"),NA()) -> 24.114286 | CA37: =IFERROR(SUM(BR37:BX37) / COUNTIF(BR37:BX37, ">0"), NA()) -> #N/A | CB37: =CB36 -> 30 | CD37: =AE41 -> 2 | CE37: =AE148 -> 0 | CF37: =AE255 -> 1 | CG37: =AE362 -> 0 | CH37: =AE469 -> 0 | CI37: =AE576 -> 0 | CJ37: =AE683 -> 0 | CK37: =IFERROR((SUM(CD37:CJ37)/SUM(AZ37:BF37)) * 100, "") -> 18.75 | CM37: =IFERROR(AZ37*BI37,"") -> 108.4 | CN37: =IFERROR(BA37*BJ37,"") -> 56.8 | CO37: =IFERROR(BB37*BK37,"") -> 77.1 | CP37: =IFERROR(BC37*BL37,"") -> 43 | CQ37: =IFERROR(BD37*BM37,"") -> 15.4 | CR37: =IFERROR(BE37*BN37,"") -> 26.5 | CS37: =IFERROR(BF37*BO37,"") -> 72.6 | CU37: =SUM(SUMIF($AZ$8:$BF$8, {"NON";"NEUT"}, AZ37:BF37))/config!$AC$16 -> 2.8 | CV37: =AY37 -> 0.27083333 | CY37: =SUM(C41*$CY$108, C148*$CY$109, C255*$CY$110, C362*$CY$111, C469*$CY$112, C576*$CY$113, C683*$CY$114)/config!$AC$16 -> 0 | CZ37: =SUM(SUM(D41:E41)*$CY$108, SUM(D148:E148)*$CY$109, SUM(D255:E255)*$CY$110, SUM(D362:E362)*$CY$111, SUM(D469:E469)*$CY$112, SUM(D576:E576)*$CY$113, SUM(D683:E683)*$CY$114)/config!$AC$16 -> 2.8 | DA37: =SUM(SUM(F41:G41)*$CY$108, SUM(F148:G148)*$CY$109, SUM(F255:G255)*$CY$110, SUM(F362:G362)*$CY$111, SUM(F469:G469)*$CY$112, SUM(F576:G576)*$CY$113, SUM(F683:G683)*$CY$114)/config!$AC$16 -> 0 | DB37: =SUM(H41*$CY$108, H148*$CY$109, H255*$CY$110, H362*$CY$111, H469*$CY$112, H576*$CY$113, H683*$CY$114)/config!$AC$16 -> 0 | DC37: =SUM(SUM(I41:L41)*$CY$108, SUM(I148:L148)*$CY$109, SUM(I255:L255)*$CY$110, SUM(I362:L362)*$CY$111, SUM(I469:L469)*$CY$112, SUM(I576:L576)*$CY$113, SUM(I683:L683)*$CY$114)/config!$AC$16 -> 0 | DF37: =IFERROR((CD37/AZ37)*100, "") -> 50 | DG37: =IFERROR((CE37/BA37)*100, "") -> 0 | DH37: =IFERROR((CF37/BB37)*100, "") -> 33.333333 | DI37: =IFERROR((CG37/BC37)*100, "") -> 0 | DJ37: =IFERROR((CH37/BD37)*100, "") -> 0 | DK37: =IFERROR((CI37/BE37)*100, "") -> 0 | DL37: =IFERROR((CJ37/BF37)*100, "") -> 0 | DN37: =AG41 -> 0 | DO37: =AG148 -> 0 | DP37: =AG255 -> 0 | DQ37: =AG362 -> 0 | DR37: =AG469 -> 0 | DS37: =AG576 -> 0 | DT37: =AG683 -> 0 | DV37: =CD37-DN37 -> 2 | DW37: =CE37-DO37 -> 0 | DX37: =CF37-DP37 -> 1 | DY37: =CG37-DQ37 -> 0 | DZ37: =CH37-DR37 -> 0 | EA37: =CI37-DS37 -> 0 | EB37: =CJ37-DT37 -> 0
A38: 0545 | B38: 3 | C38: 1 | D38: 2 | E38: 0 | F38: 0 | G38: 0 | H38: 0 | I38: 0 | J38: 0 | K38: 0 | L38: 0 | N38: 0545 | O38: 0 | P38: 1 | Q38: 0 | R38: 2 | S38: 0 | T38: 0 | U38: 0 | V38: 0 | W38: 0 | X38: 0 | Y38: 0 | Z38: 0 | AA38: 0 | AB38: 0 | AC38: 19.2 | AE38: 0 | AF38: 0 | AG38: 0 | AH38: 0 | AI38: 0 | AJ38: 0 | AP38: =SUM(F42,F149,F256,F363,F470,F577,F684) -> 5 | AR38: =AR37+TIME(0,15,0) -> 0.28125 | AS38: =SUM(C42,C149,C256,C363,C470,C577,C684)/config!$AC$13 -> 0 | AT38: =SUM(D42:E42,D149:E149,D256:E256,D363:E363,D470:E470,D577:E577,D684:E684)/config!$AC$13 -> 4 | AU38: =SUM(F42:G42,F149:G149,F256:G256,F363:G363,F470:G470,F577:G577,F684:G684)/config!$AC$13 -> 0.71428571 | AV38: =SUM(H42,H149,H256,H363,H470,H577,H684)/config!$AC$13 -> 0 | AW38: =SUM(I42:L42,I149:L149,I256:L256,I363:L363,I470:L470,I577:L577,I684:L684)/config!$AC$13 -> 0 | AY38: =AY37+TIME(0,15,0) -> 0.28125 | AZ38: =B42 -> 8 | BA38: =B149 -> 11 | BB38: =B256 -> 5 | BC38: =B363 -> 2 | BD38: =B470 -> 3 | BE38: =B577 -> 1 | BF38: =B684 -> 3 | BH38: =AY38 -> 0.28125 | BI38: =AC42 -> 22.4 | BJ38: =AC149 -> 25.5 | BK38: =AC256 -> 24.8 | BL38: =AC363 -> 24.8 | BM38: =AC470 -> 27.6 | BN38: =AC577 -> 26.4 | BO38: =AC684 -> 28.3 | BQ38: =BH38 -> 0.28125 | BR38: =AD42 | BS38: =AD149 -> 31.1 | BT38: =AD256 | BU38: =AD363 | BV38: =AD470 | BW38: =AD577 | BX38: =AD684 | BZ38: =IF(SUM(BI38:BO38)>0,SUM(BI38:BO38) / COUNTIF(BI38:BO38, ">0"),NA()) -> 25.685714 | CA38: =IFERROR(SUM(BR38:BX38) / COUNTIF(BR38:BX38, ">0"), NA()) -> 31.1 | CB38: =CB37 -> 30 | CD38: =AE42 -> 0 | CE38: =AE149 -> 2 | CF38: =AE256 -> 1 | CG38: =AE363 -> 0 | CH38: =AE470 -> 0 | CI38: =AE577 -> 0 | CJ38: =AE684 -> 1 | CK38: =IFERROR((SUM(CD38:CJ38)/SUM(AZ38:BF38)) * 100, "") -> 12.121212 | CM38: =IFERROR(AZ38*BI38,"") -> 179.2 | CN38: =IFERROR(BA38*BJ38,"") -> 280.5 | CO38: =IFERROR(BB38*BK38,"") -> 124 | CP38: =IFERROR(BC38*BL38,"") -> 49.6 | CQ38: =IFERROR(BD38*BM38,"") -> 82.8 | CR38: =IFERROR(BE38*BN38,"") -> 26.4 | CS38: =IFERROR(BF38*BO38,"") -> 84.9 | CU38: =SUM(SUMIF($AZ$8:$BF$8, {"NON";"NEUT"}, AZ38:BF38))/config!$AC$16 -> 5.8 | CV38: =AY38 -> 0.28125 | CY38: =SUM(C42*$CY$108, C149*$CY$109, C256*$CY$110, C363*$CY$111, C470*$CY$112, C577*$CY$113, C684*$CY$114)/config!$AC$16 -> 0 | CZ38: =SUM(SUM(D42:E42)*$CY$108, SUM(D149:E149)*$CY$109, SUM(D256:E256)*$CY$110, SUM(D363:E363)*$CY$111, SUM(D470:E470)*$CY$112, SUM(D577:E577)*$CY$113, SUM(D684:E684)*$CY$114)/config!$AC$16 -> 4.8 | DA38: =SUM(SUM(F42:G42)*$CY$108, SUM(F149:G149)*$CY$109, SUM(F256:G256)*$CY$110, SUM(F363:G363)*$CY$111, SUM(F470:G470)*$CY$112, SUM(F577:G577)*$CY$113, SUM(F684:G684)*$CY$114)/config!$AC$16 -> 1 | DB38: =SUM(H42*$CY$108, H149*$CY$109, H256*$CY$110, H363*$CY$111, H470*$CY$112, H577*$CY$113, H684*$CY$114)/config!$AC$16 -> 0 | DC38: =SUM(SUM(I42:L42)*$CY$108, SUM(I149:L149)*$CY$109, SUM(I256:L256)*$CY$110, SUM(I363:L363)*$CY$111, SUM(I470:L470)*$CY$112, SUM(I577:L577)*$CY$113, SUM(I684:L684)*$CY$114)/config!$AC$16 -> 0 | DF38: =IFERROR((CD38/AZ38)*100, "") -> 0 | DG38: =IFERROR((CE38/BA38)*100, "") -> 18.181818 | DH38: =IFERROR((CF38/BB38)*100, "") -> 20 | DI38: =IFERROR((CG38/BC38)*100, "") -> 0 | DJ38: =IFERROR((CH38/BD38)*100, "") -> 0 | DK38: =IFERROR((CI38/BE38)*100, "") -> 0 | DL38: =IFERROR((CJ38/BF38)*100, "") -> 33.333333 | DN38: =AG42 -> 0 | DO38: =AG149 -> 0 | DP38: =AG256 -> 0 | DQ38: =AG363 -> 0 | DR38: =AG470 -> 0 | DS38: =AG577 -> 0 | DT38: =AG684 -> 0 | DV38: =CD38-DN38 -> 0 | DW38: =CE38-DO38 -> 2 | DX38: =CF38-DP38 -> 1 | DY38: =CG38-DQ38 -> 0 | DZ38: =CH38-DR38 -> 0 | EA38: =CI38-DS38 -> 0 | EB38: =CJ38-DT38 -> 1
A39: 0600 | B39: 3 | C39: 1 | D39: 2 | E39: 0 | F39: 0 | G39: 0 | H39: 0 | I39: 0 | J39: 0 | K39: 0 | L39: 0 | N39: 0600 | O39: 0 | P39: 0 | Q39: 1 | R39: 1 | S39: 0 | T39: 1 | U39: 0 | V39: 0 | W39: 0 | X39: 0 | Y39: 0 | Z39: 0 | AA39: 0 | AB39: 0 | AC39: 24.6 | AE39: 1 | AF39: 33.333333 | AG39: 0 | AH39: 0 | AI39: 0 | AJ39: 0 | AP39: =SUM(F43,F150,F257,F364,F471,F578,F685) -> 3 | AR39: =AR38+TIME(0,15,0) -> 0.29166667 | AS39: =SUM(C43,C150,C257,C364,C471,C578,C685)/config!$AC$13 -> 0.71428571 | AT39: =SUM(D43:E43,D150:E150,D257:E257,D364:E364,D471:E471,D578:E578,D685:E685)/config!$AC$13 -> 5 | AU39: =SUM(F43:G43,F150:G150,F257:G257,F364:G364,F471:G471,F578:G578,F685:G685)/config!$AC$13 -> 0.42857143 | AV39: =SUM(H43,H150,H257,H364,H471,H578,H685)/config!$AC$13 -> 0 | AW39: =SUM(I43:L43,I150:L150,I257:L257,I364:L364,I471:L471,I578:L578,I685:L685)/config!$AC$13 -> 0 | AY39: =AY38+TIME(0,15,0) -> 0.29166667 | AZ39: =B43 -> 7 | BA39: =B150 -> 10 | BB39: =B257 -> 8 | BC39: =B364 -> 4 | BD39: =B471 -> 2 | BE39: =B578 -> 0 | BF39: =B685 -> 12 | BH39: =AY39 -> 0.29166667 | BI39: =AC43 -> 28 | BJ39: =AC150 -> 28 | BK39: =AC257 -> 25.2 | BL39: =AC364 -> 29.2 | BM39: =AC471 -> 20.7 | BN39: =AC578 | BO39: =AC685 -> 26.5 | BQ39: =BH39 -> 0.29166667 | BR39: =AD43 | BS39: =AD150 | BT39: =AD257 | BU39: =AD364 | BV39: =AD471 | BW39: =AD578 | BX39: =AD685 -> 30.8 | BZ39: =IF(SUM(BI39:BO39)>0,SUM(BI39:BO39) / COUNTIF(BI39:BO39, ">0"),NA()) -> 26.266667 | CA39: =IFERROR(SUM(BR39:BX39) / COUNTIF(BR39:BX39, ">0"), NA()) -> 30.8 | CB39: =CB38 -> 30 | CD39: =AE43 -> 2 | CE39: =AE150 -> 4 | CF39: =AE257 -> 1 | CG39: =AE364 -> 1 | CH39: =AE471 -> 0 | CI39: =AE578 -> 0 | CJ39: =AE685 -> 2 | CK39: =IFERROR((SUM(CD39:CJ39)/SUM(AZ39:BF39)) * 100, "") -> 23.255814 | CM39: =IFERROR(AZ39*BI39,"") -> 196 | CN39: =IFERROR(BA39*BJ39,"") -> 280 | CO39: =IFERROR(BB39*BK39,"") -> 201.6 | CP39: =IFERROR(BC39*BL39,"") -> 116.8 | CQ39: =IFERROR(BD39*BM39,"") -> 41.4 | CR39: =IFERROR(BE39*BN39,"") | CS39: =IFERROR(BF39*BO39,"") -> 318 | CU39: =SUM(SUMIF($AZ$8:$BF$8, {"NON";"NEUT"}, AZ39:BF39))/config!$AC$16 -> 8.2 | CV39: =AY39 -> 0.29166667 | CY39: =SUM(C43*$CY$108, C150*$CY$109, C257*$CY$110, C364*$CY$111, C471*$CY$112, C578*$CY$113, C685*$CY$114)/config!$AC$16 -> 1 | CZ39: =SUM(SUM(D43:E43)*$CY$108, SUM(D150:E150)*$CY$109, SUM(D257:E257)*$CY$110, SUM(D364:E364)*$CY$111, SUM(D471:E471)*$CY$112, SUM(D578:E578)*$CY$113, SUM(D685:E685)*$CY$114)/config!$AC$16 -> 6.6 | DA39: =SUM(SUM(F43:G43)*$CY$108, SUM(F150:G150)*$CY$109, SUM(F257:G257)*$CY$110, SUM(F364:G364)*$CY$111, SUM(F471:G471)*$CY$112, SUM(F578:G578)*$CY$113, SUM(F685:G685)*$CY$114)/config!$AC$16 -> 0.6 | DB39: =SUM(H43*$CY$108, H150*$CY$109, H257*$CY$110, H364*$CY$111, H471*$CY$112, H578*$CY$113, H685*$CY$114)/config!$AC$16 -> 0 | DC39: =SUM(SUM(I43:L43)*$CY$108, SUM(I150:L150)*$CY$109, SUM(I257:L257)*$CY$110, SUM(I364:L364)*$CY$111, SUM(I471:L471)*$CY$112, SUM(I578:L578)*$CY$113, SUM(I685:L685)*$CY$114)/config!$AC$16 -> 0 | DF39: =IFERROR((CD39/AZ39)*100, "") -> 28.571429 | DG39: =IFERROR((CE39/BA39)*100, "") -> 40 | DH39: =IFERROR((CF39/BB39)*100, "") -> 12.5 | DI39: =IFERROR((CG39/BC39)*100, "") -> 25 | DJ39: =IFERROR((CH39/BD39)*100, "") -> 0 | DK39: =IFERROR((CI39/BE39)*100, "") | DL39: =IFERROR((CJ39/BF39)*100, "") -> 16.666667 | DN39: =AG43 -> 0 | DO39: =AG150 -> 1 | DP39: =AG257 -> 0 | DQ39: =AG364 -> 0 | DR39: =AG471 -> 0 | DS39: =AG578 -> 0 | DT39: =AG685 -> 1 | DV39: =CD39-DN39 -> 2 | DW39: =CE39-DO39 -> 3 | DX39: =CF39-DP39 -> 1 | DY39: =CG39-DQ39 -> 1 | DZ39: =CH39-DR39 -> 0 | EA39: =CI39-DS39 -> 0 | EB39: =CJ39-DT39 -> 1
A40: 0615 | B40: 5 | C40: 0 | D40: 4 | E40: 0 | F40: 1 | G40: 0 | H40: 0 | I40: 0 | J40: 0 | K40: 0 | L40: 0 | N40: 0615 | O40: 0 | P40: 0 | Q40: 1 | R40: 2 | S40: 2 | T40: 0 | U40: 0 | V40: 0 | W40: 0 | X40: 0 | Y40: 0 | Z40: 0 | AA40: 0 | AB40: 0 | AC40: 23.4 | AE40: 0 | AF40: 0 | AG40: 0 | AH40: 0 | AI40: 0 | AJ40: 0 | AP40: =SUM(F44,F151,F258,F365,F472,F579,F686) -> 4 | AR40: =AR39+TIME(0,15,0) -> 0.30208333 | AS40: =SUM(C44,C151,C258,C365,C472,C579,C686)/config!$AC$13 -> 0.14285714 | AT40: =SUM(D44:E44,D151:E151,D258:E258,D365:E365,D472:E472,D579:E579,D686:E686)/config!$AC$13 -> 4 | AU40: =SUM(F44:G44,F151:G151,F258:G258,F365:G365,F472:G472,F579:G579,F686:G686)/config!$AC$13 -> 0.57142857 | AV40: =SUM(H44,H151,H258,H365,H472,H579,H686)/config!$AC$13 -> 0 | AW40: =SUM(I44:L44,I151:L151,I258:L258,I365:L365,I472:L472,I579:L579,I686:L686)/config!$AC$13 -> 0 | AY40: =AY39+TIME(0,15,0) -> 0.30208333 | AZ40: =B44 -> 8 | BA40: =B151 -> 3 | BB40: =B258 -> 7 | BC40: =B365 -> 4 | BD40: =B472 -> 3 | BE40: =B579 -> 2 | BF40: =B686 -> 6 | BH40: =AY40 -> 0.30208333 | BI40: =AC44 -> 24.9 | BJ40: =AC151 -> 25.3 | BK40: =AC258 -> 27.2 | BL40: =AC365 -> 21.8 | BM40: =AC472 -> 26.6 | BN40: =AC579 -> 29.2 | BO40: =AC686 -> 27.6 | BQ40: =BH40 -> 0.30208333 | BR40: =AD44 | BS40: =AD151 | BT40: =AD258 | BU40: =AD365 | BV40: =AD472 | BW40: =AD579 | BX40: =AD686 | BZ40: =IF(SUM(BI40:BO40)>0,SUM(BI40:BO40) / COUNTIF(BI40:BO40, ">0"),NA()) -> 26.085714 | CA40: =IFERROR(SUM(BR40:BX40) / COUNTIF(BR40:BX40, ">0"), NA()) -> #N/A | CB40: =CB39 -> 30 | CD40: =AE44 -> 1 | CE40: =AE151 -> 0 | CF40: =AE258 -> 2 | CG40: =AE365 -> 0 | CH40: =AE472 -> 1 | CI40: =AE579 -> 0 | CJ40: =AE686 -> 2 | CK40: =IFERROR((SUM(CD40:CJ40)/SUM(AZ40:BF40)) * 100, "") -> 18.181818 | CM40: =IFERROR(AZ40*BI40,"") -> 199.2 | CN40: =IFERROR(BA40*BJ40,"") -> 75.9 | CO40: =IFERROR(BB40*BK40,"") -> 190.4 | CP40: =IFERROR(BC40*BL40,"") -> 87.2 | CQ40: =IFERROR(BD40*BM40,"") -> 79.8 | CR40: =IFERROR(BE40*BN40,"") -> 58.4 | CS40: =IFERROR(BF40*BO40,"") -> 165.6 | CU40: =SUM(SUMIF($AZ$8:$BF$8, {"NON";"NEUT"}, AZ40:BF40))/config!$AC$16 -> 5.6 | CV40: =AY40 -> 0.30208333 | CY40: =SUM(C44*$CY$108, C151*$CY$109, C258*$CY$110, C365*$CY$111, C472*$CY$112, C579*$CY$113, C686*$CY$114)/config!$AC$16 -> 0.2 | CZ40: =SUM(SUM(D44:E44)*$CY$108, SUM(D151:E151)*$CY$109, SUM(D258:E258)*$CY$110, SUM(D365:E365)*$CY$111, SUM(D472:E472)*$CY$112, SUM(D579:E579)*$CY$113, SUM(D686:E686)*$CY$114)/config!$AC$16 -> 4.6 | DA40: =SUM(SUM(F44:G44)*$CY$108, SUM(F151:G151)*$CY$109, SUM(F258:G258)*$CY$110, SUM(F365:G365)*$CY$111, SUM(F472:G472)*$CY$112, SUM(F579:G579)*$CY$113, SUM(F686:G686)*$CY$114)/config!$AC$16 -> 0.8 | DB40: =SUM(H44*$CY$108, H151*$CY$109, H258*$CY$110, H365*$CY$111, H472*$CY$112, H579*$CY$113, H686*$CY$114)/config!$AC$16 -> 0 | DC40: =SUM(SUM(I44:L44)*$CY$108, SUM(I151:L151)*$CY$109, SUM(I258:L258)*$CY$110, SUM(I365:L365)*$CY$111, SUM(I472:L472)*$CY$112, SUM(I579:L579)*$CY$113, SUM(I686:L686)*$CY$114)/config!$AC$16 -> 0 | DF40: =IFERROR((CD40/AZ40)*100, "") -> 12.5 | DG40: =IFERROR((CE40/BA40)*100, "") -> 0 | DH40: =IFERROR((CF40/BB40)*100, "") -> 28.571429 | DI40: =IFERROR((CG40/BC40)*100, "") -> 0 | DJ40: =IFERROR((CH40/BD40)*100, "") -> 33.333333 | DK40: =IFERROR((CI40/BE40)*100, "") -> 0 | DL40: =IFERROR((CJ40/BF40)*100, "") -> 33.333333 | DN40: =AG44 -> 1 | DO40: =AG151 -> 0 | DP40: =AG258 -> 0 | DQ40: =AG365 -> 0 | DR40: =AG472 -> 0 | DS40: =AG579 -> 0 | DT40: =AG686 -> 1 | DV40: =CD40-DN40 -> 0 | DW40: =CE40-DO40 -> 0 | DX40: =CF40-DP40 -> 2 | DY40: =CG40-DQ40 -> 0 | DZ40: =CH40-DR40 -> 1 | EA40: =CI40-DS40 -> 0 | EB40: =CJ40-DT40 -> 1
A41: 0630 | B41: 4 | C41: 0 | D41: 4 | E41: 0 | F41: 0 | G41: 0 | H41: 0 | I41: 0 | J41: 0 | K41: 0 | L41: 0 | N41: 0630 | O41: 0 | P41: 0 | Q41: 1 | R41: 0 | S41: 1 | T41: 2 | U41: 0 | V41: 0 | W41: 0 | X41: 0 | Y41: 0 | Z41: 0 | AA41: 0 | AB41: 0 | AC41: 27.1 | AE41: 2 | AF41: 50 | AG41: 0 | AH41: 0 | AI41: 0 | AJ41: 0 | AP41: =SUM(F45,F152,F259,F366,F473,F580,F687) -> 2 | AR41: =AR40+TIME(0,15,0) -> 0.3125 | AS41: =SUM(C45,C152,C259,C366,C473,C580,C687)/config!$AC$13 -> 0.14285714 | AT41: =SUM(D45:E45,D152:E152,D259:E259,D366:E366,D473:E473,D580:E580,D687:E687)/config!$AC$13 -> 7.2857143 | AU41: =SUM(F45:G45,F152:G152,F259:G259,F366:G366,F473:G473,F580:G580,F687:G687)/config!$AC$13 -> 0.28571429 | AV41: =SUM(H45,H152,H259,H366,H473,H580,H687)/config!$AC$13 -> 0 | AW41: =SUM(I45:L45,I152:L152,I259:L259,I366:L366,I473:L473,I580:L580,I687:L687)/config!$AC$13 -> 0 | AY41: =AY40+TIME(0,15,0) -> 0.3125 | AZ41: =B45 -> 10 | BA41: =B152 -> 17 | BB41: =B259 -> 10 | BC41: =B366 -> 7 | BD41: =B473 -> 1 | BE41: =B580 -> 1 | BF41: =B687 -> 8 | BH41: =AY41 -> 0.3125 | BI41: =AC45 -> 26 | BJ41: =AC152 -> 25.2 | BK41: =AC259 -> 28.4 | BL41: =AC366 -> 29.3 | BM41: =AC473 -> 27.7 | BN41: =AC580 -> 27.5 | BO41: =AC687 -> 29.1 | BQ41: =BH41 -> 0.3125 | BR41: =AD45 | BS41: =AD152 -> 29.9 | BT41: =AD259 | BU41: =AD366 | BV41: =AD473 | BW41: =AD580 | BX41: =AD687 | BZ41: =IF(SUM(BI41:BO41)>0,SUM(BI41:BO41) / COUNTIF(BI41:BO41, ">0"),NA()) -> 27.6 | CA41: =IFERROR(SUM(BR41:BX41) / COUNTIF(BR41:BX41, ">0"), NA()) -> 29.9 | CB41: =CB40 -> 30 | CD41: =AE45 -> 3 | CE41: =AE152 -> 2 | CF41: =AE259 -> 6 | CG41: =AE366 -> 3 | CH41: =AE473 -> 0 | CI41: =AE580 -> 0 | CJ41: =AE687 -> 3 | CK41: =IFERROR((SUM(CD41:CJ41)/SUM(AZ41:BF41)) * 100, "") -> 31.481481 | CM41: =IFERROR(AZ41*BI41,"") -> 260 | CN41: =IFERROR(BA41*BJ41,"") -> 428.4 | CO41: =IFERROR(BB41*BK41,"") -> 284 | CP41: =IFERROR(BC41*BL41,"") -> 205.1 | CQ41: =IFERROR(BD41*BM41,"") -> 27.7 | CR41: =IFERROR(BE41*BN41,"") -> 27.5 | CS41: =IFERROR(BF41*BO41,"") -> 232.8 | CU41: =SUM(SUMIF($AZ$8:$BF$8, {"NON";"NEUT"}, AZ41:BF41))/config!$AC$16 -> 10.4 | CV41: =AY41 -> 0.3125 | CY41: =SUM(C45*$CY$108, C152*$CY$109, C259*$CY$110, C366*$CY$111, C473*$CY$112, C580*$CY$113, C687*$CY$114)/config!$AC$16 -> 0.2 | CZ41: =SUM(SUM(D45:E45)*$CY$108, SUM(D152:E152)*$CY$109, SUM(D259:E259)*$CY$110, SUM(D366:E366)*$CY$111, SUM(D473:E473)*$CY$112, SUM(D580:E580)*$CY$113, SUM(D687:E687)*$CY$114)/config!$AC$16 -> 9.8 | DA41: =SUM(SUM(F45:G45)*$CY$108, SUM(F152:G152)*$CY$109, SUM(F259:G259)*$CY$110, SUM(F366:G366)*$CY$111, SUM(F473:G473)*$CY$112, SUM(F580:G580)*$CY$113, SUM(F687:G687)*$CY$114)/config!$AC$16 -> 0.4 | DB41: =SUM(H45*$CY$108, H152*$CY$109, H259*$CY$110, H366*$CY$111, H473*$CY$112, H580*$CY$113, H687*$CY$114)/config!$AC$16 -> 0 | DC41: =SUM(SUM(I45:L45)*$CY$108, SUM(I152:L152)*$CY$109, SUM(I259:L259)*$CY$110, SUM(I366:L366)*$CY$111, SUM(I473:L473)*$CY$112, SUM(I580:L580)*$CY$113, SUM(I687:L687)*$CY$114)/config!$AC$16 -> 0 | DF41: =IFERROR((CD41/AZ41)*100, "") -> 30 | DG41: =IFERROR((CE41/BA41)*100, "") -> 11.764706 | DH41: =IFERROR((CF41/BB41)*100, "") -> 60 | DI41: =IFERROR((CG41/BC41)*100, "") -> 42.857143 | DJ41: =IFERROR((CH41/BD41)*100, "") -> 0 | DK41: =IFERROR((CI41/BE41)*100, "") -> 0 | DL41: =IFERROR((CJ41/BF41)*100, "") -> 37.5 | DN41: =AG45 -> 0 | DO41: =AG152 -> 0 | DP41: =AG259 -> 0 | DQ41: =AG366 -> 1 | DR41: =AG473 -> 0 | DS41: =AG580 -> 0 | DT41: =AG687 -> 0 | DV41: =CD41-DN41 -> 3 | DW41: =CE41-DO41 -> 2 | DX41: =CF41-DP41 -> 6 | DY41: =CG41-DQ41 -> 2 | DZ41: =CH41-DR41 -> 0 | EA41: =CI41-DS41 -> 0 | EB41: =CJ41-DT41 -> 3
A42: 0645 | B42: 8 | C42: 0 | D42: 7 | E42: 0 | F42: 1 | G42: 0 | H42: 0 | I42: 0 | J42: 0 | K42: 0 | L42: 0 | N42: 0645 | O42: 0 | P42: 1 | Q42: 1 | R42: 4 | S42: 2 | T42: 0 | U42: 0 | V42: 0 | W42: 0 | X42: 0 | Y42: 0 | Z42: 0 | AA42: 0 | AB42: 0 | AC42: 22.4 | AE42: 0 | AF42: 0 | AG42: 0 | AH42: 0 | AI42: 0 | AJ42: 0 | AP42: =SUM(F46,F153,F260,F367,F474,F581,F688) -> 1 | AR42: =AR41+TIME(0,15,0) -> 0.32291667 | AS42: =SUM(C46,C153,C260,C367,C474,C581,C688)/config!$AC$13 -> 0.28571429 | AT42: =SUM(D46:E46,D153:E153,D260:E260,D367:E367,D474:E474,D581:E581,D688:E688)/config!$AC$13 -> 8.1428571 | AU42: =SUM(F46:G46,F153:G153,F260:G260,F367:G367,F474:G474,F581:G581,F688:G688)/config!$AC$13 -> 0.14285714 | AV42: =SUM(H46,H153,H260,H367,H474,H581,H688)/config!$AC$13 -> 0 | AW42: =SUM(I46:L46,I153:L153,I260:L260,I367:L367,I474:L474,I581:L581,I688:L688)/config!$AC$13 -> 0 | AY42: =AY41+TIME(0,15,0) -> 0.32291667 | AZ42: =B46 -> 8 | BA42: =B153 -> 11 | BB42: =B260 -> 10 | BC42: =B367 -> 8 | BD42: =B474 -> 4 | BE42: =B581 -> 6 | BF42: =B688 -> 13 | BH42: =AY42 -> 0.32291667 | BI42: =AC46 -> 28.1 | BJ42: =AC153 -> 25.6 | BK42: =AC260 -> 27.8 | BL42: =AC367 -> 24.9 | BM42: =AC474 -> 29.7 | BN42: =AC581 -> 24.5 | BO42: =AC688 -> 26.8 | BQ42: =BH42 -> 0.32291667 | BR42: =AD46 | BS42: =AD153 -> 31.4 | BT42: =AD260 | BU42: =AD367 | BV42: =AD474 | BW42: =AD581 | BX42: =AD688 -> 32.4 | BZ42: =IF(SUM(BI42:BO42)>0,SUM(BI42:BO42) / COUNTIF(BI42:BO42, ">0"),NA()) -> 26.771429 | CA42: =IFERROR(SUM(BR42:BX42) / COUNTIF(BR42:BX42, ">0"), NA()) -> 31.9 | CB42: =CB41 -> 30 | CD42: =AE46 -> 2 | CE42: =AE153 -> 2 | CF42: =AE260 -> 3 | CG42: =AE367 -> 2 | CH42: =AE474 -> 2 | CI42: =AE581 -> 1 | CJ42: =AE688 -> 3 | CK42: =IFERROR((SUM(CD42:CJ42)/SUM(AZ42:BF42)) * 100, "") -> 25 | CM42: =IFERROR(AZ42*BI42,"") -> 224.8 | CN42: =IFERROR(BA42*BJ42,"") -> 281.6 | CO42: =IFERROR(BB42*BK42,"") -> 278 | CP42: =IFERROR(BC42*BL42,"") -> 199.2 | CQ42: =IFERROR(BD42*BM42,"") -> 118.8 | CR42: =IFERROR(BE42*BN42,"") -> 147 | CS42: =IFERROR(BF42*BO42,"") -> 348.4 | CU42: =SUM(SUMIF($AZ$8:$BF$8, {"NON";"NEUT"}, AZ42:BF42))/config!$AC$16 -> 10 | CV42: =AY42 -> 0.32291667 | CY42: =SUM(C46*$CY$108, C153*$CY$109, C260*$CY$110, C367*$CY$111, C474*$CY$112, C581*$CY$113, C688*$CY$114)/config!$AC$16 -> 0.2 | CZ42: =SUM(SUM(D46:E46)*$CY$108, SUM(D153:E153)*$CY$109, SUM(D260:E260)*$CY$110, SUM(D367:E367)*$CY$111, SUM(D474:E474)*$CY$112, SUM(D581:E581)*$CY$113, SUM(D688:E688)*$CY$114)/config!$AC$16 -> 9.8 | DA42: =SUM(SUM(F46:G46)*$CY$108, SUM(F153:G153)*$CY$109, SUM(F260:G260)*$CY$110, SUM(F367:G367)*$CY$111, SUM(F474:G474)*$CY$112, SUM(F581:G581)*$CY$113, SUM(F688:G688)*$CY$114)/config!$AC$16 -> 0 | DB42: =SUM(H46*$CY$108, H153*$CY$109, H260*$CY$110, H367*$CY$111, H474*$CY$112, H581*$CY$113, H688*$CY$114)/config!$AC$16 -> 0 | DC42: =SUM(SUM(I46:L46)*$CY$108, SUM(I153:L153)*$CY$109, SUM(I260:L260)*$CY$110, SUM(I367:L367)*$CY$111, SUM(I474:L474)*$CY$112, SUM(I581:L581)*$CY$113, SUM(I688:L688)*$CY$114)/config!$AC$16 -> 0 | DF42: =IFERROR((CD42/AZ42)*100, "") -> 25 | DG42: =IFERROR((CE42/BA42)*100, "") -> 18.181818 | DH42: =IFERROR((CF42/BB42)*100, "") -> 30 | DI42: =IFERROR((CG42/BC42)*100, "") -> 25 | DJ42: =IFERROR((CH42/BD42)*100, "") -> 50 | DK42: =IFERROR((CI42/BE42)*100, "") -> 16.666667 | DL42: =IFERROR((CJ42/BF42)*100, "") -> 23.076923 | DN42: =AG46 -> 1 | DO42: =AG153 -> 0 | DP42: =AG260 -> 1 | DQ42: =AG367 -> 1 | DR42: =AG474 -> 0 | DS42: =AG581 -> 0 | DT42: =AG688 -> 1 | DV42: =CD42-DN42 -> 1 | DW42: =CE42-DO42 -> 2 | DX42: =CF42-DP42 -> 2 | DY42: =CG42-DQ42 -> 1 | DZ42: =CH42-DR42 -> 2 | EA42: =CI42-DS42 -> 1 | EB42: =CJ42-DT42 -> 2
A43: 0700 | B43: 7 | C43: 0 | D43: 6 | E43: 0 | F43: 1 | G43: 0 | H43: 0 | I43: 0 | J43: 0 | K43: 0 | L43: 0 | N43: 0700 | O43: 0 | P43: 0 | Q43: 0 | R43: 2 | S43: 3 | T43: 2 | U43: 0 | V43: 0 | W43: 0 | X43: 0 | Y43: 0 | Z43: 0 | AA43: 0 | AB43: 0 | AC43: 28 | AE43: 2 | AF43: 28.571429 | AG43: 0 | AH43: 0 | AI43: 0 | AJ43: 0 | AP43: =SUM(F47,F154,F261,F368,F475,F582,F689) -> 3 | AR43: =AR42+TIME(0,15,0) -> 0.33333333 | AS43: =SUM(C47,C154,C261,C368,C475,C582,C689)/config!$AC$13 -> 0.14285714 | AT43: =SUM(D47:E47,D154:E154,D261:E261,D368:E368,D475:E475,D582:E582,D689:E689)/config!$AC$13 -> 5.8571429 | AU43: =SUM(F47:G47,F154:G154,F261:G261,F368:G368,F475:G475,F582:G582,F689:G689)/config!$AC$13 -> 0.42857143 | AV43: =SUM(H47,H154,H261,H368,H475,H582,H689)/config!$AC$13 -> 0 | AW43: =SUM(I47:L47,I154:L154,I261:L261,I368:L368,I475:L475,I582:L582,I689:L689)/config!$AC$13 -> 0 | AY43: =AY42+TIME(0,15,0) -> 0.33333333 | AZ43: =B47 -> 10 | BA43: =B154 -> 9 | BB43: =B261 -> 7 | BC43: =B368 -> 7 | BD43: =B475 -> 5 | BE43: =B582 -> 0 | BF43: =B689 -> 7 | BH43: =AY43 -> 0.33333333 | BI43: =AC47 -> 25.4 | BJ43: =AC154 -> 25 | BK43: =AC261 -> 24.8 | BL43: =AC368 -> 28.7 | BM43: =AC475 -> 29.5 | BN43: =AC582 | BO43: =AC689 -> 29 | BQ43: =BH43 -> 0.33333333 | BR43: =AD47 | BS43: =AD154 | BT43: =AD261 | BU43: =AD368 | BV43: =AD475 | BW43: =AD582 | BX43: =AD689 | BZ43: =IF(SUM(BI43:BO43)>0,SUM(BI43:BO43) / COUNTIF(BI43:BO43, ">0"),NA()) -> 27.066667 | CA43: =IFERROR(SUM(BR43:BX43) / COUNTIF(BR43:BX43, ">0"), NA()) -> #N/A | CB43: =CB42 -> 30 | CD43: =AE47 -> 4 | CE43: =AE154 -> 0 | CF43: =AE261 -> 2 | CG43: =AE368 -> 2 | CH43: =AE475 -> 2 | CI43: =AE582 -> 0 | CJ43: =AE689 -> 2 | CK43: =IFERROR((SUM(CD43:CJ43)/SUM(AZ43:BF43)) * 100, "") -> 26.666667 | CM43: =IFERROR(AZ43*BI43,"") -> 254 | CN43: =IFERROR(BA43*BJ43,"") -> 225 | CO43: =IFERROR(BB43*BK43,"") -> 173.6 | CP43: =IFERROR(BC43*BL43,"") -> 200.9 | CQ43: =IFERROR(BD43*BM43,"") -> 147.5 | CR43: =IFERROR(BE43*BN43,"") | CS43: =IFERROR(BF43*BO43,"") -> 203 | CU43: =SUM(SUMIF($AZ$8:$BF$8, {"NON";"NEUT"}, AZ43:BF43))/config!$AC$16 -> 8 | CV43: =AY43 -> 0.33333333 | CY43: =SUM(C47*$CY$108, C154*$CY$109, C261*$CY$110, C368*$CY$111, C475*$CY$112, C582*$CY$113, C689*$CY$114)/config!$AC$16 -> 0 | CZ43: =SUM(SUM(D47:E47)*$CY$108, SUM(D154:E154)*$CY$109, SUM(D261:E261)*$CY$110, SUM(D368:E368)*$CY$111, SUM(D475:E475)*$CY$112, SUM(D582:E582)*$CY$113, SUM(D689:E689)*$CY$114)/config!$AC$16 -> 7.6 | DA43: =SUM(SUM(F47:G47)*$CY$108, SUM(F154:G154)*$CY$109, SUM(F261:G261)*$CY$110, SUM(F368:G368)*$CY$111, SUM(F475:G475)*$CY$112, SUM(F582:G582)*$CY$113, SUM(F689:G689)*$CY$114)/config!$AC$16 -> 0.4 | DB43: =SUM(H47*$CY$108, H154*$CY$109, H261*$CY$110, H368*$CY$111, H475*$CY$112, H582*$CY$113, H689*$CY$114)/config!$AC$16 -> 0 | DC43: =SUM(SUM(I47:L47)*$CY$108, SUM(I154:L154)*$CY$109, SUM(I261:L261)*$CY$110, SUM(I368:L368)*$CY$111, SUM(I475:L475)*$CY$112, SUM(I582:L582)*$CY$113, SUM(I689:L689)*$CY$114)/config!$AC$16 -> 0 | DF43: =IFERROR((CD43/AZ43)*100, "") -> 40 | DG43: =IFERROR((CE43/BA43)*100, "") -> 0 | DH43: =IFERROR((CF43/BB43)*100, "") -> 28.571429 | DI43: =IFERROR((CG43/BC43)*100, "") -> 28.571429 | DJ43: =IFERROR((CH43/BD43)*100, "") -> 40 | DK43: =IFERROR((CI43/BE43)*100, "") | DL43: =IFERROR((CJ43/BF43)*100, "") -> 28.571429 | DN43: =AG47 -> 1 | DO43: =AG154 -> 0 | DP43: =AG261 -> 0 | DQ43: =AG368 -> 0 | DR43: =AG475 -> 1 | DS43: =AG582 -> 0 | DT43: =AG689 -> 0 | DV43: =CD43-DN43 -> 3 | DW43: =CE43-DO43 -> 0 | DX43: =CF43-DP43 -> 2 | DY43: =CG43-DQ43 -> 2 | DZ43: =CH43-DR43 -> 1 | EA43: =CI43-DS43 -> 0 | EB43: =CJ43-DT43 -> 2
A44: 0715 | B44: 8 | C44: 1 | D44: 7 | E44: 0 | F44: 0 | G44: 0 | H44: 0 | I44: 0 | J44: 0 | K44: 0 | L44: 0 | N44: 0715 | O44: 0 | P44: 0 | Q44: 1 | R44: 5 | S44: 1 | T44: 0 | U44: 0 | V44: 1 | W44: 0 | X44: 0 | Y44: 0 | Z44: 0 | AA44: 0 | AB44: 0 | AC44: 24.9 | AE44: 1 | AF44: 12.5 | AG44: 1 | AH44: 12.5 | AI44: 0 | AJ44: 0 | AP44: =SUM(F48,F155,F262,F369,F476,F583,F690) -> 1 | AR44: =AR43+TIME(0,15,0) -> 0.34375 | AS44: =SUM(C48,C155,C262,C369,C476,C583,C690)/config!$AC$13 -> 0.42857143 | AT44: =SUM(D48:E48,D155:E155,D262:E262,D369:E369,D476:E476,D583:E583,D690:E690)/config!$AC$13 -> 4.7142857 | AU44: =SUM(F48:G48,F155:G155,F262:G262,F369:G369,F476:G476,F583:G583,F690:G690)/config!$AC$13 -> 0.14285714 | AV44: =SUM(H48,H155,H262,H369,H476,H583,H690)/config!$AC$13 -> 0 | AW44: =SUM(I48:L48,I155:L155,I262:L262,I369:L369,I476:L476,I583:L583,I690:L690)/config!$AC$13 -> 0 | AY44: =AY43+TIME(0,15,0) -> 0.34375 | AZ44: =B48 -> 7 | BA44: =B155 -> 8 | BB44: =B262 -> 9 | BC44: =B369 -> 4 | BD44: =B476 -> 4 | BE44: =B583 -> 1 | BF44: =B690 -> 4 | BH44: =AY44 -> 0.34375 | BI44: =AC48 -> 26.6 | BJ44: =AC155 -> 24.1 | BK44: =AC262 -> 27.6 | BL44: =AC369 -> 24.5 | BM44: =AC476 -> 24.2 | BN44: =AC583 -> 33.5 | BO44: =AC690 -> 26.1 | BQ44: =BH44 -> 0.34375 | BR44: =AD48 | BS44: =AD155 | BT44: =AD262 | BU44: =AD369 | BV44: =AD476 | BW44: =AD583 | BX44: =AD690 | BZ44: =IF(SUM(BI44:BO44)>0,SUM(BI44:BO44) / COUNTIF(BI44:BO44, ">0"),NA()) -> 26.657143 | CA44: =IFERROR(SUM(BR44:BX44) / COUNTIF(BR44:BX44, ">0"), NA()) -> #N/A | CB44: =CB43 -> 30 | CD44: =AE48 -> 0 | CE44: =AE155 -> 0 | CF44: =AE262 -> 1 | CG44: =AE369 -> 0 | CH44: =AE476 -> 0 | CI44: =AE583 -> 1 | CJ44: =AE690 -> 1 | CK44: =IFERROR((SUM(CD44:CJ44)/SUM(AZ44:BF44)) * 100, "") -> 8.1081081 | CM44: =IFERROR(AZ44*BI44,"") -> 186.2 | CN44: =IFERROR(BA44*BJ44,"") -> 192.8 | CO44: =IFERROR(BB44*BK44,"") -> 248.4 | CP44: =IFERROR(BC44*BL44,"") -> 98 | CQ44: =IFERROR(BD44*BM44,"") -> 96.8 | CR44: =IFERROR(BE44*BN44,"") -> 33.5 | CS44: =IFERROR(BF44*BO44,"") -> 104.4 | CU44: =SUM(SUMIF($AZ$8:$BF$8, {"NON";"NEUT"}, AZ44:BF44))/config!$AC$16 -> 6.4 | CV44: =AY44 -> 0.34375 | CY44: =SUM(C48*$CY$108, C155*$CY$109, C262*$CY$110, C369*$CY$111, C476*$CY$112, C583*$CY$113, C690*$CY$114)/config!$AC$16 -> 0.6 | CZ44: =SUM(SUM(D48:E48)*$CY$108, SUM(D155:E155)*$CY$109, SUM(D262:E262)*$CY$110, SUM(D369:E369)*$CY$111, SUM(D476:E476)*$CY$112, SUM(D583:E583)*$CY$113, SUM(D690:E690)*$CY$114)/config!$AC$16 -> 5.6 | DA44: =SUM(SUM(F48:G48)*$CY$108, SUM(F155:G155)*$CY$109, SUM(F262:G262)*$CY$110, SUM(F369:G369)*$CY$111, SUM(F476:G476)*$CY$112, SUM(F583:G583)*$CY$113, SUM(F690:G690)*$CY$114)/config!$AC$16 -> 0.2 | DB44: =SUM(H48*$CY$108, H155*$CY$109, H262*$CY$110, H369*$CY$111, H476*$CY$112, H583*$CY$113, H690*$CY$114)/config!$AC$16 -> 0 | DC44: =SUM(SUM(I48:L48)*$CY$108, SUM(I155:L155)*$CY$109, SUM(I262:L262)*$CY$110, SUM(I369:L369)*$CY$111, SUM(I476:L476)*$CY$112, SUM(I583:L583)*$CY$113, SUM(I690:L690)*$CY$114)/config!$AC$16 -> 0 | DF44: =IFERROR((CD44/AZ44)*100, "") -> 0 | DG44: =IFERROR((CE44/BA44)*100, "") -> 0 | DH44: =IFERROR((CF44/BB44)*100, "") -> 11.111111 | DI44: =IFERROR((CG44/BC44)*100, "") -> 0 | DJ44: =IFERROR((CH44/BD44)*100, "") -> 0 | DK44: =IFERROR((CI44/BE44)*100, "") -> 100 | DL44: =IFERROR((CJ44/BF44)*100, "") -> 25 | DN44: =AG48 -> 0 | DO44: =AG155 -> 0 | DP44: =AG262 -> 0 | DQ44: =AG369 -> 0 | DR44: =AG476 -> 0 | DS44: =AG583 -> 0 | DT44: =AG690 -> 0 | DV44: =CD44-DN44 -> 0 | DW44: =CE44-DO44 -> 0 | DX44: =CF44-DP44 -> 1 | DY44: =CG44-DQ44 -> 0 | DZ44: =CH44-DR44 -> 0 | EA44: =CI44-DS44 -> 1 | EB44: =CJ44-DT44 -> 1
A45: 0730 | B45: 10 | C45: 0 | D45: 10 | E45: 0 | F45: 0 | G45: 0 | H45: 0 | I45: 0 | J45: 0 | K45: 0 | L45: 0 | N45: 0730 | O45: 0 | P45: 0 | Q45: 2 | R45: 2 | S45: 3 | T45: 3 | U45: 0 | V45: 0 | W45: 0 | X45: 0 | Y45: 0 | Z45: 0 | AA45: 0 | AB45: 0 | AC45: 26 | AE45: 3 | AF45: 30 | AG45: 0 | AH45: 0 | AI45: 0 | AJ45: 0 | AP45: =SUM(F49,F156,F263,F370,F477,F584,F691) -> 8 | AR45: =AR44+TIME(0,15,0) -> 0.35416667 | AS45: =SUM(C49,C156,C263,C370,C477,C584,C691)/config!$AC$13 -> 0.28571429 | AT45: =SUM(D49:E49,D156:E156,D263:E263,D370:E370,D477:E477,D584:E584,D691:E691)/config!$AC$13 -> 7.2857143 | AU45: =SUM(F49:G49,F156:G156,F263:G263,F370:G370,F477:G477,F584:G584,F691:G691)/config!$AC$13 -> 1.1428571 | AV45: =SUM(H49,H156,H263,H370,H477,H584,H691)/config!$AC$13 -> 0 | AW45: =SUM(I49:L49,I156:L156,I263:L263,I370:L370,I477:L477,I584:L584,I691:L691)/config!$AC$13 -> 0 | AY45: =AY44+TIME(0,15,0) -> 0.35416667 | AZ45: =B49 -> 14 | BA45: =B156 -> 12 | BB45: =B263 -> 11 | BC45: =B370 -> 8 | BD45: =B477 -> 4 | BE45: =B584 -> 3 | BF45: =B691 -> 9 | BH45: =AY45 -> 0.35416667 | BI45: =AC49 -> 22.3 | BJ45: =AC156 -> 26.4 | BK45: =AC263 -> 25.6 | BL45: =AC370 -> 24.5 | BM45: =AC477 -> 23.9 | BN45: =AC584 -> 23.6 | BO45: =AC691 -> 24.6 | BQ45: =BH45 -> 0.35416667 | BR45: =AD49 -> 25.5 | BS45: =AD156 -> 32.3 | BT45: =AD263 -> 29.6 | BU45: =AD370 | BV45: =AD477 | BW45: =AD584 | BX45: =AD691 | BZ45: =IF(SUM(BI45:BO45)>0,SUM(BI45:BO45) / COUNTIF(BI45:BO45, ">0"),NA()) -> 24.414286 | CA45: =IFERROR(SUM(BR45:BX45) / COUNTIF(BR45:BX45, ">0"), NA()) -> 29.133333 | CB45: =CB44 -> 30 | CD45: =AE49 -> 1 | CE45: =AE156 -> 2 | CF45: =AE263 -> 1 | CG45: =AE370 -> 0 | CH45: =AE477 -> 0 | CI45: =AE584 -> 0 | CJ45: =AE691 -> 2 | CK45: =IFERROR((SUM(CD45:CJ45)/SUM(AZ45:BF45)) * 100, "") -> 9.8360656 | CM45: =IFERROR(AZ45*BI45,"") -> 312.2 | CN45: =IFERROR(BA45*BJ45,"") -> 316.8 | CO45: =IFERROR(BB45*BK45,"") -> 281.6 | CP45: =IFERROR(BC45*BL45,"") -> 196 | CQ45: =IFERROR(BD45*BM45,"") -> 95.6 | CR45: =IFERROR(BE45*BN45,"") -> 70.8 | CS45: =IFERROR(BF45*BO45,"") -> 221.4 | CU45: =SUM(SUMIF($AZ$8:$BF$8, {"NON";"NEUT"}, AZ45:BF45))/config!$AC$16 -> 10.8 | CV45: =AY45 -> 0.35416667 | CY45: =SUM(C49*$CY$108, C156*$CY$109, C263*$CY$110, C370*$CY$111, C477*$CY$112, C584*$CY$113, C691*$CY$114)/config!$AC$16 -> 0.4 | CZ45: =SUM(SUM(D49:E49)*$CY$108, SUM(D156:E156)*$CY$109, SUM(D263:E263)*$CY$110, SUM(D370:E370)*$CY$111, SUM(D477:E477)*$CY$112, SUM(D584:E584)*$CY$113, SUM(D691:E691)*$CY$114)/config!$AC$16 -> 8.8 | DA45: =SUM(SUM(F49:G49)*$CY$108, SUM(F156:G156)*$CY$109, SUM(F263:G263)*$CY$110, SUM(F370:G370)*$CY$111, SUM(F477:G477)*$CY$112, SUM(F584:G584)*$CY$113, SUM(F691:G691)*$CY$114)/config!$AC$16 -> 1.6 | DB45: =SUM(H49*$CY$108, H156*$CY$109, H263*$CY$110, H370*$CY$111, H477*$CY$112, H584*$CY$113, H691*$CY$114)/config!$AC$16 -> 0 | DC45: =SUM(SUM(I49:L49)*$CY$108, SUM(I156:L156)*$CY$109, SUM(I263:L263)*$CY$110, SUM(I370:L370)*$CY$111, SUM(I477:L477)*$CY$112, SUM(I584:L584)*$CY$113, SUM(I691:L691)*$CY$114)/config!$AC$16 -> 0 | DF45: =IFERROR((CD45/AZ45)*100, "") -> 7.1428571 | DG45: =IFERROR((CE45/BA45)*100, "") -> 16.666667 | DH45: =IFERROR((CF45/BB45)*100, "") -> 9.0909091 | DI45: =IFERROR((CG45/BC45)*100, "") -> 0 | DJ45: =IFERROR((CH45/BD45)*100, "") -> 0 | DK45: =IFERROR((CI45/BE45)*100, "") -> 0 | DL45: =IFERROR((CJ45/BF45)*100, "") -> 22.222222 | DN45: =AG49 -> 0 | DO45: =AG156 -> 1 | DP45: =AG263 -> 0 | DQ45: =AG370 -> 0 | DR45: =AG477 -> 0 | DS45: =AG584 -> 0 | DT45: =AG691 -> 1 | DV45: =CD45-DN45 -> 1 | DW45: =CE45-DO45 -> 1 | DX45: =CF45-DP45 -> 1 | DY45: =CG45-DQ45 -> 0 | DZ45: =CH45-DR45 -> 0 | EA45: =CI45-DS45 -> 0 | EB45: =CJ45-DT45 -> 1
A46: 0745 | B46: 8 | C46: 0 | D46: 8 | E46: 0 | F46: 0 | G46: 0 | H46: 0 | I46: 0 | J46: 0 | K46: 0 | L46: 0 | N46: 0745 | O46: 0 | P46: 0 | Q46: 0 | R46: 1 | S46: 5 | T46: 1 | U46: 1 | V46: 0 | W46: 0 | X46: 0 | Y46: 0 | Z46: 0 | AA46: 0 | AB46: 0 | AC46: 28.1 | AE46: 2 | AF46: 25 | AG46: 1 | AH46: 12.5 | AI46: 0 | AJ46: 0 | AP46: =SUM(F50,F157,F264,F371,F478,F585,F692) -> 5 | AR46: =AR45+TIME(0,15,0) -> 0.36458333 | AS46: =SUM(C50,C157,C264,C371,C478,C585,C692)/config!$AC$13 -> 0.28571429 | AT46: =SUM(D50:E50,D157:E157,D264:E264,D371:E371,D478:E478,D585:E585,D692:E692)/config!$AC$13 -> 5.5714286 | AU46: =SUM(F50:G50,F157:G157,F264:G264,F371:G371,F478:G478,F585:G585,F692:G692)/config!$AC$13 -> 0.71428571 | AV46: =SUM(H50,H157,H264,H371,H478,H585,H692)/config!$AC$13 -> 0 | AW46: =SUM(I50:L50,I157:L157,I264:L264,I371:L371,I478:L478,I585:L585,I692:L692)/config!$AC$13 -> 0 | AY46: =AY45+TIME(0,15,0) -> 0.36458333 | AZ46: =B50 -> 7 | BA46: =B157 -> 10 | BB46: =B264 -> 12 | BC46: =B371 -> 3 | BD46: =B478 -> 6 | BE46: =B585 -> 1 | BF46: =B692 -> 7 | BH46: =AY46 -> 0.36458333 | BI46: =AC50 -> 22.4 | BJ46: =AC157 -> 26.8 | BK46: =AC264 -> 25.7 | BL46: =AC371 -> 17.2 | BM46: =AC478 -> 25.5 | BN46: =AC585 -> 21.7 | BO46: =AC692 -> 25.9 | BQ46: =BH46 -> 0.36458333 | BR46: =AD50 | BS46: =AD157 | BT46: =AD264 -> 30.4 | BU46: =AD371 | BV46: =AD478 | BW46: =AD585 | BX46: =AD692 | BZ46: =IF(SUM(BI46:BO46)>0,SUM(BI46:BO46) / COUNTIF(BI46:BO46, ">0"),NA()) -> 23.6 | CA46: =IFERROR(SUM(BR46:BX46) / COUNTIF(BR46:BX46, ">0"), NA()) -> 30.4 | CB46: =CB45 -> 30 | CD46: =AE50 -> 2 | CE46: =AE157 -> 3 | CF46: =AE264 -> 2 | CG46: =AE371 -> 0 | CH46: =AE478 -> 2 | CI46: =AE585 -> 0 | CJ46: =AE692 -> 0 | CK46: =IFERROR((SUM(CD46:CJ46)/SUM(AZ46:BF46)) * 100, "") -> 19.565217 | CM46: =IFERROR(AZ46*BI46,"") -> 156.8 | CN46: =IFERROR(BA46*BJ46,"") -> 268 | CO46: =IFERROR(BB46*BK46,"") -> 308.4 | CP46: =IFERROR(BC46*BL46,"") -> 51.6 | CQ46: =IFERROR(BD46*BM46,"") -> 153 | CR46: =IFERROR(BE46*BN46,"") -> 21.7 | CS46: =IFERROR(BF46*BO46,"") -> 181.3 | CU46: =SUM(SUMIF($AZ$8:$BF$8, {"NON";"NEUT"}, AZ46:BF46))/config!$AC$16 -> 7.8 | CV46: =AY46 -> 0.36458333 | CY46: =SUM(C50*$CY$108, C157*$CY$109, C264*$CY$110, C371*$CY$111, C478*$CY$112, C585*$CY$113, C692*$CY$114)/config!$AC$16 -> 0.2 | CZ46: =SUM(SUM(D50:E50)*$CY$108, SUM(D157:E157)*$CY$109, SUM(D264:E264)*$CY$110, SUM(D371:E371)*$CY$111, SUM(D478:E478)*$CY$112, SUM(D585:E585)*$CY$113, SUM(D692:E692)*$CY$114)/config!$AC$16 -> 6.8 | DA46: =SUM(SUM(F50:G50)*$CY$108, SUM(F157:G157)*$CY$109, SUM(F264:G264)*$CY$110, SUM(F371:G371)*$CY$111, SUM(F478:G478)*$CY$112, SUM(F585:G585)*$CY$113, SUM(F692:G692)*$CY$114)/config!$AC$16 -> 0.8 | DB46: =SUM(H50*$CY$108, H157*$CY$109, H264*$CY$110, H371*$CY$111, H478*$CY$112, H585*$CY$113, H692*$CY$114)/config!$AC$16 -> 0 | DC46: =SUM(SUM(I50:L50)*$CY$108, SUM(I157:L157)*$CY$109, SUM(I264:L264)*$CY$110, SUM(I371:L371)*$CY$111, SUM(I478:L478)*$CY$112, SUM(I585:L585)*$CY$113, SUM(I692:L692)*$CY$114)/config!$AC$16 -> 0 | DF46: =IFERROR((CD46/AZ46)*100, "") -> 28.571429 | DG46: =IFERROR((CE46/BA46)*100, "") -> 30 | DH46: =IFERROR((CF46/BB46)*100, "") -> 16.666667 | DI46: =IFERROR((CG46/BC46)*100, "") -> 0 | DJ46: =IFERROR((CH46/BD46)*100, "") -> 33.333333 | DK46: =IFERROR((CI46/BE46)*100, "") -> 0 | DL46: =IFERROR((CJ46/BF46)*100, "") -> 0 | DN46: =AG50 -> 0 | DO46: =AG157 -> 0 | DP46: =AG264 -> 0 | DQ46: =AG371 -> 0 | DR46: =AG478 -> 0 | DS46: =AG585 -> 0 | DT46: =AG692 -> 0 | DV46: =CD46-DN46 -> 2 | DW46: =CE46-DO46 -> 3 | DX46: =CF46-DP46 -> 2 | DY46: =CG46-DQ46 -> 0 | DZ46: =CH46-DR46 -> 2 | EA46: =CI46-DS46 -> 0 | EB46: =CJ46-DT46 -> 0
A47: 0800 | B47: 10 | C47: 0 | D47: 9 | E47: 0 | F47: 1 | G47: 0 | H47: 0 | I47: 0 | J47: 0 | K47: 0 | L47: 0 | N47: 0800 | O47: 1 | P47: 0 | Q47: 2 | R47: 1 | S47: 2 | T47: 3 | U47: 1 | V47: 0 | W47: 0 | X47: 0 | Y47: 0 | Z47: 0 | AA47: 0 | AB47: 0 | AC47: 25.4 | AE47: 4 | AF47: 40 | AG47: 1 | AH47: 10 | AI47: 0 | AJ47: 0 | AP47: =SUM(F51,F158,F265,F372,F479,F586,F693) -> 3 | AR47: =AR46+TIME(0,15,0) -> 0.375 | AS47: =SUM(C51,C158,C265,C372,C479,C586,C693)/config!$AC$13 -> 0.14285714 | AT47: =SUM(D51:E51,D158:E158,D265:E265,D372:E372,D479:E479,D586:E586,D693:E693)/config!$AC$13 -> 5.5714286 | AU47: =SUM(F51:G51,F158:G158,F265:G265,F372:G372,F479:G479,F586:G586,F693:G693)/config!$AC$13 -> 0.42857143 | AV47: =SUM(H51,H158,H265,H372,H479,H586,H693)/config!$AC$13 -> 0 | AW47: =SUM(I51:L51,I158:L158,I265:L265,I372:L372,I479:L479,I586:L586,I693:L693)/config!$AC$13 -> 0 | AY47: =AY46+TIME(0,15,0) -> 0.375 | AZ47: =B51 -> 6 | BA47: =B158 -> 4 | BB47: =B265 -> 5 | BC47: =B372 -> 10 | BD47: =B479 -> 5 | BE47: =B586 -> 8 | BF47: =B693 -> 5 | BH47: =AY47 -> 0.375 | BI47: =AC51 -> 30.5 | BJ47: =AC158 -> 23.8 | BK47: =AC265 -> 21.7 | BL47: =AC372 -> 28.1 | BM47: =AC479 -> 25.9 | BN47: =AC586 -> 16.6 | BO47: =AC693 -> 20.6 | BQ47: =BH47 -> 0.375 | BR47: =AD51 | BS47: =AD158 | BT47: =AD265 | BU47: =AD372 | BV47: =AD479 | BW47: =AD586 | BX47: =AD693 | BZ47: =IF(SUM(BI47:BO47)>0,SUM(BI47:BO47) / COUNTIF(BI47:BO47, ">0"),NA()) -> 23.885714 | CA47: =IFERROR(SUM(BR47:BX47) / COUNTIF(BR47:BX47, ">0"), NA()) -> #N/A | CB47: =CB46 -> 30 | CD47: =AE51 -> 2 | CE47: =AE158 -> 0 | CF47: =AE265 -> 0 | CG47: =AE372 -> 3 | CH47: =AE479 -> 1 | CI47: =AE586 -> 0 | CJ47: =AE693 -> 0 | CK47: =IFERROR((SUM(CD47:CJ47)/SUM(AZ47:BF47)) * 100, "") -> 13.953488 | CM47: =IFERROR(AZ47*BI47,"") -> 183 | CN47: =IFERROR(BA47*BJ47,"") -> 95.2 | CO47: =IFERROR(BB47*BK47,"") -> 108.5 | CP47: =IFERROR(BC47*BL47,"") -> 281 | CQ47: =IFERROR(BD47*BM47,"") -> 129.5 | CR47: =IFERROR(BE47*BN47,"") -> 132.8 | CS47: =IFERROR(BF47*BO47,"") -> 103 | CU47: =SUM(SUMIF($AZ$8:$BF$8, {"NON";"NEUT"}, AZ47:BF47))/config!$AC$16 -> 6 | CV47: =AY47 -> 0.375 | CY47: =SUM(C51*$CY$108, C158*$CY$109, C265*$CY$110, C372*$CY$111, C479*$CY$112, C586*$CY$113, C693*$CY$114)/config!$AC$16 -> 0 | CZ47: =SUM(SUM(D51:E51)*$CY$108, SUM(D158:E158)*$CY$109, SUM(D265:E265)*$CY$110, SUM(D372:E372)*$CY$111, SUM(D479:E479)*$CY$112, SUM(D586:E586)*$CY$113, SUM(D693:E693)*$CY$114)/config!$AC$16 -> 5.4 | DA47: =SUM(SUM(F51:G51)*$CY$108, SUM(F158:G158)*$CY$109, SUM(F265:G265)*$CY$110, SUM(F372:G372)*$CY$111, SUM(F479:G479)*$CY$112, SUM(F586:G586)*$CY$113, SUM(F693:G693)*$CY$114)/config!$AC$16 -> 0.6 | DB47: =SUM(H51*$CY$108, H158*$CY$109, H265*$CY$110, H372*$CY$111, H479*$CY$112, H586*$CY$113, H693*$CY$114)/config!$AC$16 -> 0 | DC47: =SUM(SUM(I51:L51)*$CY$108, SUM(I158:L158)*$CY$109, SUM(I265:L265)*$CY$110, SUM(I372:L372)*$CY$111, SUM(I479:L479)*$CY$112, SUM(I586:L586)*$CY$113, SUM(I693:L693)*$CY$114)/config!$AC$16 -> 0 | DF47: =IFERROR((CD47/AZ47)*100, "") -> 33.333333 | DG47: =IFERROR((CE47/BA47)*100, "") -> 0 | DH47: =IFERROR((CF47/BB47)*100, "") -> 0 | DI47: =IFERROR((CG47/BC47)*100, "") -> 30 | DJ47: =IFERROR((CH47/BD47)*100, "") -> 20 | DK47: =IFERROR((CI47/BE47)*100, "") -> 0 | DL47: =IFERROR((CJ47/BF47)*100, "") -> 0 | DN47: =AG51 -> 2 | DO47: =AG158 -> 0 | DP47: =AG265 -> 0 | DQ47: =AG372 -> 0 | DR47: =AG479 -> 0 | DS47: =AG586 -> 0 | DT47: =AG693 -> 0 | DV47: =CD47-DN47 -> 0 | DW47: =CE47-DO47 -> 0 | DX47: =CF47-DP47 -> 0 | DY47: =CG47-DQ47 -> 3 | DZ47: =CH47-DR47 -> 1 | EA47: =CI47-DS47 -> 0 | EB47: =CJ47-DT47 -> 0
A48: 0815 | B48: 7 | C48: 0 | D48: 7 | E48: 0 | F48: 0 | G48: 0 | H48: 0 | I48: 0 | J48: 0 | K48: 0 | L48: 0 | N48: 0815 | O48: 0 | P48: 0 | Q48: 0 | R48: 2 | S48: 5 | T48: 0 | U48: 0 | V48: 0 | W48: 0 | X48: 0 | Y48: 0 | Z48: 0 | AA48: 0 | AB48: 0 | AC48: 26.6 | AE48: 0 | AF48: 0 | AG48: 0 | AH48: 0 | AI48: 0 | AJ48: 0 | AP48: =SUM(F52,F159,F266,F373,F480,F587,F694) -> 2 | AR48: =AR47+TIME(0,15,0) -> 0.38541667 | AS48: =SUM(C52,C159,C266,C373,C480,C587,C694)/config!$AC$13 -> 0.57142857 | AT48: =SUM(D52:E52,D159:E159,D266:E266,D373:E373,D480:E480,D587:E587,D694:E694)/config!$AC$13 -> 6 | AU48: =SUM(F52:G52,F159:G159,F266:G266,F373:G373,F480:G480,F587:G587,F694:G694)/config!$AC$13 -> 0.42857143 | AV48: =SUM(H52,H159,H266,H373,H480,H587,H694)/config!$AC$13 -> 0.14285714 | AW48: =SUM(I52:L52,I159:L159,I266:L266,I373:L373,I480:L480,I587:L587,I694:L694)/config!$AC$13 -> 0 | AY48: =AY47+TIME(0,15,0) -> 0.38541667 | AZ48: =B52 -> 8 | BA48: =B159 -> 10 | BB48: =B266 -> 2 | BC48: =B373 -> 7 | BD48: =B480 -> 9 | BE48: =B587 -> 7 | BF48: =B694 -> 7 | BH48: =AY48 -> 0.38541667 | BI48: =AC52 -> 27.5 | BJ48: =AC159 -> 26.5 | BK48: =AC266 -> 21.9 | BL48: =AC373 -> 27.1 | BM48: =AC480 -> 22.8 | BN48: =AC587 -> 21.7 | BO48: =AC694 -> 25.5 | BQ48: =BH48 -> 0.38541667 | BR48: =AD52 | BS48: =AD159 | BT48: =AD266 | BU48: =AD373 | BV48: =AD480 | BW48: =AD587 | BX48: =AD694 | BZ48: =IF(SUM(BI48:BO48)>0,SUM(BI48:BO48) / COUNTIF(BI48:BO48, ">0"),NA()) -> 24.714286 | CA48: =IFERROR(SUM(BR48:BX48) / COUNTIF(BR48:BX48, ">0"), NA()) -> #N/A | CB48: =CB47 -> 30 | CD48: =AE52 -> 2 | CE48: =AE159 -> 3 | CF48: =AE266 -> 1 | CG48: =AE373 -> 1 | CH48: =AE480 -> 0 | CI48: =AE587 -> 0 | CJ48: =AE694 -> 2 | CK48: =IFERROR((SUM(CD48:CJ48)/SUM(AZ48:BF48)) * 100, "") -> 18 | CM48: =IFERROR(AZ48*BI48,"") -> 220 | CN48: =IFERROR(BA48*BJ48,"") -> 265 | CO48: =IFERROR(BB48*BK48,"") -> 43.8 | CP48: =IFERROR(BC48*BL48,"") -> 189.7 | CQ48: =IFERROR(BD48*BM48,"") -> 205.2 | CR48: =IFERROR(BE48*BN48,"") -> 151.9 | CS48: =IFERROR(BF48*BO48,"") -> 178.5 | CU48: =SUM(SUMIF($AZ$8:$BF$8, {"NON";"NEUT"}, AZ48:BF48))/config!$AC$16 -> 6.8 | CV48: =AY48 -> 0.38541667 | CY48: =SUM(C52*$CY$108, C159*$CY$109, C266*$CY$110, C373*$CY$111, C480*$CY$112, C587*$CY$113, C694*$CY$114)/config!$AC$16 -> 0.4 | CZ48: =SUM(SUM(D52:E52)*$CY$108, SUM(D159:E159)*$CY$109, SUM(D266:E266)*$CY$110, SUM(D373:E373)*$CY$111, SUM(D480:E480)*$CY$112, SUM(D587:E587)*$CY$113, SUM(D694:E694)*$CY$114)/config!$AC$16 -> 5.8 | DA48: =SUM(SUM(F52:G52)*$CY$108, SUM(F159:G159)*$CY$109, SUM(F266:G266)*$CY$110, SUM(F373:G373)*$CY$111, SUM(F480:G480)*$CY$112, SUM(F587:G587)*$CY$113, SUM(F694:G694)*$CY$114)/config!$AC$16 -> 0.4 | DB48: =SUM(H52*$CY$108, H159*$CY$109, H266*$CY$110, H373*$CY$111, H480*$CY$112, H587*$CY$113, H694*$CY$114)/config!$AC$16 -> 0.2 | DC48: =SUM(SUM(I52:L52)*$CY$108, SUM(I159:L159)*$CY$109, SUM(I266:L266)*$CY$110, SUM(I373:L373)*$CY$111, SUM(I480:L480)*$CY$112, SUM(I587:L587)*$CY$113, SUM(I694:L694)*$CY$114)/config!$AC$16 -> 0 | DF48: =IFERROR((CD48/AZ48)*100, "") -> 25 | DG48: =IFERROR((CE48/BA48)*100, "") -> 30 | DH48: =IFERROR((CF48/BB48)*100, "") -> 50 | DI48: =IFERROR((CG48/BC48)*100, "") -> 14.285714 | DJ48: =IFERROR((CH48/BD48)*100, "") -> 0 | DK48: =IFERROR((CI48/BE48)*100, "") -> 0 | DL48: =IFERROR((CJ48/BF48)*100, "") -> 28.571429 | DN48: =AG52 -> 0 | DO48: =AG159 -> 0 | DP48: =AG266 -> 0 | DQ48: =AG373 -> 0 | DR48: =AG480 -> 0 | DS48: =AG587 -> 0 | DT48: =AG694 -> 0 | DV48: =CD48-DN48 -> 2 | DW48: =CE48-DO48 -> 3 | DX48: =CF48-DP48 -> 1 | DY48: =CG48-DQ48 -> 1 | DZ48: =CH48-DR48 -> 0 | EA48: =CI48-DS48 -> 0 | EB48: =CJ48-DT48 -> 2
A49: 0830 | B49: 14 | C49: 0 | D49: 10 | E49: 0 | F49: 4 | G49: 0 | H49: 0 | I49: 0 | J49: 0 | K49: 0 | L49: 0 | N49: 0830 | O49: 0 | P49: 3 | Q49: 0 | R49: 8 | S49: 2 | T49: 1 | U49: 0 | V49: 0 | W49: 0 | X49: 0 | Y49: 0 | Z49: 0 | AA49: 0 | AB49: 0 | AC49: 22.3 | AD49: 25.5 | AE49: 1 | AF49: 7.1428571 | AG49: 0 | AH49: 0 | AI49: 0 | AJ49: 0 | AP49: =SUM(F53,F160,F267,F374,F481,F588,F695) -> 2 | AR49: =AR48+TIME(0,15,0) -> 0.39583333 | AS49: =SUM(C53,C160,C267,C374,C481,C588,C695)/config!$AC$13 -> 0.28571429 | AT49: =SUM(D53:E53,D160:E160,D267:E267,D374:E374,D481:E481,D588:E588,D695:E695)/config!$AC$13 -> 5.4285714 | AU49: =SUM(F53:G53,F160:G160,F267:G267,F374:G374,F481:G481,F588:G588,F695:G695)/config!$AC$13 -> 0.28571429 | AV49: =SUM(H53,H160,H267,H374,H481,H588,H695)/config!$AC$13 -> 0.14285714 | AW49: =SUM(I53:L53,I160:L160,I267:L267,I374:L374,I481:L481,I588:L588,I695:L695)/config!$AC$13 -> 0 | AY49: =AY48+TIME(0,15,0) -> 0.39583333 | AZ49: =B53 -> 3 | BA49: =B160 -> 6 | BB49: =B267 -> 8 | BC49: =B374 -> 8 | BD49: =B481 -> 3 | BE49: =B588 -> 9 | BF49: =B695 -> 6 | BH49: =AY49 -> 0.39583333 | BI49: =AC53 -> 20.3 | BJ49: =AC160 -> 21.7 | BK49: =AC267 -> 20.5 | BL49: =AC374 -> 28.1 | BM49: =AC481 -> 23.7 | BN49: =AC588 -> 21.1 | BO49: =AC695 -> 21.4 | BQ49: =BH49 -> 0.39583333 | BR49: =AD53 | BS49: =AD160 | BT49: =AD267 | BU49: =AD374 | BV49: =AD481 | BW49: =AD588 | BX49: =AD695 | BZ49: =IF(SUM(BI49:BO49)>0,SUM(BI49:BO49) / COUNTIF(BI49:BO49, ">0"),NA()) -> 22.4 | CA49: =IFERROR(SUM(BR49:BX49) / COUNTIF(BR49:BX49, ">0"), NA()) -> #N/A | CB49: =CB48 -> 30 | CD49: =AE53 -> 0 | CE49: =AE160 -> 0 | CF49: =AE267 -> 1 | CG49: =AE374 -> 1 | CH49: =AE481 -> 0 | CI49: =AE588 -> 0 | CJ49: =AE695 -> 0 | CK49: =IFERROR((SUM(CD49:CJ49)/SUM(AZ49:BF49)) * 100, "") -> 4.6511628 | CM49: =IFERROR(AZ49*BI49,"") -> 60.9 | CN49: =IFERROR(BA49*BJ49,"") -> 130.2 | CO49: =IFERROR(BB49*BK49,"") -> 164 | CP49: =IFERROR(BC49*BL49,"") -> 224.8 | CQ49: =IFERROR(BD49*BM49,"") -> 71.1 | CR49: =IFERROR(BE49*BN49,"") -> 189.9 | CS49: =IFERROR(BF49*BO49,"") -> 128.4 | CU49: =SUM(SUMIF($AZ$8:$BF$8, {"NON";"NEUT"}, AZ49:BF49))/config!$AC$16 -> 6.2 | CV49: =AY49 -> 0.39583333 | CY49: =SUM(C53*$CY$108, C160*$CY$109, C267*$CY$110, C374*$CY$111, C481*$CY$112, C588*$CY$113, C695*$CY$114)/config!$AC$16 -> 0.2 | CZ49: =SUM(SUM(D53:E53)*$CY$108, SUM(D160:E160)*$CY$109, SUM(D267:E267)*$CY$110, SUM(D374:E374)*$CY$111, SUM(D481:E481)*$CY$112, SUM(D588:E588)*$CY$113, SUM(D695:E695)*$CY$114)/config!$AC$16 -> 5.6 | DA49: =SUM(SUM(F53:G53)*$CY$108, SUM(F160:G160)*$CY$109, SUM(F267:G267)*$CY$110, SUM(F374:G374)*$CY$111, SUM(F481:G481)*$CY$112, SUM(F588:G588)*$CY$113, SUM(F695:G695)*$CY$114)/config!$AC$16 -> 0.2 | DB49: =SUM(H53*$CY$108, H160*$CY$109, H267*$CY$110, H374*$CY$111, H481*$CY$112, H588*$CY$113, H695*$CY$114)/config!$AC$16 -> 0.2 | DC49: =SUM(SUM(I53:L53)*$CY$108, SUM(I160:L160)*$CY$109, SUM(I267:L267)*$CY$110, SUM(I374:L374)*$CY$111, SUM(I481:L481)*$CY$112, SUM(I588:L588)*$CY$113, SUM(I695:L695)*$CY$114)/config!$AC$16 -> 0 | DF49: =IFERROR((CD49/AZ49)*100, "") -> 0 | DG49: =IFERROR((CE49/BA49)*100, "") -> 0 | DH49: =IFERROR((CF49/BB49)*100, "") -> 12.5 | DI49: =IFERROR((CG49/BC49)*100, "") -> 12.5 | DJ49: =IFERROR((CH49/BD49)*100, "") -> 0 | DK49: =IFERROR((CI49/BE49)*100, "") -> 0 | DL49: =IFERROR((CJ49/BF49)*100, "") -> 0 | DN49: =AG53 -> 0 | DO49: =AG160 -> 0 | DP49: =AG267 -> 0 | DQ49: =AG374 -> 1 | DR49: =AG481 -> 0 | DS49: =AG588 -> 0 | DT49: =AG695 -> 0 | DV49: =CD49-DN49 -> 0 | DW49: =CE49-DO49 -> 0 | DX49: =CF49-DP49 -> 1 | DY49: =CG49-DQ49 -> 0 | DZ49: =CH49-DR49 -> 0 | EA49: =CI49-DS49 -> 0 | EB49: =CJ49-DT49 -> 0
A50: 0845 | B50: 7 | C50: 0 | D50: 7 | E50: 0 | F50: 0 | G50: 0 | H50: 0 | I50: 0 | J50: 0 | K50: 0 | L50: 0 | N50: 0845 | O50: 2 | P50: 0 | Q50: 0 | R50: 2 | S50: 1 | T50: 2 | U50: 0 | V50: 0 | W50: 0 | X50: 0 | Y50: 0 | Z50: 0 | AA50: 0 | AB50: 0 | AC50: 22.4 | AE50: 2 | AF50: 28.571429 | AG50: 0 | AH50: 0 | AI50: 0 | AJ50: 0 | AP50: =SUM(F54,F161,F268,F375,F482,F589,F696) -> 6 | AR50: =AR49+TIME(0,15,0) -> 0.40625 | AS50: =SUM(C54,C161,C268,C375,C482,C589,C696)/config!$AC$13 -> 0.28571429 | AT50: =SUM(D54:E54,D161:E161,D268:E268,D375:E375,D482:E482,D589:E589,D696:E696)/config!$AC$13 -> 7.7142857 | AU50: =SUM(F54:G54,F161:G161,F268:G268,F375:G375,F482:G482,F589:G589,F696:G696)/config!$AC$13 -> 0.85714286 | AV50: =SUM(H54,H161,H268,H375,H482,H589,H696)/config!$AC$13 -> 0 | AW50: =SUM(I54:L54,I161:L161,I268:L268,I375:L375,I482:L482,I589:L589,I696:L696)/config!$AC$13 -> 0 | AY50: =AY49+TIME(0,15,0) -> 0.40625 | AZ50: =B54 -> 9 | BA50: =B161 -> 12 | BB50: =B268 -> 16 | BC50: =B375 -> 5 | BD50: =B482 -> 6 | BE50: =B589 -> 6 | BF50: =B696 -> 8 | BH50: =AY50 -> 0.40625 | BI50: =AC54 -> 23.8 | BJ50: =AC161 -> 24.2 | BK50: =AC268 -> 21.7 | BL50: =AC375 -> 26.5 | BM50: =AC482 -> 26.3 | BN50: =AC589 -> 23.5 | BO50: =AC696 -> 21.4 | BQ50: =BH50 -> 0.40625 | BR50: =AD54 | BS50: =AD161 -> 29.2 | BT50: =AD268 -> 26.4 | BU50: =AD375 | BV50: =AD482 | BW50: =AD589 | BX50: =AD696 | BZ50: =IF(SUM(BI50:BO50)>0,SUM(BI50:BO50) / COUNTIF(BI50:BO50, ">0"),NA()) -> 23.914286 | CA50: =IFERROR(SUM(BR50:BX50) / COUNTIF(BR50:BX50, ">0"), NA()) -> 27.8 | CB50: =CB49 -> 30 | CD50: =AE54 -> 2 | CE50: =AE161 -> 1 | CF50: =AE268 -> 1 | CG50: =AE375 -> 0 | CH50: =AE482 -> 0 | CI50: =AE589 -> 0 | CJ50: =AE696 -> 1 | CK50: =IFERROR((SUM(CD50:CJ50)/SUM(AZ50:BF50)) * 100, "") -> 8.0645161 | CM50: =IFERROR(AZ50*BI50,"") -> 214.2 | CN50: =IFERROR(BA50*BJ50,"") -> 290.4 | CO50: =IFERROR(BB50*BK50,"") -> 347.2 | CP50: =IFERROR(BC50*BL50,"") -> 132.5 | CQ50: =IFERROR(BD50*BM50,"") -> 157.8 | CR50: =IFERROR(BE50*BN50,"") -> 141 | CS50: =IFERROR(BF50*BO50,"") -> 171.2 | CU50: =SUM(SUMIF($AZ$8:$BF$8, {"NON";"NEUT"}, AZ50:BF50))/config!$AC$16 -> 10 | CV50: =AY50 -> 0.40625 | CY50: =SUM(C54*$CY$108, C161*$CY$109, C268*$CY$110, C375*$CY$111, C482*$CY$112, C589*$CY$113, C696*$CY$114)/config!$AC$16 -> 0.4 | CZ50: =SUM(SUM(D54:E54)*$CY$108, SUM(D161:E161)*$CY$109, SUM(D268:E268)*$CY$110, SUM(D375:E375)*$CY$111, SUM(D482:E482)*$CY$112, SUM(D589:E589)*$CY$113, SUM(D696:E696)*$CY$114)/config!$AC$16 -> 8.4 | DA50: =SUM(SUM(F54:G54)*$CY$108, SUM(F161:G161)*$CY$109, SUM(F268:G268)*$CY$110, SUM(F375:G375)*$CY$111, SUM(F482:G482)*$CY$112, SUM(F589:G589)*$CY$113, SUM(F696:G696)*$CY$114)/config!$AC$16 -> 1.2 | DB50: =SUM(H54*$CY$108, H161*$CY$109, H268*$CY$110, H375*$CY$111, H482*$CY$112, H589*$CY$113, H696*$CY$114)/config!$AC$16 -> 0 | DC50: =SUM(SUM(I54:L54)*$CY$108, SUM(I161:L161)*$CY$109, SUM(I268:L268)*$CY$110, SUM(I375:L375)*$CY$111, SUM(I482:L482)*$CY$112, SUM(I589:L589)*$CY$113, SUM(I696:L696)*$CY$114)/config!$AC$16 -> 0 | DF50: =IFERROR((CD50/AZ50)*100, "") -> 22.222222 | DG50: =IFERROR((CE50/BA50)*100, "") -> 8.3333333 | DH50: =IFERROR((CF50/BB50)*100, "") -> 6.25 | DI50: =IFERROR((CG50/BC50)*100, "") -> 0 | DJ50: =IFERROR((CH50/BD50)*100, "") -> 0 | DK50: =IFERROR((CI50/BE50)*100, "") -> 0 | DL50: =IFERROR((CJ50/BF50)*100, "") -> 12.5 | DN50: =AG54 -> 0 | DO50: =AG161 -> 0 | DP50: =AG268 -> 0 | DQ50: =AG375 -> 0 | DR50: =AG482 -> 0 | DS50: =AG589 -> 0 | DT50: =AG696 -> 1 | DV50: =CD50-DN50 -> 2 | DW50: =CE50-DO50 -> 1 | DX50: =CF50-DP50 -> 1 | DY50: =CG50-DQ50 -> 0 | DZ50: =CH50-DR50 -> 0 | EA50: =CI50-DS50 -> 0 | EB50: =CJ50-DT50 -> 0
A51: 0900 | B51: 6 | C51: 0 | D51: 6 | E51: 0 | F51: 0 | G51: 0 | H51: 0 | I51: 0 | J51: 0 | K51: 0 | L51: 0 | N51: 0900 | O51: 0 | P51: 0 | Q51: 0 | R51: 0 | S51: 4 | T51: 0 | U51: 2 | V51: 0 | W51: 0 | X51: 0 | Y51: 0 | Z51: 0 | AA51: 0 | AB51: 0 | AC51: 30.5 | AE51: 2 | AF51: 33.333333 | AG51: 2 | AH51: 33.333333 | AI51: 0 | AJ51: 0 | AP51: =SUM(F55,F162,F269,F376,F483,F590,F697) -> 3 | AR51: =AR50+TIME(0,15,0) -> 0.41666667 | AS51: =SUM(C55,C162,C269,C376,C483,C590,C697)/config!$AC$13 -> 0 | AT51: =SUM(D55:E55,D162:E162,D269:E269,D376:E376,D483:E483,D590:E590,D697:E697)/config!$AC$13 -> 5 | AU51: =SUM(F55:G55,F162:G162,F269:G269,F376:G376,F483:G483,F590:G590,F697:G697)/config!$AC$13 -> 0.42857143 | AV51: =SUM(H55,H162,H269,H376,H483,H590,H697)/config!$AC$13 -> 0.14285714 | AW51: =SUM(I55:L55,I162:L162,I269:L269,I376:L376,I483:L483,I590:L590,I697:L697)/config!$AC$13 -> 0 | AY51: =AY50+TIME(0,15,0) -> 0.41666667 | AZ51: =B55 -> 2 | BA51: =B162 -> 9 | BB51: =B269 -> 7 | BC51: =B376 -> 1 | BD51: =B483 -> 7 | BE51: =B590 -> 5 | BF51: =B697 -> 8 | BH51: =AY51 -> 0.41666667 | BI51: =AC55 -> 30.8 | BJ51: =AC162 -> 21.1 | BK51: =AC269 -> 26.3 | BL51: =AC376 -> 24.1 | BM51: =AC483 -> 23.3 | BN51: =AC590 -> 21.3 | BO51: =AC697 -> 23.2 | BQ51: =BH51 -> 0.41666667 | BR51: =AD55 | BS51: =AD162 | BT51: =AD269 | BU51: =AD376 | BV51: =AD483 | BW51: =AD590 | BX51: =AD697 | BZ51: =IF(SUM(BI51:BO51)>0,SUM(BI51:BO51) / COUNTIF(BI51:BO51, ">0"),NA()) -> 24.3 | CA51: =IFERROR(SUM(BR51:BX51) / COUNTIF(BR51:BX51, ">0"), NA()) -> #N/A | CB51: =CB50 -> 30 | CD51: =AE55 -> 1 | CE51: =AE162 -> 0 | CF51: =AE269 -> 1 | CG51: =AE376 -> 0 | CH51: =AE483 -> 0 | CI51: =AE590 -> 0 | CJ51: =AE697 -> 1 | CK51: =IFERROR((SUM(CD51:CJ51)/SUM(AZ51:BF51)) * 100, "") -> 7.6923077 | CM51: =IFERROR(AZ51*BI51,"") -> 61.6 | CN51: =IFERROR(BA51*BJ51,"") -> 189.9 | CO51: =IFERROR(BB51*BK51,"") -> 184.1 | CP51: =IFERROR(BC51*BL51,"") -> 24.1 | CQ51: =IFERROR(BD51*BM51,"") -> 163.1 | CR51: =IFERROR(BE51*BN51,"") -> 106.5 | CS51: =IFERROR(BF51*BO51,"") -> 185.6 | CU51: =SUM(SUMIF($AZ$8:$BF$8, {"NON";"NEUT"}, AZ51:BF51))/config!$AC$16 -> 5.4 | CV51: =AY51 -> 0.41666667 | CY51: =SUM(C55*$CY$108, C162*$CY$109, C269*$CY$110, C376*$CY$111, C483*$CY$112, C590*$CY$113, C697*$CY$114)/config!$AC$16 -> 0 | CZ51: =SUM(SUM(D55:E55)*$CY$108, SUM(D162:E162)*$CY$109, SUM(D269:E269)*$CY$110, SUM(D376:E376)*$CY$111, SUM(D483:E483)*$CY$112, SUM(D590:E590)*$CY$113, SUM(D697:E697)*$CY$114)/config!$AC$16 -> 4.6 | DA51: =SUM(SUM(F55:G55)*$CY$108, SUM(F162:G162)*$CY$109, SUM(F269:G269)*$CY$110, SUM(F376:G376)*$CY$111, SUM(F483:G483)*$CY$112, SUM(F590:G590)*$CY$113, SUM(F697:G697)*$CY$114)/config!$AC$16 -> 0.6 | DB51: =SUM(H55*$CY$108, H162*$CY$109, H269*$CY$110, H376*$CY$111, H483*$CY$112, H590*$CY$113, H697*$CY$114)/config!$AC$16 -> 0.2 | DC51: =SUM(SUM(I55:L55)*$CY$108, SUM(I162:L162)*$CY$109, SUM(I269:L269)*$CY$110, SUM(I376:L376)*$CY$111, SUM(I483:L483)*$CY$112, SUM(I590:L590)*$CY$113, SUM(I697:L697)*$CY$114)/config!$AC$16 -> 0 | DF51: =IFERROR((CD51/AZ51)*100, "") -> 50 | DG51: =IFERROR((CE51/BA51)*100, "") -> 0 | DH51: =IFERROR((CF51/BB51)*100, "") -> 14.285714 | DI51: =IFERROR((CG51/BC51)*100, "") -> 0 | DJ51: =IFERROR((CH51/BD51)*100, "") -> 0 | DK51: =IFERROR((CI51/BE51)*100, "") -> 0 | DL51: =IFERROR((CJ51/BF51)*100, "") -> 12.5 | DN51: =AG55 -> 1 | DO51: =AG162 -> 0 | DP51: =AG269 -> 0 | DQ51: =AG376 -> 0 | DR51: =AG483 -> 0 | DS51: =AG590 -> 0 | DT51: =AG697 -> 0 | DV51: =CD51-DN51 -> 0 | DW51: =CE51-DO51 -> 0 | DX51: =CF51-DP51 -> 1 | DY51: =CG51-DQ51 -> 0 | DZ51: =CH51-DR51 -> 0 | EA51: =CI51-DS51 -> 0 | EB51: =CJ51-DT51 -> 1
A52: 0915 | B52: 8 | C52: 1 | D52: 7 | E52: 0 | F52: 0 | G52: 0 | H52: 0 | I52: 0 | J52: 0 | K52: 0 | L52: 0 | N52: 0915 | O52: 0 | P52: 0 | Q52: 1 | R52: 0 | S52: 5 | T52: 2 | U52: 0 | V52: 0 | W52: 0 | X52: 0 | Y52: 0 | Z52: 0 | AA52: 0 | AB52: 0 | AC52: 27.5 | AE52: 2 | AF52: 25 | AG52: 0 | AH52: 0 | AI52: 0 | AJ52: 0 | AP52: =SUM(F56,F163,F270,F377,F484,F591,F698) -> 5 | AR52: =AR51+TIME(0,15,0) -> 0.42708333 | AS52: =SUM(C56,C163,C270,C377,C484,C591,C698)/config!$AC$13 -> 0 | AT52: =SUM(D56:E56,D163:E163,D270:E270,D377:E377,D484:E484,D591:E591,D698:E698)/config!$AC$13 -> 3.8571429 | AU52: =SUM(F56:G56,F163:G163,F270:G270,F377:G377,F484:G484,F591:G591,F698:G698)/config!$AC$13 -> 0.71428571 | AV52: =SUM(H56,H163,H270,H377,H484,H591,H698)/config!$AC$13 -> 0 | AW52: =SUM(I56:L56,I163:L163,I270:L270,I377:L377,I484:L484,I591:L591,I698:L698)/config!$AC$13 -> 0 | AY52: =AY51+TIME(0,15,0) -> 0.42708333 | AZ52: =B56 -> 1 | BA52: =B163 -> 4 | BB52: =B270 -> 4 | BC52: =B377 -> 5 | BD52: =B484 -> 4 | BE52: =B591 -> 9 | BF52: =B698 -> 5 | BH52: =AY52 -> 0.42708333 | BI52: =AC56 -> 15.6 | BJ52: =AC163 -> 23.4 | BK52: =AC270 -> 23.4 | BL52: =AC377 -> 22.2 | BM52: =AC484 -> 25.9 | BN52: =AC591 -> 21.5 | BO52: =AC698 -> 23.2 | BQ52: =BH52 -> 0.42708333 | BR52: =AD56 | BS52: =AD163 | BT52: =AD270 | BU52: =AD377 | BV52: =AD484 | BW52: =AD591 | BX52: =AD698 | BZ52: =IF(SUM(BI52:BO52)>0,SUM(BI52:BO52) / COUNTIF(BI52:BO52, ">0"),NA()) -> 22.171429 | CA52: =IFERROR(SUM(BR52:BX52) / COUNTIF(BR52:BX52, ">0"), NA()) -> #N/A | CB52: =CB51 -> 30 | CD52: =AE56 -> 0 | CE52: =AE163 -> 2 | CF52: =AE270 -> 0 | CG52: =AE377 -> 0 | CH52: =AE484 -> 0 | CI52: =AE591 -> 0 | CJ52: =AE698 -> 0 | CK52: =IFERROR((SUM(CD52:CJ52)/SUM(AZ52:BF52)) * 100, "") -> 6.25 | CM52: =IFERROR(AZ52*BI52,"") -> 15.6 | CN52: =IFERROR(BA52*BJ52,"") -> 93.6 | CO52: =IFERROR(BB52*BK52,"") -> 93.6 | CP52: =IFERROR(BC52*BL52,"") -> 111 | CQ52: =IFERROR(BD52*BM52,"") -> 103.6 | CR52: =IFERROR(BE52*BN52,"") -> 193.5 | CS52: =IFERROR(BF52*BO52,"") -> 116 | CU52: =SUM(SUMIF($AZ$8:$BF$8, {"NON";"NEUT"}, AZ52:BF52))/config!$AC$16 -> 3.8 | CV52: =AY52 -> 0.42708333 | CY52: =SUM(C56*$CY$108, C163*$CY$109, C270*$CY$110, C377*$CY$111, C484*$CY$112, C591*$CY$113, C698*$CY$114)/config!$AC$16 -> 0 | CZ52: =SUM(SUM(D56:E56)*$CY$108, SUM(D163:E163)*$CY$109, SUM(D270:E270)*$CY$110, SUM(D377:E377)*$CY$111, SUM(D484:E484)*$CY$112, SUM(D591:E591)*$CY$113, SUM(D698:E698)*$CY$114)/config!$AC$16 -> 3.4 | DA52: =SUM(SUM(F56:G56)*$CY$108, SUM(F163:G163)*$CY$109, SUM(F270:G270)*$CY$110, SUM(F377:G377)*$CY$111, SUM(F484:G484)*$CY$112, SUM(F591:G591)*$CY$113, SUM(F698:G698)*$CY$114)/config!$AC$16 -> 0.4 | DB52: =SUM(H56*$CY$108, H163*$CY$109, H270*$CY$110, H377*$CY$111, H484*$CY$112, H591*$CY$113, H698*$CY$114)/config!$AC$16 -> 0 | DC52: =SUM(SUM(I56:L56)*$CY$108, SUM(I163:L163)*$CY$109, SUM(I270:L270)*$CY$110, SUM(I377:L377)*$CY$111, SUM(I484:L484)*$CY$112, SUM(I591:L591)*$CY$113, SUM(I698:L698)*$CY$114)/config!$AC$16 -> 0 | DF52: =IFERROR((CD52/AZ52)*100, "") -> 0 | DG52: =IFERROR((CE52/BA52)*100, "") -> 50 | DH52: =IFERROR((CF52/BB52)*100, "") -> 0 | DI52: =IFERROR((CG52/BC52)*100, "") -> 0 | DJ52: =IFERROR((CH52/BD52)*100, "") -> 0 | DK52: =IFERROR((CI52/BE52)*100, "") -> 0 | DL52: =IFERROR((CJ52/BF52)*100, "") -> 0 | DN52: =AG56 -> 0 | DO52: =AG163 -> 0 | DP52: =AG270 -> 0 | DQ52: =AG377 -> 0 | DR52: =AG484 -> 0 | DS52: =AG591 -> 0 | DT52: =AG698 -> 0 | DV52: =CD52-DN52 -> 0 | DW52: =CE52-DO52 -> 2 | DX52: =CF52-DP52 -> 0 | DY52: =CG52-DQ52 -> 0 | DZ52: =CH52-DR52 -> 0 | EA52: =CI52-DS52 -> 0 | EB52: =CJ52-DT52 -> 0
A53: 0930 | B53: 3 | C53: 0 | D53: 3 | E53: 0 | F53: 0 | G53: 0 | H53: 0 | I53: 0 | J53: 0 | K53: 0 | L53: 0 | N53: 0930 | O53: 0 | P53: 0 | Q53: 2 | R53: 1 | S53: 0 | T53: 0 | U53: 0 | V53: 0 | W53: 0 | X53: 0 | Y53: 0 | Z53: 0 | AA53: 0 | AB53: 0 | AC53: 20.3 | AE53: 0 | AF53: 0 | AG53: 0 | AH53: 0 | AI53: 0 | AJ53: 0 | AP53: =SUM(F57,F164,F271,F378,F485,F592,F699) -> 7 | AR53: =AR52+TIME(0,15,0) -> 0.4375 | AS53: =SUM(C57,C164,C271,C378,C485,C592,C699)/config!$AC$13 -> 0.14285714 | AT53: =SUM(D57:E57,D164:E164,D271:E271,D378:E378,D485:E485,D592:E592,D699:E699)/config!$AC$13 -> 3.4285714 | AU53: =SUM(F57:G57,F164:G164,F271:G271,F378:G378,F485:G485,F592:G592,F699:G699)/config!$AC$13 -> 1.1428571 | AV53: =SUM(H57,H164,H271,H378,H485,H592,H699)/config!$AC$13 -> 0.14285714 | AW53: =SUM(I57:L57,I164:L164,I271:L271,I378:L378,I485:L485,I592:L592,I699:L699)/config!$AC$13 -> 0 | AY53: =AY52+TIME(0,15,0) -> 0.4375 | AZ53: =B57 -> 3 | BA53: =B164 -> 6 | BB53: =B271 -> 3 | BC53: =B378 -> 6 | BD53: =B485 -> 4 | BE53: =B592 -> 7 | BF53: =B699 -> 5 | BH53: =AY53 -> 0.4375 | BI53: =AC57 -> 24.3 | BJ53: =AC164 -> 24.5 | BK53: =AC271 -> 19.1 | BL53: =AC378 -> 24.5 | BM53: =AC485 -> 24.6 | BN53: =AC592 -> 28 | BO53: =AC699 -> 24.9 | BQ53: =BH53 -> 0.4375 | BR53: =AD57 | BS53: =AD164 | BT53: =AD271 | BU53: =AD378 | BV53: =AD485 | BW53: =AD592 | BX53: =AD699 | BZ53: =IF(SUM(BI53:BO53)>0,SUM(BI53:BO53) / COUNTIF(BI53:BO53, ">0"),NA()) -> 24.271429 | CA53: =IFERROR(SUM(BR53:BX53) / COUNTIF(BR53:BX53, ">0"), NA()) -> #N/A | CB53: =CB52 -> 30 | CD53: =AE57 -> 1 | CE53: =AE164 -> 1 | CF53: =AE271 -> 0 | CG53: =AE378 -> 0 | CH53: =AE485 -> 1 | CI53: =AE592 -> 2 | CJ53: =AE699 -> 1 | CK53: =IFERROR((SUM(CD53:CJ53)/SUM(AZ53:BF53)) * 100, "") -> 17.647059 | CM53: =IFERROR(AZ53*BI53,"") -> 72.9 | CN53: =IFERROR(BA53*BJ53,"") -> 147 | CO53: =IFERROR(BB53*BK53,"") -> 57.3 | CP53: =IFERROR(BC53*BL53,"") -> 147 | CQ53: =IFERROR(BD53*BM53,"") -> 98.4 | CR53: =IFERROR(BE53*BN53,"") -> 196 | CS53: =IFERROR(BF53*BO53,"") -> 124.5 | CU53: =SUM(SUMIF($AZ$8:$BF$8, {"NON";"NEUT"}, AZ53:BF53))/config!$AC$16 -> 4.6 | CV53: =AY53 -> 0.4375 | CY53: =SUM(C57*$CY$108, C164*$CY$109, C271*$CY$110, C378*$CY$111, C485*$CY$112, C592*$CY$113, C699*$CY$114)/config!$AC$16 -> 0.2 | CZ53: =SUM(SUM(D57:E57)*$CY$108, SUM(D164:E164)*$CY$109, SUM(D271:E271)*$CY$110, SUM(D378:E378)*$CY$111, SUM(D485:E485)*$CY$112, SUM(D592:E592)*$CY$113, SUM(D699:E699)*$CY$114)/config!$AC$16 -> 3.2 | DA53: =SUM(SUM(F57:G57)*$CY$108, SUM(F164:G164)*$CY$109, SUM(F271:G271)*$CY$110, SUM(F378:G378)*$CY$111, SUM(F485:G485)*$CY$112, SUM(F592:G592)*$CY$113, SUM(F699:G699)*$CY$114)/config!$AC$16 -> 1 | DB53: =SUM(H57*$CY$108, H164*$CY$109, H271*$CY$110, H378*$CY$111, H485*$CY$112, H592*$CY$113, H699*$CY$114)/config!$AC$16 -> 0.2 | DC53: =SUM(SUM(I57:L57)*$CY$108, SUM(I164:L164)*$CY$109, SUM(I271:L271)*$CY$110, SUM(I378:L378)*$CY$111, SUM(I485:L485)*$CY$112, SUM(I592:L592)*$CY$113, SUM(I699:L699)*$CY$114)/config!$AC$16 -> 0 | DF53: =IFERROR((CD53/AZ53)*100, "") -> 33.333333 | DG53: =IFERROR((CE53/BA53)*100, "") -> 16.666667 | DH53: =IFERROR((CF53/BB53)*100, "") -> 0 | DI53: =IFERROR((CG53/BC53)*100, "") -> 0 | DJ53: =IFERROR((CH53/BD53)*100, "") -> 25 | DK53: =IFERROR((CI53/BE53)*100, "") -> 28.571429 | DL53: =IFERROR((CJ53/BF53)*100, "") -> 20 | DN53: =AG57 -> 0 | DO53: =AG164 -> 0 | DP53: =AG271 -> 0 | DQ53: =AG378 -> 0 | DR53: =AG485 -> 0 | DS53: =AG592 -> 0 | DT53: =AG699 -> 0 | DV53: =CD53-DN53 -> 1 | DW53: =CE53-DO53 -> 1 | DX53: =CF53-DP53 -> 0 | DY53: =CG53-DQ53 -> 0 | DZ53: =CH53-DR53 -> 1 | EA53: =CI53-DS53 -> 2 | EB53: =CJ53-DT53 -> 1
A54: 0945 | B54: 9 | C54: 0 | D54: 8 | E54: 0 | F54: 1 | G54: 0 | H54: 0 | I54: 0 | J54: 0 | K54: 0 | L54: 0 | N54: 0945 | O54: 0 | P54: 0 | Q54: 2 | R54: 3 | S54: 2 | T54: 2 | U54: 0 | V54: 0 | W54: 0 | X54: 0 | Y54: 0 | Z54: 0 | AA54: 0 | AB54: 0 | AC54: 23.8 | AE54: 2 | AF54: 22.222222 | AG54: 0 | AH54: 0 | AI54: 0 | AJ54: 0 | AP54: =SUM(F58,F165,F272,F379,F486,F593,F700) -> 0 | AR54: =AR53+TIME(0,15,0) -> 0.44791667 | AS54: =SUM(C58,C165,C272,C379,C486,C593,C700)/config!$AC$13 -> 0 | AT54: =SUM(D58:E58,D165:E165,D272:E272,D379:E379,D486:E486,D593:E593,D700:E700)/config!$AC$13 -> 5 | AU54: =SUM(F58:G58,F165:G165,F272:G272,F379:G379,F486:G486,F593:G593,F700:G700)/config!$AC$13 -> 0 | AV54: =SUM(H58,H165,H272,H379,H486,H593,H700)/config!$AC$13 -> 0 | AW54: =SUM(I58:L58,I165:L165,I272:L272,I379:L379,I486:L486,I593:L593,I700:L700)/config!$AC$13 -> 0 | AY54: =AY53+TIME(0,15,0) -> 0.44791667 | AZ54: =B58 -> 3 | BA54: =B165 -> 4 | BB54: =B272 -> 10 | BC54: =B379 -> 4 | BD54: =B486 -> 6 | BE54: =B593 -> 4 | BF54: =B700 -> 4 | BH54: =AY54 -> 0.44791667 | BI54: =AC58 -> 27.5 | BJ54: =AC165 -> 23.6 | BK54: =AC272 -> 21.8 | BL54: =AC379 -> 23.3 | BM54: =AC486 -> 22.9 | BN54: =AC593 -> 27 | BO54: =AC700 -> 28.1 | BQ54: =BH54 -> 0.44791667 | BR54: =AD58 | BS54: =AD165 | BT54: =AD272 | BU54: =AD379 | BV54: =AD486 | BW54: =AD593 | BX54: =AD700 | BZ54: =IF(SUM(BI54:BO54)>0,SUM(BI54:BO54) / COUNTIF(BI54:BO54, ">0"),NA()) -> 24.885714 | CA54: =IFERROR(SUM(BR54:BX54) / COUNTIF(BR54:BX54, ">0"), NA()) -> #N/A | CB54: =CB53 -> 30 | CD54: =AE58 -> 1 | CE54: =AE165 -> 0 | CF54: =AE272 -> 0 | CG54: =AE379 -> 0 | CH54: =AE486 -> 0 | CI54: =AE593 -> 1 | CJ54: =AE700 -> 1 | CK54: =IFERROR((SUM(CD54:CJ54)/SUM(AZ54:BF54)) * 100, "") -> 8.5714286 | CM54: =IFERROR(AZ54*BI54,"") -> 82.5 | CN54: =IFERROR(BA54*BJ54,"") -> 94.4 | CO54: =IFERROR(BB54*BK54,"") -> 218 | CP54: =IFERROR(BC54*BL54,"") -> 93.2 | CQ54: =IFERROR(BD54*BM54,"") -> 137.4 | CR54: =IFERROR(BE54*BN54,"") -> 108 | CS54: =IFERROR(BF54*BO54,"") -> 112.4 | CU54: =SUM(SUMIF($AZ$8:$BF$8, {"NON";"NEUT"}, AZ54:BF54))/config!$AC$16 -> 5 | CV54: =AY54 -> 0.44791667 | CY54: =SUM(C58*$CY$108, C165*$CY$109, C272*$CY$110, C379*$CY$111, C486*$CY$112, C593*$CY$113, C700*$CY$114)/config!$AC$16 -> 0 | CZ54: =SUM(SUM(D58:E58)*$CY$108, SUM(D165:E165)*$CY$109, SUM(D272:E272)*$CY$110, SUM(D379:E379)*$CY$111, SUM(D486:E486)*$CY$112, SUM(D593:E593)*$CY$113, SUM(D700:E700)*$CY$114)/config!$AC$16 -> 5 | DA54: =SUM(SUM(F58:G58)*$CY$108, SUM(F165:G165)*$CY$109, SUM(F272:G272)*$CY$110, SUM(F379:G379)*$CY$111, SUM(F486:G486)*$CY$112, SUM(F593:G593)*$CY$113, SUM(F700:G700)*$CY$114)/config!$AC$16 -> 0 | DB54: =SUM(H58*$CY$108, H165*$CY$109, H272*$CY$110, H379*$CY$111, H486*$CY$112, H593*$CY$113, H700*$CY$114)/config!$AC$16 -> 0 | DC54: =SUM(SUM(I58:L58)*$CY$108, SUM(I165:L165)*$CY$109, SUM(I272:L272)*$CY$110, SUM(I379:L379)*$CY$111, SUM(I486:L486)*$CY$112, SUM(I593:L593)*$CY$113, SUM(I700:L700)*$CY$114)/config!$AC$16 -> 0 | DF54: =IFERROR((CD54/AZ54)*100, "") -> 33.333333 | DG54: =IFERROR((CE54/BA54)*100, "") -> 0 | DH54: =IFERROR((CF54/BB54)*100, "") -> 0 | DI54: =IFERROR((CG54/BC54)*100, "") -> 0 | DJ54: =IFERROR((CH54/BD54)*100, "") -> 0 | DK54: =IFERROR((CI54/BE54)*100, "") -> 25 | DL54: =IFERROR((CJ54/BF54)*100, "") -> 25 | DN54: =AG58 -> 0 | DO54: =AG165 -> 0 | DP54: =AG272 -> 0 | DQ54: =AG379 -> 0 | DR54: =AG486 -> 0 | DS54: =AG593 -> 0 | DT54: =AG700 -> 0 | DV54: =CD54-DN54 -> 1 | DW54: =CE54-DO54 -> 0 | DX54: =CF54-DP54 -> 0 | DY54: =CG54-DQ54 -> 0 | DZ54: =CH54-DR54 -> 0 | EA54: =CI54-DS54 -> 1 | EB54: =CJ54-DT54 -> 1
A55: 1000 | B55: 2 | C55: 0 | D55: 2 | E55: 0 | F55: 0 | G55: 0 | H55: 0 | I55: 0 | J55: 0 | K55: 0 | L55: 0 | N55: 1000 | O55: 0 | P55: 0 | Q55: 0 | R55: 0 | S55: 1 | T55: 0 | U55: 1 | V55: 0 | W55: 0 | X55: 0 | Y55: 0 | Z55: 0 | AA55: 0 | AB55: 0 | AC55: 30.8 | AE55: 1 | AF55: 50 | AG55: 1 | AH55: 50 | AI55: 0 | AJ55: 0 | AP55: =SUM(F59,F166,F273,F380,F487,F594,F701) -> 3 | AR55: =AR54+TIME(0,15,0) -> 0.45833333 | AS55: =SUM(C59,C166,C273,C380,C487,C594,C701)/config!$AC$13 -> 0.14285714 | AT55: =SUM(D59:E59,D166:E166,D273:E273,D380:E380,D487:E487,D594:E594,D701:E701)/config!$AC$13 -> 4.1428571 | AU55: =SUM(F59:G59,F166:G166,F273:G273,F380:G380,F487:G487,F594:G594,F701:G701)/config!$AC$13 -> 0.42857143 | AV55: =SUM(H59,H166,H273,H380,H487,H594,H701)/config!$AC$13 -> 0 | AW55: =SUM(I59:L59,I166:L166,I273:L273,I380:L380,I487:L487,I594:L594,I701:L701)/config!$AC$13 -> 0 | AY55: =AY54+TIME(0,15,0) -> 0.45833333 | AZ55: =B59 -> 4 | BA55: =B166 -> 2 | BB55: =B273 -> 5 | BC55: =B380 -> 3 | BD55: =B487 -> 7 | BE55: =B594 -> 6 | BF55: =B701 -> 6 | BH55: =AY55 -> 0.45833333 | BI55: =AC59 -> 22.7 | BJ55: =AC166 -> 34.2 | BK55: =AC273 -> 21.5 | BL55: =AC380 -> 24.8 | BM55: =AC487 -> 25.1 | BN55: =AC594 -> 23.8 | BO55: =AC701 -> 25.2 | BQ55: =BH55 -> 0.45833333 | BR55: =AD59 | BS55: =AD166 | BT55: =AD273 | BU55: =AD380 | BV55: =AD487 | BW55: =AD594 | BX55: =AD701 | BZ55: =IF(SUM(BI55:BO55)>0,SUM(BI55:BO55) / COUNTIF(BI55:BO55, ">0"),NA()) -> 25.328571 | CA55: =IFERROR(SUM(BR55:BX55) / COUNTIF(BR55:BX55, ">0"), NA()) -> #N/A | CB55: =CB54 -> 30 | CD55: =AE59 -> 0 | CE55: =AE166 -> 1 | CF55: =AE273 -> 0 | CG55: =AE380 -> 1 | CH55: =AE487 -> 2 | CI55: =AE594 -> 0 | CJ55: =AE701 -> 1 | CK55: =IFERROR((SUM(CD55:CJ55)/SUM(AZ55:BF55)) * 100, "") -> 15.151515 | CM55: =IFERROR(AZ55*BI55,"") -> 90.8 | CN55: =IFERROR(BA55*BJ55,"") -> 68.4 | CO55: =IFERROR(BB55*BK55,"") -> 107.5 | CP55: =IFERROR(BC55*BL55,"") -> 74.4 | CQ55: =IFERROR(BD55*BM55,"") -> 175.7 | CR55: =IFERROR(BE55*BN55,"") -> 142.8 | CS55: =IFERROR(BF55*BO55,"") -> 151.2 | CU55: =SUM(SUMIF($AZ$8:$BF$8, {"NON";"NEUT"}, AZ55:BF55))/config!$AC$16 -> 4 | CV55: =AY55 -> 0.45833333 | CY55: =SUM(C59*$CY$108, C166*$CY$109, C273*$CY$110, C380*$CY$111, C487*$CY$112, C594*$CY$113, C701*$CY$114)/config!$AC$16 -> 0 | CZ55: =SUM(SUM(D59:E59)*$CY$108, SUM(D166:E166)*$CY$109, SUM(D273:E273)*$CY$110, SUM(D380:E380)*$CY$111, SUM(D487:E487)*$CY$112, SUM(D594:E594)*$CY$113, SUM(D701:E701)*$CY$114)/config!$AC$16 -> 3.6 | DA55: =SUM(SUM(F59:G59)*$CY$108, SUM(F166:G166)*$CY$109, SUM(F273:G273)*$CY$110, SUM(F380:G380)*$CY$111, SUM(F487:G487)*$CY$112, SUM(F594:G594)*$CY$113, SUM(F701:G701)*$CY$114)/config!$AC$16 -> 0.4 | DB55: =SUM(H59*$CY$108, H166*$CY$109, H273*$CY$110, H380*$CY$111, H487*$CY$112, H594*$CY$113, H701*$CY$114)/config!$AC$16 -> 0 | DC55: =SUM(SUM(I59:L59)*$CY$108, SUM(I166:L166)*$CY$109, SUM(I273:L273)*$CY$110, SUM(I380:L380)*$CY$111, SUM(I487:L487)*$CY$112, SUM(I594:L594)*$CY$113, SUM(I701:L701)*$CY$114)/config!$AC$16 -> 0 | DF55: =IFERROR((CD55/AZ55)*100, "") -> 0 | DG55: =IFERROR((CE55/BA55)*100, "") -> 50 | DH55: =IFERROR((CF55/BB55)*100, "") -> 0 | DI55: =IFERROR((CG55/BC55)*100, "") -> 33.333333 | DJ55: =IFERROR((CH55/BD55)*100, "") -> 28.571429 | DK55: =IFERROR((CI55/BE55)*100, "") -> 0 | DL55: =IFERROR((CJ55/BF55)*100, "") -> 16.666667 | DN55: =AG59 -> 0 | DO55: =AG166 -> 1 | DP55: =AG273 -> 0 | DQ55: =AG380 -> 0 | DR55: =AG487 -> 0 | DS55: =AG594 -> 0 | DT55: =AG701 -> 0 | DV55: =CD55-DN55 -> 0 | DW55: =CE55-DO55 -> 0 | DX55: =CF55-DP55 -> 0 | DY55: =CG55-DQ55 -> 1 | DZ55: =CH55-DR55 -> 2 | EA55: =CI55-DS55 -> 0 | EB55: =CJ55-DT55 -> 1
A56: 1015 | B56: 1 | C56: 0 | D56: 1 | E56: 0 | F56: 0 | G56: 0 | H56: 0 | I56: 0 | J56: 0 | K56: 0 | L56: 0 | N56: 1015 | O56: 0 | P56: 0 | Q56: 1 | R56: 0 | S56: 0 | T56: 0 | U56: 0 | V56: 0 | W56: 0 | X56: 0 | Y56: 0 | Z56: 0 | AA56: 0 | AB56: 0 | AC56: 15.6 | AE56: 0 | AF56: 0 | AG56: 0 | AH56: 0 | AI56: 0 | AJ56: 0 | AP56: =SUM(F60,F167,F274,F381,F488,F595,F702) -> 2 | AR56: =AR55+TIME(0,15,0) -> 0.46875 | AS56: =SUM(C60,C167,C274,C381,C488,C595,C702)/config!$AC$13 -> 0.85714286 | AT56: =SUM(D60:E60,D167:E167,D274:E274,D381:E381,D488:E488,D595:E595,D702:E702)/config!$AC$13 -> 4.4285714 | AU56: =SUM(F60:G60,F167:G167,F274:G274,F381:G381,F488:G488,F595:G595,F702:G702)/config!$AC$13 -> 0.28571429 | AV56: =SUM(H60,H167,H274,H381,H488,H595,H702)/config!$AC$13 -> 0 | AW56: =SUM(I60:L60,I167:L167,I274:L274,I381:L381,I488:L488,I595:L595,I702:L702)/config!$AC$13 -> 0 | AY56: =AY55+TIME(0,15,0) -> 0.46875 | AZ56: =B60 -> 1 | BA56: =B167 -> 3 | BB56: =B274 -> 4 | BC56: =B381 -> 7 | BD56: =B488 -> 6 | BE56: =B595 -> 13 | BF56: =B702 -> 5 | BH56: =AY56 -> 0.46875 | BI56: =AC60 -> 20.8 | BJ56: =AC167 -> 23.6 | BK56: =AC274 -> 24.7 | BL56: =AC381 -> 17.8 | BM56: =AC488 -> 24.3 | BN56: =AC595 -> 23 | BO56: =AC702 -> 27.7 | BQ56: =BH56 -> 0.46875 | BR56: =AD60 | BS56: =AD167 | BT56: =AD274 | BU56: =AD381 | BV56: =AD488 | BW56: =AD595 -> 31.1 | BX56: =AD702 | BZ56: =IF(SUM(BI56:BO56)>0,SUM(BI56:BO56) / COUNTIF(BI56:BO56, ">0"),NA()) -> 23.128571 | CA56: =IFERROR(SUM(BR56:BX56) / COUNTIF(BR56:BX56, ">0"), NA()) -> 31.1 | CB56: =CB55 -> 30 | CD56: =AE60 -> 0 | CE56: =AE167 -> 1 | CF56: =AE274 -> 1 | CG56: =AE381 -> 0 | CH56: =AE488 -> 1 | CI56: =AE595 -> 2 | CJ56: =AE702 -> 3 | CK56: =IFERROR((SUM(CD56:CJ56)/SUM(AZ56:BF56)) * 100, "") -> 20.512821 | CM56: =IFERROR(AZ56*BI56,"") -> 20.8 | CN56: =IFERROR(BA56*BJ56,"") -> 70.8 | CO56: =IFERROR(BB56*BK56,"") -> 98.8 | CP56: =IFERROR(BC56*BL56,"") -> 124.6 | CQ56: =IFERROR(BD56*BM56,"") -> 145.8 | CR56: =IFERROR(BE56*BN56,"") -> 299 | CS56: =IFERROR(BF56*BO56,"") -> 138.5 | CU56: =SUM(SUMIF($AZ$8:$BF$8, {"NON";"NEUT"}, AZ56:BF56))/config!$AC$16 -> 4 | CV56: =AY56 -> 0.46875 | CY56: =SUM(C60*$CY$108, C167*$CY$109, C274*$CY$110, C381*$CY$111, C488*$CY$112, C595*$CY$113, C702*$CY$114)/config!$AC$16 -> 0 | CZ56: =SUM(SUM(D60:E60)*$CY$108, SUM(D167:E167)*$CY$109, SUM(D274:E274)*$CY$110, SUM(D381:E381)*$CY$111, SUM(D488:E488)*$CY$112, SUM(D595:E595)*$CY$113, SUM(D702:E702)*$CY$114)/config!$AC$16 -> 3.8 | DA56: =SUM(SUM(F60:G60)*$CY$108, SUM(F167:G167)*$CY$109, SUM(F274:G274)*$CY$110, SUM(F381:G381)*$CY$111, SUM(F488:G488)*$CY$112, SUM(F595:G595)*$CY$113, SUM(F702:G702)*$CY$114)/config!$AC$16 -> 0.2 | DB56: =SUM(H60*$CY$108, H167*$CY$109, H274*$CY$110, H381*$CY$111, H488*$CY$112, H595*$CY$113, H702*$CY$114)/config!$AC$16 -> 0 | DC56: =SUM(SUM(I60:L60)*$CY$108, SUM(I167:L167)*$CY$109, SUM(I274:L274)*$CY$110, SUM(I381:L381)*$CY$111, SUM(I488:L488)*$CY$112, SUM(I595:L595)*$CY$113, SUM(I702:L702)*$CY$114)/config!$AC$16 -> 0 | DF56: =IFERROR((CD56/AZ56)*100, "") -> 0 | DG56: =IFERROR((CE56/BA56)*100, "") -> 33.333333 | DH56: =IFERROR((CF56/BB56)*100, "") -> 25 | DI56: =IFERROR((CG56/BC56)*100, "") -> 0 | DJ56: =IFERROR((CH56/BD56)*100, "") -> 16.666667 | DK56: =IFERROR((CI56/BE56)*100, "") -> 15.384615 | DL56: =IFERROR((CJ56/BF56)*100, "") -> 60 | DN56: =AG60 -> 0 | DO56: =AG167 -> 0 | DP56: =AG274 -> 0 | DQ56: =AG381 -> 0 | DR56: =AG488 -> 0 | DS56: =AG595 -> 0 | DT56: =AG702 -> 0 | DV56: =CD56-DN56 -> 0 | DW56: =CE56-DO56 -> 1 | DX56: =CF56-DP56 -> 1 | DY56: =CG56-DQ56 -> 0 | DZ56: =CH56-DR56 -> 1 | EA56: =CI56-DS56 -> 2 | EB56: =CJ56-DT56 -> 3
A57: 1030 | B57: 3 | C57: 1 | D57: 1 | E57: 0 | F57: 0 | G57: 1 | H57: 0 | I57: 0 | J57: 0 | K57: 0 | L57: 0 | N57: 1030 | O57: 0 | P57: 0 | Q57: 2 | R57: 0 | S57: 0 | T57: 1 | U57: 0 | V57: 0 | W57: 0 | X57: 0 | Y57: 0 | Z57: 0 | AA57: 0 | AB57: 0 | AC57: 24.3 | AE57: 1 | AF57: 33.333333 | AG57: 0 | AH57: 0 | AI57: 0 | AJ57: 0 | AP57: =SUM(F61,F168,F275,F382,F489,F596,F703) -> 4 | AR57: =AR56+TIME(0,15,0) -> 0.47916667 | AS57: =SUM(C61,C168,C275,C382,C489,C596,C703)/config!$AC$13 -> 0 | AT57: =SUM(D61:E61,D168:E168,D275:E275,D382:E382,D489:E489,D596:E596,D703:E703)/config!$AC$13 -> 3.8571429 | AU57: =SUM(F61:G61,F168:G168,F275:G275,F382:G382,F489:G489,F596:G596,F703:G703)/config!$AC$13 -> 0.57142857 | AV57: =SUM(H61,H168,H275,H382,H489,H596,H703)/config!$AC$13 -> 0 | AW57: =SUM(I61:L61,I168:L168,I275:L275,I382:L382,I489:L489,I596:L596,I703:L703)/config!$AC$13 -> 0 | AY57: =AY56+TIME(0,15,0) -> 0.47916667 | AZ57: =B61 -> 5 | BA57: =B168 -> 7 | BB57: =B275 -> 5 | BC57: =B382 -> 1 | BD57: =B489 -> 2 | BE57: =B596 -> 7 | BF57: =B703 -> 4 | BH57: =AY57 -> 0.47916667 | BI57: =AC61 -> 26.3 | BJ57: =AC168 -> 25.2 | BK57: =AC275 -> 23.7 | BL57: =AC382 -> 24.4 | BM57: =AC489 -> 18.9 | BN57: =AC596 -> 25.4 | BO57: =AC703 -> 22.8 | BQ57: =BH57 -> 0.47916667 | BR57: =AD61 | BS57: =AD168 | BT57: =AD275 | BU57: =AD382 | BV57: =AD489 | BW57: =AD596 | BX57: =AD703 | BZ57: =IF(SUM(BI57:BO57)>0,SUM(BI57:BO57) / COUNTIF(BI57:BO57, ">0"),NA()) -> 23.814286 | CA57: =IFERROR(SUM(BR57:BX57) / COUNTIF(BR57:BX57, ">0"), NA()) -> #N/A | CB57: =CB56 -> 30 | CD57: =AE61 -> 1 | CE57: =AE168 -> 0 | CF57: =AE275 -> 1 | CG57: =AE382 -> 0 | CH57: =AE489 -> 0 | CI57: =AE596 -> 1 | CJ57: =AE703 -> 1 | CK57: =IFERROR((SUM(CD57:CJ57)/SUM(AZ57:BF57)) * 100, "") -> 12.903226 | CM57: =IFERROR(AZ57*BI57,"") -> 131.5 | CN57: =IFERROR(BA57*BJ57,"") -> 176.4 | CO57: =IFERROR(BB57*BK57,"") -> 118.5 | CP57: =IFERROR(BC57*BL57,"") -> 24.4 | CQ57: =IFERROR(BD57*BM57,"") -> 37.8 | CR57: =IFERROR(BE57*BN57,"") -> 177.8 | CS57: =IFERROR(BF57*BO57,"") -> 91.2 | CU57: =SUM(SUMIF($AZ$8:$BF$8, {"NON";"NEUT"}, AZ57:BF57))/config!$AC$16 -> 4.4 | CV57: =AY57 -> 0.47916667 | CY57: =SUM(C61*$CY$108, C168*$CY$109, C275*$CY$110, C382*$CY$111, C489*$CY$112, C596*$CY$113, C703*$CY$114)/config!$AC$16 -> 0 | CZ57: =SUM(SUM(D61:E61)*$CY$108, SUM(D168:E168)*$CY$109, SUM(D275:E275)*$CY$110, SUM(D382:E382)*$CY$111, SUM(D489:E489)*$CY$112, SUM(D596:E596)*$CY$113, SUM(D703:E703)*$CY$114)/config!$AC$16 -> 3.6 | DA57: =SUM(SUM(F61:G61)*$CY$108, SUM(F168:G168)*$CY$109, SUM(F275:G275)*$CY$110, SUM(F382:G382)*$CY$111, SUM(F489:G489)*$CY$112, SUM(F596:G596)*$CY$113, SUM(F703:G703)*$CY$114)/config!$AC$16 -> 0.8 | DB57: =SUM(H61*$CY$108, H168*$CY$109, H275*$CY$110, H382*$CY$111, H489*$CY$112, H596*$CY$113, H703*$CY$114)/config!$AC$16 -> 0 | DC57: =SUM(SUM(I61:L61)*$CY$108, SUM(I168:L168)*$CY$109, SUM(I275:L275)*$CY$110, SUM(I382:L382)*$CY$111, SUM(I489:L489)*$CY$112, SUM(I596:L596)*$CY$113, SUM(I703:L703)*$CY$114)/config!$AC$16 -> 0 | DF57: =IFERROR((CD57/AZ57)*100, "") -> 20 | DG57: =IFERROR((CE57/BA57)*100, "") -> 0 | DH57: =IFERROR((CF57/BB57)*100, "") -> 20 | DI57: =IFERROR((CG57/BC57)*100, "") -> 0 | DJ57: =IFERROR((CH57/BD57)*100, "") -> 0 | DK57: =IFERROR((CI57/BE57)*100, "") -> 14.285714 | DL57: =IFERROR((CJ57/BF57)*100, "") -> 25 | DN57: =AG61 -> 0 | DO57: =AG168 -> 0 | DP57: =AG275 -> 0 | DQ57: =AG382 -> 0 | DR57: =AG489 -> 0 | DS57: =AG596 -> 0 | DT57: =AG703 -> 0 | DV57: =CD57-DN57 -> 1 | DW57: =CE57-DO57 -> 0 | DX57: =CF57-DP57 -> 1 | DY57: =CG57-DQ57 -> 0 | DZ57: =CH57-DR57 -> 0 | EA57: =CI57-DS57 -> 1 | EB57: =CJ57-DT57 -> 1
A58: 1045 | B58: 3 | C58: 0 | D58: 3 | E58: 0 | F58: 0 | G58: 0 | H58: 0 | I58: 0 | J58: 0 | K58: 0 | L58: 0 | N58: 1045 | O58: 0 | P58: 0 | Q58: 0 | R58: 0 | S58: 2 | T58: 1 | U58: 0 | V58: 0 | W58: 0 | X58: 0 | Y58: 0 | Z58: 0 | AA58: 0 | AB58: 0 | AC58: 27.5 | AE58: 1 | AF58: 33.333333 | AG58: 0 | AH58: 0 | AI58: 0 | AJ58: 0 | AP58: =SUM(F62,F169,F276,F383,F490,F597,F704) -> 4 | AR58: =AR57+TIME(0,15,0) -> 0.48958333 | AS58: =SUM(C62,C169,C276,C383,C490,C597,C704)/config!$AC$13 -> 0.14285714 | AT58: =SUM(D62:E62,D169:E169,D276:E276,D383:E383,D490:E490,D597:E597,D704:E704)/config!$AC$13 -> 6 | AU58: =SUM(F62:G62,F169:G169,F276:G276,F383:G383,F490:G490,F597:G597,F704:G704)/config!$AC$13 -> 0.57142857 | AV58: =SUM(H62,H169,H276,H383,H490,H597,H704)/config!$AC$13 -> 0 | AW58: =SUM(I62:L62,I169:L169,I276:L276,I383:L383,I490:L490,I597:L597,I704:L704)/config!$AC$13 -> 0 | AY58: =AY57+TIME(0,15,0) -> 0.48958333 | AZ58: =B62 -> 5 | BA58: =B169 -> 11 | BB58: =B276 -> 7 | BC58: =B383 -> 4 | BD58: =B490 -> 9 | BE58: =B597 -> 6 | BF58: =B704 -> 5 | BH58: =AY58 -> 0.48958333 | BI58: =AC62 -> 21 | BJ58: =AC169 -> 23.2 | BK58: =AC276 -> 27 | BL58: =AC383 -> 23.8 | BM58: =AC490 -> 24.3 | BN58: =AC597 -> 22.7 | BO58: =AC704 -> 23.4 | BQ58: =BH58 -> 0.48958333 | BR58: =AD62 | BS58: =AD169 -> 28.5 | BT58: =AD276 | BU58: =AD383 | BV58: =AD490 | BW58: =AD597 | BX58: =AD704 | BZ58: =IF(SUM(BI58:BO58)>0,SUM(BI58:BO58) / COUNTIF(BI58:BO58, ">0"),NA()) -> 23.628571 | CA58: =IFERROR(SUM(BR58:BX58) / COUNTIF(BR58:BX58, ">0"), NA()) -> 28.5 | CB58: =CB57 -> 30 | CD58: =AE62 -> 0 | CE58: =AE169 -> 1 | CF58: =AE276 -> 2 | CG58: =AE383 -> 1 | CH58: =AE490 -> 0 | CI58: =AE597 -> 0 | CJ58: =AE704 -> 1 | CK58: =IFERROR((SUM(CD58:CJ58)/SUM(AZ58:BF58)) * 100, "") -> 10.638298 | CM58: =IFERROR(AZ58*BI58,"") -> 105 | CN58: =IFERROR(BA58*BJ58,"") -> 255.2 | CO58: =IFERROR(BB58*BK58,"") -> 189 | CP58: =IFERROR(BC58*BL58,"") -> 95.2 | CQ58: =IFERROR(BD58*BM58,"") -> 218.7 | CR58: =IFERROR(BE58*BN58,"") -> 136.2 | CS58: =IFERROR(BF58*BO58,"") -> 117 | CU58: =SUM(SUMIF($AZ$8:$BF$8, {"NON";"NEUT"}, AZ58:BF58))/config!$AC$16 -> 6.4 | CV58: =AY58 -> 0.48958333 | CY58: =SUM(C62*$CY$108, C169*$CY$109, C276*$CY$110, C383*$CY$111, C490*$CY$112, C597*$CY$113, C704*$CY$114)/config!$AC$16 -> 0.2 | CZ58: =SUM(SUM(D62:E62)*$CY$108, SUM(D169:E169)*$CY$109, SUM(D276:E276)*$CY$110, SUM(D383:E383)*$CY$111, SUM(D490:E490)*$CY$112, SUM(D597:E597)*$CY$113, SUM(D704:E704)*$CY$114)/config!$AC$16 -> 5.4 | DA58: =SUM(SUM(F62:G62)*$CY$108, SUM(F169:G169)*$CY$109, SUM(F276:G276)*$CY$110, SUM(F383:G383)*$CY$111, SUM(F490:G490)*$CY$112, SUM(F597:G597)*$CY$113, SUM(F704:G704)*$CY$114)/config!$AC$16 -> 0.8 | DB58: =SUM(H62*$CY$108, H169*$CY$109, H276*$CY$110, H383*$CY$111, H490*$CY$112, H597*$CY$113, H704*$CY$114)/config!$AC$16 -> 0 | DC58: =SUM(SUM(I62:L62)*$CY$108, SUM(I169:L169)*$CY$109, SUM(I276:L276)*$CY$110, SUM(I383:L383)*$CY$111, SUM(I490:L490)*$CY$112, SUM(I597:L597)*$CY$113, SUM(I704:L704)*$CY$114)/config!$AC$16 -> 0 | DF58: =IFERROR((CD58/AZ58)*100, "") -> 0 | DG58: =IFERROR((CE58/BA58)*100, "") -> 9.0909091 | DH58: =IFERROR((CF58/BB58)*100, "") -> 28.571429 | DI58: =IFERROR((CG58/BC58)*100, "") -> 25 | DJ58: =IFERROR((CH58/BD58)*100, "") -> 0 | DK58: =IFERROR((CI58/BE58)*100, "") -> 0 | DL58: =IFERROR((CJ58/BF58)*100, "") -> 20 | DN58: =AG62 -> 0 | DO58: =AG169 -> 0 | DP58: =AG276 -> 0 | DQ58: =AG383 -> 0 | DR58: =AG490 -> 0 | DS58: =AG597 -> 0 | DT58: =AG704 -> 1 | DV58: =CD58-DN58 -> 0 | DW58: =CE58-DO58 -> 1 | DX58: =CF58-DP58 -> 2 | DY58: =CG58-DQ58 -> 1 | DZ58: =CH58-DR58 -> 0 | EA58: =CI58-DS58 -> 0 | EB58: =CJ58-DT58 -> 0
