Workbook
Name _Toc380999782: SUMMARY!$C$184
Name _Toc380999783: SUMMARY!#REF!
Name _Toc380999784: SUMMARY!#REF!
Name _Toc380999785: SUMMARY!#REF!
Name _Toc380999786: SUMMARY!#REF!
Name _Toc380999787: SUMMARY!#REF!
Name _Toc380999788: SUMMARY!$C$186
Name _Toc380999789: SUMMARY!$K$186
Name _Toc380999790: SUMMARY!#REF!
Name _Toc380999791: SUMMARY!#REF!
Name _Toc380999792: SUMMARY!$K$184

Sheet SUMMARY
C2: PROJECT | E2: =config!D3 -> 25356 WICKHAM BISHOPS
C3: SITE CODE | E3: =LEFT(config!D3,5)&"-"&RIGHT( config!D4, LEN( config!D4 ) - 3 ) -> 25356-06
C4: LOCATION | E4: =IF(config!D5="","UNDEFINED",config!D4&"- "&config!D5) -> ATC06 - Church Rd, Wickham Bishops | Q4: logo
C5: LOC. DESC. | E5: =IF(config!D13="","UNDEFINED",config!D13) -> TP adj. church
C6: START DATE | E6: =IF(config!D6="","UNDEFINED",config!D6) -> 45972 | K6: =config!AC13&"-DAY AUTOMATIC TRAFFIC COUNT" -> 7-DAY AUTOMATIC TRAFFIC COUNT
C7: END DATE | E7: =IFERROR(TEXT( E6+(config!AC13-1), "DDD DD MMM, YYYY") & " (inc.)","UNDEFINED") -> Mon 17 Nov, 2025 (inc.)
C8: SPEED LIMIT | E8: =IF(config!D8="","UNDEFINED",config!D8&"mph") -> 30mph | K8: =IFERROR("A "&config!AC13&"-day automatic traffic count on "&config!D5&", commencing "&TEXT(config!D6,"ddd DD MMM YYYY")&", recorded a total of "&TEXT(config!AG14,"###,#")&" vehicles. The posted speed limit of "&config!D8&"mph was exceeded by "&TEXT(config!AG44*100,"0.0")&"% of vehicles, and the seasonally adjusted, combined AADT value is "&TEXT(I19,"#,###")&" (see 'Equipment & methodology' below). "&IF(config!AT17<=config!AA5,"Due to the low speeds recorded, the classification data should be disregarded due to a deterioration in accuracy. However, volume and speed data will remain accurate within tolerances.",""), "") -> A 7-day automatic traffic count on Church Rd, Wickham Bishops, commencing Tue 11 Nov 2025, recorded a total of 4,118 vehicles. The posted speed limit of 30mph was exceeded by 13.9% of vehicles, and the seasonally adjusted, combined AADT value is 673 (see 'Equipment & methodology' below).
C9: SURVEY TYPE | E9: =config!AC13&"-day ATC, 15min periods, 10 veh. classes" -> 7-day ATC, 15min periods, 10 veh. classes
C11: SUMMARY
C14: ="COMBINED " & UPPER(config!D11) & "- & " & UPPER(config!D12) &"BOUND" -> COMBINED EAST- & WESTBOUND
C15: Total recorded volume | I15: =TEXT(config!AG14,"#,###") -> 4,118 | K15: =IFERROR("The combined summary on the left shows the total volumes, average speeds, AADT and 85%iles recorded in both directions from all the recorded data, plus the Mon-Fri peak periods. Speeding vehicles are defined as those travelling "&config!D8+1&"mph and above. The summaries below provide directionalised details including speeding percentages and weekday daytime details.", "No data") -> The combined summary on the left shows the total volumes, average speeds, AADT and 85%iles recorded in both directions from all the recorded data, plus the Mon-Fri peak periods. Speeding vehicles are defined as those travelling 31mph and above. The summaries below provide directionalised details including speeding percentages and weekday daytime details.
C16: ="Avg daily volume (based on "&config!AC13&" days)" -> Avg daily volume (based on 7 days) | I16: =IFERROR(TEXT(config!AG17,"#,###.0"),"NO DATA") -> 588.3
C17: ="Average daily speed ("&config!AC13&" days)" -> Average daily speed (7 days) | I17: =IFERROR(TEXT(config!AT17,"#.0")&"mph","NO DATA") -> 24.6mph
C18: ="Average daily 85%ile ("&config!AC13&" days)" -> Average daily 85%ile (7 days) | I18: =IFERROR(TEXT(config!BK17,"#.0")&"mph","NO DATA") -> 29.8mph
C19: AADT (annual average daily traffic) | I19: =IFERROR(TEXT(config!CC14,"#,###.0"), "NO DATA") -> 673.1
C20: AAWT (annual average weekday traffic) | I20: =IFERROR(TEXT(config!CC31,"#,###.0"), "NO DATA") -> 718.1
C21: Avg weekday volume (Mon-Fri, 24hrs) | I21: =IFERROR(TEXT(config!AI17,"#,###.0"), "NO DATA") -> 625.4
C22: Avg weekday speed (Mon-Fri, 24hrs) | I22: =IFERROR(TEXT(config!AV17,"#.0")&"mph","NO DATA") -> 24.7mph
C23: Avg 12hr weekday volume (Mon-Fri, 0700-1900) | I23: =IFERROR(TEXT(config!AN17,"#,###.0"),"NO DATA") -> 550.6
C24: Avg 12hr weekday speed (Mon-Fri, 0700-1900) | I24: =IFERROR(TEXT(config!BA17,"#.0")&"mph","NO DATA") -> 24.6mph
C27: =UPPER(config!CI5) -> EASTBOUND | I27: =IFERROR(config!CI17, "X") -> → | K27: =UPPER(config!CI6) -> WESTBOUND | Q27: =IFERROR(config!CI18, "X") -> ←
C28: =UPPER(config!CI5) -> EASTBOUND | K28: =UPPER(config!CI6) -> WESTBOUND
C29: =C15 -> Total recorded volume | I29: =TEXT(config!AG13,"#,###") -> 2,040 | K29: =C29 -> Total recorded volume | Q29: =TEXT(config!AH13,"#,###") -> 2,078
C30: =C16 -> Avg daily volume (based on 7 days) | I30: =TEXT(config!AG16,"#,###.0") -> 291.4 | K30: =C30 -> Avg daily volume (based on 7 days) | Q30: =TEXT(config!AH16,"#,###.0") -> 296.9
C31: =C17 -> Average daily speed (7 days) | I31: =IFERROR(TEXT(config!AT16,"#.0")&"mph","NO DATA") -> 24.6mph | K31: =C31 -> Average daily speed (7 days) | Q31: =IFERROR(TEXT(config!AU16,"#.0")&"mph","NO DATA") -> 24.5mph
C32: =C18 -> Average daily 85%ile (7 days) | I32: =IFERROR(TEXT(config!BK16,"#.0")&"mph","NO DATA") -> 29.8mph | K32: =C32 -> Average daily 85%ile (7 days) | Q32: =IFERROR(TEXT(config!BL16,"#.0")&"mph","NO DATA") -> 29.7mph
C33: ="% of vehicles exceeding "&config!$D$8&"mph" -> % of vehicles exceeding 30mph | I33: =IFERROR(config!AG43,"NO DATA") -> 0.14313725 | K33: =C33 -> % of vehicles exceeding 30mph | Q33: =IFERROR(config!AH43,"NO DATA") -> 0.13522618
C35: =C21 -> Avg weekday volume (Mon-Fri, 24hrs) | I35: =IFERROR(TEXT(config!AI16, "#,###.0"),"NO DATA") -> 311.8 | K35: =C35 -> Avg weekday volume (Mon-Fri, 24hrs) | Q35: =IFERROR(TEXT(config!AJ16, "#,###.0"),"NO DATA") -> 313.6
C36: =C22 -> Avg weekday speed (Mon-Fri, 24hrs) | I36: =IFERROR(TEXT(config!AV16,"#.0")&"mph","NO DATA") -> 24.7mph | K36: =C36 -> Avg weekday speed (Mon-Fri, 24hrs) | Q36: =IFERROR(TEXT(config!AW16,"#.0")&"mph","NO DATA") -> 24.6mph
C37: Avg 12hr weekday volume (Mon-Fri, 0700-1900) | I37: =IFERROR(TEXT(config!AN16,"#,###.0"),"NO DATA") -> 269.0 | K37: =C37 -> Avg 12hr weekday volume (Mon-Fri, 0700-1900) | Q37: =IFERROR(TEXT(config!AO16,"#,###.0"),"NO DATA") -> 281.6
C38: Avg 12hr weekday speed (Mon-Fri, 0700-1900) | I38: =IFERROR(TEXT(config!BA16,"#.0")&"mph","NO DATA") -> 24.7mph | K38: =C38 -> Avg 12hr weekday speed (Mon-Fri, 0700-1900) | Q38: =IFERROR(TEXT(config!BB16,"#.0")&"mph","NO DATA") -> 24.5mph
C39: Avg 12hr weekday 85%ile (Mon-Fri, 0700-1900) | I39: =IFERROR(TEXT(config!BR16,"#.0")&"mph","NO DATA") -> 30.1mph | K39: =C39 -> Avg 12hr weekday 85%ile (Mon-Fri, 0700-1900) | Q39: =IFERROR(TEXT(config!BS16,"#.0")&"mph","NO DATA") -> 29.7mph
C40: AM avg peak vol period (Mon-Fri) | I40: =IFERROR(TEXT(config!AL25, "hh:mm") & " to " & TEXT(config!AL26, "hh:mm"), "") -> 08:30 to 08:45 | K40: =C40 -> AM avg peak vol period (Mon-Fri) | Q40: =IFERROR(TEXT(config!AM25, "hh:mm") & " to " & TEXT(config!AM26, "hh:mm"), "") -> 12:00 to 12:15
C41: PM avg peak vol period (Mon-Fri) | I41: =IFERROR(TEXT(config!AL29, "hh:mm") & " to " & TEXT(config!AL30, "hh:mm"), "") -> 15:30 to 15:45 | K41: =C41 -> PM avg peak vol period (Mon-Fri) | Q41: =IFERROR(TEXT(config!AM29, "hh:mm") & " to " & TEXT(config!AM30, "hh:mm"), "") -> 16:15 to 16:30
C42: SITE LOCATION
C44: SITE PLAN | M44: LOCATION | N44: =IF(config!D5="","UNDEFINED",config!D5) -> Church Rd, Wickham Bishops
M45: DESC. | N45: =IF(config!D13="","UNDEFINED",config!D13) -> TP adj. church
M46: DATES | O46: =IFERROR(TEXT(config!D6, "ddd dd mmm") &" to " & TEXT(config!D6+(config!AC13-1), "ddd dd mmm") & " inc.", "UNDEFINED") -> Tue 11 Nov to Mon 17 Nov inc.
M47: OSGR | O47: =IF(config!D14=0, "UNDEFINED",config!D14) -> 583700, 212083
M48: LAT / LNG | O48: =IF(config!D15<>"", HYPERLINK("https://maps.google.co.uk/maps?f=q&hl=en&q="&config!D15&"&ie=UTF8&z=16", config!D15), "UNDEFINED") -> 51.777258, 0.661440
...

Sheet DIR1
A1: DIR 1 | B1: TOTAL | C1: CLASS 1 | D1: CLASS 2 | E1: CLASS 3 | F1: CLASS 4 | G1: CLASS 5 | H1: CLASS 6 | I1: CLASS 7 | J1: CLASS 8 | K1: CLASS 9 | L1: CLASS 10 | N1: TIME | O1: =O13&"-"&O14&"mph" -> 0-10mph | P1: =P13&"-"&P14&"mph" -> 10-15mph | Q1: =Q13&"-"&Q14&"mph" -> 15-20mph | R1: =R13&"-"&R14&"mph" -> 20-25mph | S1: =S13&"-"&S14&"mph" -> 25-30mph | T1: =T13&"-"&T14&"mph" -> 30-35mph | U1: =U13&"-"&U14&"mph" -> 35-40mph | V1: =V13&"-"&V14&"mph" -> 40-45mph | ... AA1: =AA13&"-"&AA14&"mph" -> 80-90mph | AB1: =AB13&"mph+" -> 90mph+ | AC1: AVG SPD | AD1: 85%ile | AE1: PSL SPEEDING | AF1: PSL% SPEEDING | AG1: ACPO SPEEDING | AH1: ACPO% SPEEDING | AI1: DfT SPEEDING | AJ1: DfT% SPEEDING
A3: PROJECT | D3: =IF(config!D3<>"",config!D3,"UNDEFINED") -> 25356 WICKHAM BISHOPS
A4: SITE | D4: =IF(config!D4<>"",config!D4,"UNDEFINED") -> ATC06
A5: LOCATION | D5: =IF(config!D5<>"",UPPER(config!D5),"UNDEFINED") -> CHURCH RD, WICKHAM BISHOPS
A6: DIRECTION | D6: =IF(config!D11<>"",UPPER(config!CI5)&" "&config!CI17,"UNDEFINED") -> EASTBOUND →
A7: PSL | D7: =AE13&"mph" -> 30mph
AZ8: =IF(OR(WEEKDAY(AZ9)=2,WEEKDAY(AZ9)=6),"NON",IF(OR(WEEKDAY(AZ9)=1,WEEKDAY(AZ9)=7),"WKND","NEUT")) -> NEUT | BA8: =IF(OR(WEEKDAY(BA9)=2,WEEKDAY(BA9)=6),"NON",IF(OR(WEEKDAY(BA9)=1,WEEKDAY(BA9)=7),"WKND","NEUT")) -> NEUT | BB8: =IF(OR(WEEKDAY(BB9)=2,WEEKDAY(BB9)=6),"NON",IF(OR(WEEKDAY(BB9)=1,WEEKDAY(BB9)=7),"WKND","NEUT")) -> NEUT | BC8: =IF(OR(WEEKDAY(BC9)=2,WEEKDAY(BC9)=6),"NON",IF(OR(WEEKDAY(BC9)=1,WEEKDAY(BC9)=7),"WKND","NEUT")) -> NON | BD8: =IF(OR(WEEKDAY(BD9)=2,WEEKDAY(BD9)=6),"NON",IF(OR(WEEKDAY(BD9)=1,WEEKDAY(BD9)=7),"WKND","NEUT")) -> WKND | BE8: =IF(OR(WEEKDAY(BE9)=2,WEEKDAY(BE9)=6),"NON",IF(OR(WEEKDAY(BE9)=1,WEEKDAY(BE9)=7),"WKND","NEUT")) -> WKND | BF8: =IF(OR(WEEKDAY(BF9)=2,WEEKDAY(BF9)=6),"NON",IF(OR(WEEKDAY(BF9)=1,WEEKDAY(BF9)=7),"WKND","NEUT")) -> NON
A9: =config!CI17 -> → | B9: ALL VEHICLES | C9: =config!CG5 -> Motorcycles | D9: =config!CG6 -> Cars, 4WD, vans | E9: =config!CG7 -> Class 2 & trailer | F9: =config!CG8 -> 2-axle truck/bus | G9: =config!CG9 -> 3-axle truck/coach | H9: =config!CG10 -> 4-axle truck | I9: =config!CG11 -> 3-axle articulated | J9: =config!CG12 -> 4-axle articulated | K9: =config!CG13 -> 5-axle articulated | L9: =config!CG14 -> 6+ axle articulated | O9: =O13&" - "&O14&" mph" -> 0 - 10 mph | P9: =P13&" - "&P14&" mph" -> 10 - 15 mph | Q9: =Q13&" - "&Q14&" mph" -> 15 - 20 mph | R9: =R13&" - "&R14&" mph" -> 20 - 25 mph | S9: =S13&" - "&S14&" mph" -> 25 - 30 mph | T9: =T13&" - "&T14&" mph" -> 30 - 35 mph | U9: =U13&" - "&U14&" mph" -> 35 - 40 mph | V9: =V13&" - "&V14&" mph" -> 40 - 45 mph | ... AB9: =AB13&" - "&AB14&" mph" -> 90 - 100 mph | AC9: =AC12&" SPD" -> AVG SPD | AD9: 85%ile | AE9: ="> "&AE13&"mph" -> > 30mph | AF9: ="% > "&AF13&"mph" -> % > 30mph | AS9: =SUMMARY!D153 -> MOTOR CYCLES | AT9: =SUMMARY!E153 -> CARS / LGV1 | AU9: =SUMMARY!F153 -> LGV2 / MGV | AV9: =SUMMARY!G153 -> HGV_x000D_ RIGID | AW9: =SUMMARY!H153 -> HGV ARTIC'D | AZ9: =config!D6 -> 45972 | BA9: =AZ9+1 -> 45973 | BB9: =BA9+1 -> 45974 | BC9: =BB9+1 -> 45975 | BD9: =BC9+1 -> 45976 | BE9: =BD9+1 -> 45977 | BF9: =BE9+1 -> 45978 | BI9: =AZ9 -> 45972 | BJ9: =BA9 -> 45973 | BK9: =BB9 -> 45974 | BL9: =BC9 -> 45975 | BM9: =BD9 -> 45976 | BN9: =BE9 -> 45977 | BO9: =BF9 -> 45978 | BR9: =BI9 -> 45972 | BS9: =BJ9 -> 45973 | BT9: =BK9 -> 45974 | BU9: =BL9 -> 45975 | BV9: =BM9 -> 45976 | BW9: =BN9 -> 45977 | BX9: =BO9 -> 45978 | CD9: =AZ9 -> 45972 | CE9: =BA9 -> 45973 | CF9: =BB9 -> 45974 | CG9: =BC9 -> 45975 | CH9: =BD9 -> 45976 | CI9: =BE9 -> 45977 | CJ9: =BF9 -> 45978 | CY9: =AS9 -> MOTOR CYCLES | CZ9: =AT9 -> CARS / LGV1 | DA9: =AU9 -> LGV2 / MGV | DB9: =AV9 -> HGV_x000D_ RIGID | DC9: =AW9 -> HGV ARTIC'D
A10: =config!D6 -> 45972 | AP10: BUS | AS10: AVG CLASS | AZ10: VOLUME | BI10: BIN SPEED | BR10: 85%ile | BZ10: AVG SPD | CA10: 0.85 | CB10: PSL | CD10: SPEEDING VOL | CK10: %SPD | CM10: AVG SPD CALC | CY10: 5-DAY CLASS | DF10: SPEEDING % | DN10: speeding +5mph | DV10: speeding <5mph
AP11: =SUM(F15,F122,F229,F336,F443,F550,F657) -> 0 | AR11: 0 | AS11: =SUM(C15,C122,C229,C336,C443,C550,C657)/config!$AC$13 -> 0 | AT11: =SUM(D15:E15,D122:E122,D229:E229,D336:E336,D443:E443,D550:E550,D657:E657)/config!$AC$13 -> 0.42857143 | AU11: =SUM(F15:G15,F122:G122,F229:G229,F336:G336,F443:G443,F550:G550,F657:G657)/config!$AC$13 -> 0 | AV11: =SUM(H15,H122,H229,H336,H443,H550,H657)/config!$AC$13 -> 0 | AW11: =SUM(I15:L15,I122:L122,I229:L229,I336:L336,I443:L443,I550:L550,I657:L657)/config!$AC$13 -> 0 | AY11: 0 | AZ11: =B15 -> 0 | BA11: =B122 -> 0 | BB11: =B229 -> 0 | BC11: =B336 -> 1 | BD11: =B443 -> 1 | BE11: =B550 -> 1 | BF11: =B657 -> 0 | BH11: =AY11 -> 0 | BI11: =AC15 | BJ11: =AC122 | BK11: =AC229 | BL11: =AC336 -> 24.1 | BM11: =AC443 -> 26.4 | BN11: =AC550 -> 26.1 | BO11: =AC657 | BQ11: =BH11 -> 0 | BR11: =AD15 | BS11: =AD122 | BT11: =AD229 | BU11: =AD336 | BV11: =AD443 | BW11: =AD550 | BX11: =AD657 | BZ11: =IF(SUM(BI11:BO11)>0,SUM(BI11:BO11) / COUNTIF(BI11:BO11, ">0"),NA()) -> 25.533333 | CA11: =IFERROR(SUM(BR11:BX11) / COUNTIF(BR11:BX11, ">0"), NA()) -> #N/A | CB11: =--config!$D$8 -> 30 | CD11: =AE15 -> 0 | CE11: =AE122 -> 0 | CF11: =AE229 -> 0 | CG11: =AE336 -> 0 | CH11: =AE443 -> 0 | CI11: =AE550 -> 0 | CJ11: =AE657 -> 0 | CK11: =IFERROR((SUM(CD11:CJ11)/SUM(AZ11:BF11)) * 100, "") -> 0 | CM11: =IFERROR(AZ11*BI11,"") | CN11: =IFERROR(BA11*BJ11,"") | CO11: =IFERROR(BB11*BK11,"") | CP11: =IFERROR(BC11*BL11,"") -> 24.1 | CQ11: =IFERROR(BD11*BM11,"") -> 26.4 | CR11: =IFERROR(BE11*BN11,"") -> 26.1 | CS11: =IFERROR(BF11*BO11,"") | CU11: =SUM(SUMIF($AZ$8:$BF$8, {"NON";"NEUT"}, AZ11:BF11))/config!$AC$16 -> 0.2 | CV11: =AY11 -> 0 | CY11: =SUM(C15*$CY$108, C122*$CY$109, C229*$CY$110, C336*$CY$111, C443*$CY$112, C550*$CY$113, C657*$CY$114)/config!$AC$16 -> 0 | CZ11: =SUM(SUM(D15:E15)*$CY$108, SUM(D122:E122)*$CY$109, SUM(D229:E229)*$CY$110, SUM(D336:E336)*$CY$111, SUM(D443:E443)*$CY$112, SUM(D550:E550)*$CY$113, SUM(D657:E657)*$CY$114)/config!$AC$16 -> 0.2 | DA11: =SUM(SUM(F15:G15)*$CY$108, SUM(F122:G122)*$CY$109, SUM(F229:G229)*$CY$110, SUM(F336:G336)*$CY$111, SUM(F443:G443)*$CY$112, SUM(F550:G550)*$CY$113, SUM(F657:G657)*$CY$114)/config!$AC$16 -> 0 | DB11: =SUM(H15*$CY$108, H122*$CY$109, H229*$CY$110, H336*$CY$111, H443*$CY$112, H550*$CY$113, H657*$CY$114)/config!$AC$16 -> 0 | DC11: =SUM(SUM(I15:L15)*$CY$108, SUM(I122:L122)*$CY$109, SUM(I229:L229)*$CY$110, SUM(I336:L336)*$CY$111, SUM(I443:L443)*$CY$112, SUM(I550:L550)*$CY$113, SUM(I657:L657)*$CY$114)/config!$AC$16 -> 0 | DF11: =IFERROR((CD11/AZ11)*100, "") | DG11: =IFERROR((CE11/BA11)*100, "") | DH11: =IFERROR((CF11/BB11)*100, "") | DI11: =IFERROR((CG11/BC11)*100, "") -> 0 | DJ11: =IFERROR((CH11/BD11)*100, "") -> 0 | DK11: =IFERROR((CI11/BE11)*100, "") -> 0 | DL11: =IFERROR((CJ11/BF11)*100, "") | DN11: =AG15 -> 0 | DO11: =AG122 -> 0 | DP11: =AG229 -> 0 | DQ11: =AG336 -> 0 | DR11: =AG443 -> 0 | DS11: =AG550 -> 0 | DT11: =AG657 -> 0 | DV11: =CD11-DN11 -> 0 | DW11: =CE11-DO11 -> 0 | DX11: =CF11-DP11 -> 0 | DY11: =CG11-DQ11 -> 0 | DZ11: =CH11-DR11 -> 0 | EA11: =CI11-DS11 -> 0 | EB11: =CJ11-DT11 -> 0
A12: DAY 1 | B12: TOTAL | C12: CLS | D12: CLS | E12: CLS | F12: CLS | G12: CLS | H12: CLS | I12: CLS | J12: CLS | K12: CLS | L12: CLS | N12: TIME | O12: SPD1 | P12: SPD2 | Q12: SPD3 | R12: SPD4 | S12: SPD5 | T12: SPD6 | U12: SPD7 | V12: SPD8 | W12: SPD9 | X12: SPD10 | Y12: SPD11 | Z12: SPD12 | AA12: SPD13 | AB12: SPD14 | AC12: AVG | AD12: 85%ile | AE12: PSL | AF12: PSL% | AG12: SL1 | AH12: SL1% | AI12: SL2 | AJ12: SL2% | AP12: =SUM(F16,F123,F230,F337,F444,F551,F658) -> 1 | AR12: =AR11+TIME(0,15,0) -> 0.010416667 | AS12: =SUM(C16,C123,C230,C337,C444,C551,C658)/config!$AC$13 -> 0 | AT12: =SUM(D16:E16,D123:E123,D230:E230,D337:E337,D444:E444,D551:E551,D658:E658)/config!$AC$13 -> 0.14285714 | AU12: =SUM(F16:G16,F123:G123,F230:G230,F337:G337,F444:G444,F551:G551,F658:G658)/config!$AC$13 -> 0.14285714 | AV12: =SUM(H16,H123,H230,H337,H444,H551,H658)/config!$AC$13 -> 0 | AW12: =SUM(I16:L16,I123:L123,I230:L230,I337:L337,I444:L444,I551:L551,I658:L658)/config!$AC$13 -> 0 | AY12: =AY11+TIME(0,15,0) -> 0.010416667 | AZ12: =B16 -> 0 | BA12: =B123 -> 0 | BB12: =B230 -> 1 | BC12: =B337 -> 0 | BD12: =B444 -> 1 | BE12: =B551 -> 0 | BF12: =B658 -> 0 | BH12: =AY12 -> 0.010416667 | BI12: =AC16 | BJ12: =AC123 | BK12: =AC230 -> 23.7 | BL12: =AC337 | BM12: =AC444 -> 21.2 | BN12: =AC551 | BO12: =AC658 | BQ12: =BH12 -> 0.010416667 | BR12: =AD16 | BS12: =AD123 | BT12: =AD230 | BU12: =AD337 | BV12: =AD444 | BW12: =AD551 | BX12: =AD658 | BZ12: =IF(SUM(BI12:BO12)>0,SUM(BI12:BO12) / COUNTIF(BI12:BO12, ">0"),NA()) -> 22.45 | CA12: =IFERROR(SUM(BR12:BX12) / COUNTIF(BR12:BX12, ">0"), NA()) -> #N/A | CB12: =CB11 -> 30 | CD12: =AE16 -> 0 | CE12: =AE123 -> 0 | CF12: =AE230 -> 0 | CG12: =AE337 -> 0 | CH12: =AE444 -> 0 | CI12: =AE551 -> 0 | CJ12: =AE658 -> 0 | CK12: =IFERROR((SUM(CD12:CJ12)/SUM(AZ12:BF12)) * 100, "") -> 0 | CM12: =IFERROR(AZ12*BI12,"") | CN12: =IFERROR(BA12*BJ12,"") | CO12: =IFERROR(BB12*BK12,"") -> 23.7 | CP12: =IFERROR(BC12*BL12,"") | CQ12: =IFERROR(BD12*BM12,"") -> 21.2 | CR12: =IFERROR(BE12*BN12,"") | CS12: =IFERROR(BF12*BO12,"") | CU12: =SUM(SUMIF($AZ$8:$BF$8, {"NON";"NEUT"}, AZ12:BF12))/config!$AC$16 -> 0.2 | CV12: =AY12 -> 0.010416667 | CY12: =SUM(C16*$CY$108, C123*$CY$109, C230*$CY$110, C337*$CY$111, C444*$CY$112, C551*$CY$113, C658*$CY$114)/config!$AC$16 -> 0 | CZ12: =SUM(SUM(D16:E16)*$CY$108, SUM(D123:E123)*$CY$109, SUM(D230:E230)*$CY$110, SUM(D337:E337)*$CY$111, SUM(D444:E444)*$CY$112, SUM(D551:E551)*$CY$113, SUM(D658:E658)*$CY$114)/config!$AC$16 -> 0 | DA12: =SUM(SUM(F16:G16)*$CY$108, SUM(F123:G123)*$CY$109, SUM(F230:G230)*$CY$110, SUM(F337:G337)*$CY$111, SUM(F444:G444)*$CY$112, SUM(F551:G551)*$CY$113, SUM(F658:G658)*$CY$114)/config!$AC$16 -> 0.2 | DB12: =SUM(H16*$CY$108, H123*$CY$109, H230*$CY$110, H337*$CY$111, H444*$CY$112, H551*$CY$113, H658*$CY$114)/config!$AC$16 -> 0 | DC12: =SUM(SUM(I16:L16)*$CY$108, SUM(I123:L123)*$CY$109, SUM(I230:L230)*$CY$110, SUM(I337:L337)*$CY$111, SUM(I444:L444)*$CY$112, SUM(I551:L551)*$CY$113, SUM(I658:L658)*$CY$114)/config!$AC$16 -> 0 | DF12: =IFERROR((CD12/AZ12)*100, "") | DG12: =IFERROR((CE12/BA12)*100, "") | DH12: =IFERROR((CF12/BB12)*100, "") -> 0 | DI12: =IFERROR((CG12/BC12)*100, "") | DJ12: =IFERROR((CH12/BD12)*100, "") -> 0 | DK12: =IFERROR((CI12/BE12)*100, "") | DL12: =IFERROR((CJ12/BF12)*100, "") | DN12: =AG16 -> 0 | DO12: =AG123 -> 0 | DP12: =AG230 -> 0 | DQ12: =AG337 -> 0 | DR12: =AG444 -> 0 | DS12: =AG551 -> 0 | DT12: =AG658 -> 0 | DV12: =CD12-DN12 -> 0 | DW12: =CE12-DO12 -> 0 | DX12: =CF12-DP12 -> 0 | DY12: =CG12-DQ12 -> 0 | DZ12: =CH12-DR12 -> 0 | EA12: =CI12-DS12 -> 0 | EB12: =CJ12-DT12 -> 0
C13: 1 | D13: 2 | E13: 3 | F13: 4 | G13: 5 | H13: 6 | I13: 7 | J13: 8 | K13: 9 | L13: 10 | O13: =O120 -> 0 | P13: =P120 -> 10 | Q13: =Q120 -> 15 | R13: =R120 -> 20 | S13: =S120 -> 25 | T13: =T120 -> 30 | U13: =U120 -> 35 | V13: =V120 -> 40 | ... AB13: =AB120 -> 90 | AE13: =AE120 -> 30 | AF13: =AF120 -> 30 | AG13: =AG120 -> 35 | AH13: =AH120 -> 35 | AI13: =AI120 -> 45 | AJ13: =AJ120 -> 45 | AP13: =SUM(F17,F124,F231,F338,F445,F552,F659) -> 1 | AR13: =AR12+TIME(0,15,0) -> 0.020833333 | AS13: =SUM(C17,C124,C231,C338,C445,C552,C659)/config!$AC$13 -> 0 | AT13: =SUM(D17:E17,D124:E124,D231:E231,D338:E338,D445:E445,D552:E552,D659:E659)/config!$AC$13 -> 0.14285714 | AU13: =SUM(F17:G17,F124:G124,F231:G231,F338:G338,F445:G445,F552:G552,F659:G659)/config!$AC$13 -> 0.14285714 | AV13: =SUM(H17,H124,H231,H338,H445,H552,H659)/config!$AC$13 -> 0 | AW13: =SUM(I17:L17,I124:L124,I231:L231,I338:L338,I445:L445,I552:L552,I659:L659)/config!$AC$13 -> 0 | AY13: =AY12+TIME(0,15,0) -> 0.020833333 | AZ13: =B17 -> 0 | BA13: =B124 -> 0 | BB13: =B231 -> 1 | BC13: =B338 -> 1 | BD13: =B445 -> 0 | BE13: =B552 -> 0 | BF13: =B659 -> 0 | BH13: =AY13 -> 0.020833333 | BI13: =AC17 | BJ13: =AC124 | BK13: =AC231 -> 25.2 | BL13: =AC338 -> 21.3 | BM13: =AC445 | BN13: =AC552 | BO13: =AC659 | BQ13: =BH13 -> 0.020833333 | BR13: =AD17 | BS13: =AD124 | BT13: =AD231 | BU13: =AD338 | BV13: =AD445 | BW13: =AD552 | BX13: =AD659 | BZ13: =IF(SUM(BI13:BO13)>0,SUM(BI13:BO13) / COUNTIF(BI13:BO13, ">0"),NA()) -> 23.25 | CA13: =IFERROR(SUM(BR13:BX13) / COUNTIF(BR13:BX13, ">0"), NA()) -> #N/A | CB13: =CB12 -> 30 | CD13: =AE17 -> 0 | CE13: =AE124 -> 0 | CF13: =AE231 -> 0 | CG13: =AE338 -> 0 | CH13: =AE445 -> 0 | CI13: =AE552 -> 0 | CJ13: =AE659 -> 0 | CK13: =IFERROR((SUM(CD13:CJ13)/SUM(AZ13:BF13)) * 100, "") -> 0 | CM13: =IFERROR(AZ13*BI13,"") | CN13: =IFERROR(BA13*BJ13,"") | CO13: =IFERROR(BB13*BK13,"") -> 25.2 | CP13: =IFERROR(BC13*BL13,"") -> 21.3 | CQ13: =IFERROR(BD13*BM13,"") | CR13: =IFERROR(BE13*BN13,"") | CS13: =IFERROR(BF13*BO13,"") | CU13: =SUM(SUMIF($AZ$8:$BF$8, {"NON";"NEUT"}, AZ13:BF13))/config!$AC$16 -> 0.4 | CV13: =AY13 -> 0.020833333 | CY13: =SUM(C17*$CY$108, C124*$CY$109, C231*$CY$110, C338*$CY$111, C445*$CY$112, C552*$CY$113, C659*$CY$114)/config!$AC$16 -> 0 | CZ13: =SUM(SUM(D17:E17)*$CY$108, SUM(D124:E124)*$CY$109, SUM(D231:E231)*$CY$110, SUM(D338:E338)*$CY$111, SUM(D445:E445)*$CY$112, SUM(D552:E552)*$CY$113, SUM(D659:E659)*$CY$114)/config!$AC$16 -> 0.2 | DA13: =SUM(SUM(F17:G17)*$CY$108, SUM(F124:G124)*$CY$109, SUM(F231:G231)*$CY$110, SUM(F338:G338)*$CY$111, SUM(F445:G445)*$CY$112, SUM(F552:G552)*$CY$113, SUM(F659:G659)*$CY$114)/config!$AC$16 -> 0.2 | DB13: =SUM(H17*$CY$108, H124*$CY$109, H231*$CY$110, H338*$CY$111, H445*$CY$112, H552*$CY$113, H659*$CY$114)/config!$AC$16 -> 0 | DC13: =SUM(SUM(I17:L17)*$CY$108, SUM(I124:L124)*$CY$109, SUM(I231:L231)*$CY$110, SUM(I338:L338)*$CY$111, SUM(I445:L445)*$CY$112, SUM(I552:L552)*$CY$113, SUM(I659:L659)*$CY$114)/config!$AC$16 -> 0 | DF13: =IFERROR((CD13/AZ13)*100, "") | DG13: =IFERROR((CE13/BA13)*100, "") | DH13: =IFERROR((CF13/BB13)*100, "") -> 0 | DI13: =IFERROR((CG13/BC13)*100, "") -> 0 | DJ13: =IFERROR((CH13/BD13)*100, "") | DK13: =IFERROR((CI13/BE13)*100, "") | DL13: =IFERROR((CJ13/BF13)*100, "") | DN13: =AG17 -> 0 | DO13: =AG124 -> 0 | DP13: =AG231 -> 0 | DQ13: =AG338 -> 0 | DR13: =AG445 -> 0 | DS13: =AG552 -> 0 | DT13: =AG659 -> 0 | DV13: =CD13-DN13 -> 0 | DW13: =CE13-DO13 -> 0 | DX13: =CF13-DP13 -> 0 | DY13: =CG13-DQ13 -> 0 | DZ13: =CH13-DR13 -> 0 | EA13: =CI13-DS13 -> 0 | EB13: =CJ13-DT13 -> 0
O14: =O121 -> 10 | P14: =P121 -> 15 | Q14: =Q121 -> 20 | R14: =R121 -> 25 | S14: =S121 -> 30 | T14: =T121 -> 35 | U14: =U121 -> 40 | V14: =V121 -> 45 | ... AB14: =AB121 -> 100 | AG14: ACPO | AH14: ACPO | AI14: DFT | AJ14: DFT | AP14: =SUM(F18,F125,F232,F339,F446,F553,F660) -> 1 | AR14: =AR13+TIME(0,15,0) -> 0.03125 | AS14: =SUM(C18,C125,C232,C339,C446,C553,C660)/config!$AC$13 -> 0 | AT14: =SUM(D18:E18,D125:E125,D232:E232,D339:E339,D446:E446,D553:E553,D660:E660)/config!$AC$13 -> 0.28571429 | AU14: =SUM(F18:G18,F125:G125,F232:G232,F339:G339,F446:G446,F553:G553,F660:G660)/config!$AC$13 -> 0.14285714 | AV14: =SUM(H18,H125,H232,H339,H446,H553,H660)/config!$AC$13 -> 0 | AW14: =SUM(I18:L18,I125:L125,I232:L232,I339:L339,I446:L446,I553:L553,I660:L660)/config!$AC$13 -> 0 | AY14: =AY13+TIME(0,15,0) -> 0.03125 | AZ14: =B18 -> 0 | BA14: =B125 -> 0 | BB14: =B232 -> 0 | BC14: =B339 -> 1 | BD14: =B446 -> 2 | BE14: =B553 -> 0 | BF14: =B660 -> 0 | BH14: =AY14 -> 0.03125 | BI14: =AC18 | BJ14: =AC125 | BK14: =AC232 | BL14: =AC339 -> 21.6 | BM14: =AC446 -> 21.3 | BN14: =AC553 | BO14: =AC660 | BQ14: =BH14 -> 0.03125 | BR14: =AD18 | BS14: =AD125 | BT14: =AD232 | BU14: =AD339 | BV14: =AD446 | BW14: =AD553 | BX14: =AD660 | BZ14: =IF(SUM(BI14:BO14)>0,SUM(BI14:BO14) / COUNTIF(BI14:BO14, ">0"),NA()) -> 21.45 | CA14: =IFERROR(SUM(BR14:BX14) / COUNTIF(BR14:BX14, ">0"), NA()) -> #N/A | CB14: =CB13 -> 30 | CD14: =AE18 -> 0 | CE14: =AE125 -> 0 | CF14: =AE232 -> 0 | CG14: =AE339 -> 0 | CH14: =AE446 -> 0 | CI14: =AE553 -> 0 | CJ14: =AE660 -> 0 | CK14: =IFERROR((SUM(CD14:CJ14)/SUM(AZ14:BF14)) * 100, "") -> 0 | CM14: =IFERROR(AZ14*BI14,"") | CN14: =IFERROR(BA14*BJ14,"") | CO14: =IFERROR(BB14*BK14,"") | CP14: =IFERROR(BC14*BL14,"") -> 21.6 | CQ14: =IFERROR(BD14*BM14,"") -> 42.6 | CR14: =IFERROR(BE14*BN14,"") | CS14: =IFERROR(BF14*BO14,"") | CU14: =SUM(SUMIF($AZ$8:$BF$8, {"NON";"NEUT"}, AZ14:BF14))/config!$AC$16 -> 0.2 | CV14: =AY14 -> 0.03125 | CY14: =SUM(C18*$CY$108, C125*$CY$109, C232*$CY$110, C339*$CY$111, C446*$CY$112, C553*$CY$113, C660*$CY$114)/config!$AC$16 -> 0 | CZ14: =SUM(SUM(D18:E18)*$CY$108, SUM(D125:E125)*$CY$109, SUM(D232:E232)*$CY$110, SUM(D339:E339)*$CY$111, SUM(D446:E446)*$CY$112, SUM(D553:E553)*$CY$113, SUM(D660:E660)*$CY$114)/config!$AC$16 -> 0.2 | DA14: =SUM(SUM(F18:G18)*$CY$108, SUM(F125:G125)*$CY$109, SUM(F232:G232)*$CY$110, SUM(F339:G339)*$CY$111, SUM(F446:G446)*$CY$112, SUM(F553:G553)*$CY$113, SUM(F660:G660)*$CY$114)/config!$AC$16 -> 0 | DB14: =SUM(H18*$CY$108, H125*$CY$109, H232*$CY$110, H339*$CY$111, H446*$CY$112, H553*$CY$113, H660*$CY$114)/config!$AC$16 -> 0 | DC14: =SUM(SUM(I18:L18)*$CY$108, SUM(I125:L125)*$CY$109, SUM(I232:L232)*$CY$110, SUM(I339:L339)*$CY$111, SUM(I446:L446)*$CY$112, SUM(I553:L553)*$CY$113, SUM(I660:L660)*$CY$114)/config!$AC$16 -> 0 | DF14: =IFERROR((CD14/AZ14)*100, "") | DG14: =IFERROR((CE14/BA14)*100, "") | DH14: =IFERROR((CF14/BB14)*100, "") | DI14: =IFERROR((CG14/BC14)*100, "") -> 0 | DJ14: =IFERROR((CH14/BD14)*100, "") -> 0 | DK14: =IFERROR((CI14/BE14)*100, "") | DL14: =IFERROR((CJ14/BF14)*100, "") | DN14: =AG18 -> 0 | DO14: =AG125 -> 0 | DP14: =AG232 -> 0 | DQ14: =AG339 -> 0 | DR14: =AG446 -> 0 | DS14: =AG553 -> 0 | DT14: =AG660 -> 0 | DV14: =CD14-DN14 -> 0 | DW14: =CE14-DO14 -> 0 | DX14: =CF14-DP14 -> 0 | DY14: =CG14-DQ14 -> 0 | DZ14: =CH14-DR14 -> 0 | EA14: =CI14-DS14 -> 0 | EB14: =CJ14-DT14 -> 0
A15: 0000 | B15: 0 | C15: 0 | D15: 0 | E15: 0 | F15: 0 | G15: 0 | H15: 0 | I15: 0 | J15: 0 | K15: 0 | L15: 0 | N15: 0000 | O15: 0 | P15: 0 | Q15: 0 | R15: 0 | S15: 0 | T15: 0 | U15: 0 | V15: 0 | W15: 0 | X15: 0 | Y15: 0 | Z15: 0 | AA15: 0 | AB15: 0 | AE15: 0 | AF15: 0 | AG15: 0 | AH15: 0 | AI15: 0 | AJ15: 0 | AP15: =SUM(F19,F126,F233,F340,F447,F554,F661) -> 0 | AR15: =AR14+TIME(0,15,0) -> 0.041666667 | AS15: =SUM(C19,C126,C233,C340,C447,C554,C661)/config!$AC$13 -> 0 | AT15: =SUM(D19:E19,D126:E126,D233:E233,D340:E340,D447:E447,D554:E554,D661:E661)/config!$AC$13 -> 0 | AU15: =SUM(F19:G19,F126:G126,F233:G233,F340:G340,F447:G447,F554:G554,F661:G661)/config!$AC$13 -> 0 | AV15: =SUM(H19,H126,H233,H340,H447,H554,H661)/config!$AC$13 -> 0 | AW15: =SUM(I19:L19,I126:L126,I233:L233,I340:L340,I447:L447,I554:L554,I661:L661)/config!$AC$13 -> 0 | AY15: =AY14+TIME(0,15,0) -> 0.041666667 | AZ15: =B19 -> 0 | BA15: =B126 -> 0 | BB15: =B233 -> 0 | BC15: =B340 -> 0 | BD15: =B447 -> 0 | BE15: =B554 -> 0 | BF15: =B661 -> 0 | BH15: =AY15 -> 0.041666667 | BI15: =AC19 | BJ15: =AC126 | BK15: =AC233 | BL15: =AC340 | BM15: =AC447 | BN15: =AC554 | BO15: =AC661 | BQ15: =BH15 -> 0.041666667 | BR15: =AD19 | BS15: =AD126 | BT15: =AD233 | BU15: =AD340 | BV15: =AD447 | BW15: =AD554 | BX15: =AD661 | BZ15: =IF(SUM(BI15:BO15)>0,SUM(BI15:BO15) / COUNTIF(BI15:BO15, ">0"),NA()) -> #N/A | CA15: =IFERROR(SUM(BR15:BX15) / COUNTIF(BR15:BX15, ">0"), NA()) -> #N/A | CB15: =CB14 -> 30 | CD15: =AE19 -> 0 | CE15: =AE126 -> 0 | CF15: =AE233 -> 0 | CG15: =AE340 -> 0 | CH15: =AE447 -> 0 | CI15: =AE554 -> 0 | CJ15: =AE661 -> 0 | CK15: =IFERROR((SUM(CD15:CJ15)/SUM(AZ15:BF15)) * 100, "") | CM15: =IFERROR(AZ15*BI15,"") | CN15: =IFERROR(BA15*BJ15,"") | CO15: =IFERROR(BB15*BK15,"") | CP15: =IFERROR(BC15*BL15,"") | CQ15: =IFERROR(BD15*BM15,"") | CR15: =IFERROR(BE15*BN15,"") | CS15: =IFERROR(BF15*BO15,"") | CU15: =SUM(SUMIF($AZ$8:$BF$8, {"NON";"NEUT"}, AZ15:BF15))/config!$AC$16 -> 0 | CV15: =AY15 -> 0.041666667 | CY15: =SUM(C19*$CY$108, C126*$CY$109, C233*$CY$110, C340*$CY$111, C447*$CY$112, C554*$CY$113, C661*$CY$114)/config!$AC$16 -> 0 | CZ15: =SUM(SUM(D19:E19)*$CY$108, SUM(D126:E126)*$CY$109, SUM(D233:E233)*$CY$110, SUM(D340:E340)*$CY$111, SUM(D447:E447)*$CY$112, SUM(D554:E554)*$CY$113, SUM(D661:E661)*$CY$114)/config!$AC$16 -> 0 | DA15: =SUM(SUM(F19:G19)*$CY$108, SUM(F126:G126)*$CY$109, SUM(F233:G233)*$CY$110, SUM(F340:G340)*$CY$111, SUM(F447:G447)*$CY$112, SUM(F554:G554)*$CY$113, SUM(F661:G661)*$CY$114)/config!$AC$16 -> 0 | DB15: =SUM(H19*$CY$108, H126*$CY$109, H233*$CY$110, H340*$CY$111, H447*$CY$112, H554*$CY$113, H661*$CY$114)/config!$AC$16 -> 0 | DC15: =SUM(SUM(I19:L19)*$CY$108, SUM(I126:L126)*$CY$109, SUM(I233:L233)*$CY$110, SUM(I340:L340)*$CY$111, SUM(I447:L447)*$CY$112, SUM(I554:L554)*$CY$113, SUM(I661:L661)*$CY$114)/config!$AC$16 -> 0 | DF15: =IFERROR((CD15/AZ15)*100, "") | DG15: =IFERROR((CE15/BA15)*100, "") | DH15: =IFERROR((CF15/BB15)*100, "") | DI15: =IFERROR((CG15/BC15)*100, "") | DJ15: =IFERROR((CH15/BD15)*100, "") | DK15: =IFERROR((CI15/BE15)*100, "") | DL15: =IFERROR((CJ15/BF15)*100, "") | DN15: =AG19 -> 0 | DO15: =AG126 -> 0 | DP15: =AG233 -> 0 | DQ15: =AG340 -> 0 | DR15: =AG447 -> 0 | DS15: =AG554 -> 0 | DT15: =AG661 -> 0 | DV15: =CD15-DN15 -> 0 | DW15: =CE15-DO15 -> 0 | DX15: =CF15-DP15 -> 0 | DY15: =CG15-DQ15 -> 0 | DZ15: =CH15-DR15 -> 0 | EA15: =CI15-DS15 -> 0 | EB15: =CJ15-DT15 -> 0
A16: 0015 | B16: 0 | C16: 0 | D16: 0 | E16: 0 | F16: 0 | G16: 0 | H16: 0 | I16: 0 | J16: 0 | K16: 0 | L16: 0 | N16: 0015 | O16: 0 | P16: 0 | Q16: 0 | R16: 0 | S16: 0 | T16: 0 | U16: 0 | V16: 0 | W16: 0 | X16: 0 | Y16: 0 | Z16: 0 | AA16: 0 | AB16: 0 | AE16: 0 | AF16: 0 | AG16: 0 | AH16: 0 | AI16: 0 | AJ16: 0 | AP16: =SUM(F20,F127,F234,F341,F448,F555,F662) -> 1 | AR16: =AR15+TIME(0,15,0) -> 0.052083333 | AS16: =SUM(C20,C127,C234,C341,C448,C555,C662)/config!$AC$13 -> 0 | AT16: =SUM(D20:E20,D127:E127,D234:E234,D341:E341,D448:E448,D555:E555,D662:E662)/config!$AC$13 -> 0 | AU16: =SUM(F20:G20,F127:G127,F234:G234,F341:G341,F448:G448,F555:G555,F662:G662)/config!$AC$13 -> 0.14285714 | AV16: =SUM(H20,H127,H234,H341,H448,H555,H662)/config!$AC$13 -> 0 | AW16: =SUM(I20:L20,I127:L127,I234:L234,I341:L341,I448:L448,I555:L555,I662:L662)/config!$AC$13 -> 0 | AY16: =AY15+TIME(0,15,0) -> 0.052083333 | AZ16: =B20 -> 1 | BA16: =B127 -> 0 | BB16: =B234 -> 0 | BC16: =B341 -> 0 | BD16: =B448 -> 0 | BE16: =B555 -> 0 | BF16: =B662 -> 0 | BH16: =AY16 -> 0.052083333 | BI16: =AC20 -> 24 | BJ16: =AC127 | BK16: =AC234 | BL16: =AC341 | BM16: =AC448 | BN16: =AC555 | BO16: =AC662 | BQ16: =BH16 -> 0.052083333 | BR16: =AD20 | BS16: =AD127 | BT16: =AD234 | BU16: =AD341 | BV16: =AD448 | BW16: =AD555 | BX16: =AD662 | BZ16: =IF(SUM(BI16:BO16)>0,SUM(BI16:BO16) / COUNTIF(BI16:BO16, ">0"),NA()) -> 24 | CA16: =IFERROR(SUM(BR16:BX16) / COUNTIF(BR16:BX16, ">0"), NA()) -> #N/A | CB16: =CB15 -> 30 | CD16: =AE20 -> 0 | CE16: =AE127 -> 0 | CF16: =AE234 -> 0 | CG16: =AE341 -> 0 | CH16: =AE448 -> 0 | CI16: =AE555 -> 0 | CJ16: =AE662 -> 0 | CK16: =IFERROR((SUM(CD16:CJ16)/SUM(AZ16:BF16)) * 100, "") -> 0 | CM16: =IFERROR(AZ16*BI16,"") -> 24 | CN16: =IFERROR(BA16*BJ16,"") | CO16: =IFERROR(BB16*BK16,"") | CP16: =IFERROR(BC16*BL16,"") | CQ16: =IFERROR(BD16*BM16,"") | CR16: =IFERROR(BE16*BN16,"") | CS16: =IFERROR(BF16*BO16,"") | CU16: =SUM(SUMIF($AZ$8:$BF$8, {"NON";"NEUT"}, AZ16:BF16))/config!$AC$16 -> 0.2 | CV16: =AY16 -> 0.052083333 | CY16: =SUM(C20*$CY$108, C127*$CY$109, C234*$CY$110, C341*$CY$111, C448*$CY$112, C555*$CY$113, C662*$CY$114)/config!$AC$16 -> 0 | CZ16: =SUM(SUM(D20:E20)*$CY$108, SUM(D127:E127)*$CY$109, SUM(D234:E234)*$CY$110, SUM(D341:E341)*$CY$111, SUM(D448:E448)*$CY$112, SUM(D555:E555)*$CY$113, SUM(D662:E662)*$CY$114)/config!$AC$16 -> 0 | DA16: =SUM(SUM(F20:G20)*$CY$108, SUM(F127:G127)*$CY$109, SUM(F234:G234)*$CY$110, SUM(F341:G341)*$CY$111, SUM(F448:G448)*$CY$112, SUM(F555:G555)*$CY$113, SUM(F662:G662)*$CY$114)/config!$AC$16 -> 0.2 | DB16: =SUM(H20*$CY$108, H127*$CY$109, H234*$CY$110, H341*$CY$111, H448*$CY$112, H555*$CY$113, H662*$CY$114)/config!$AC$16 -> 0 | DC16: =SUM(SUM(I20:L20)*$CY$108, SUM(I127:L127)*$CY$109, SUM(I234:L234)*$CY$110, SUM(I341:L341)*$CY$111, SUM(I448:L448)*$CY$112, SUM(I555:L555)*$CY$113, SUM(I662:L662)*$CY$114)/config!$AC$16 -> 0 | DF16: =IFERROR((CD16/AZ16)*100, "") -> 0 | DG16: =IFERROR((CE16/BA16)*100, "") | DH16: =IFERROR((CF16/BB16)*100, "") | DI16: =IFERROR((CG16/BC16)*100, "") | DJ16: =IFERROR((CH16/BD16)*100, "") | DK16: =IFERROR((CI16/BE16)*100, "") | DL16: =IFERROR((CJ16/BF16)*100, "") | DN16: =AG20 -> 0 | DO16: =AG127 -> 0 | DP16: =AG234 -> 0 | DQ16: =AG341 -> 0 | DR16: =AG448 -> 0 | DS16: =AG555 -> 0 | DT16: =AG662 -> 0 | DV16: =CD16-DN16 -> 0 | DW16: =CE16-DO16 -> 0 | DX16: =CF16-DP16 -> 0 | DY16: =CG16-DQ16 -> 0 | DZ16: =CH16-DR16 -> 0 | EA16: =CI16-DS16 -> 0 | EB16: =CJ16-DT16 -> 0
A17: 0030 | B17: 0 | C17: 0 | D17: 0 | E17: 0 | F17: 0 | G17: 0 | H17: 0 | I17: 0 | J17: 0 | K17: 0 | L17: 0 | N17: 0030 | O17: 0 | P17: 0 | Q17: 0 | R17: 0 | S17: 0 | T17: 0 | U17: 0 | V17: 0 | W17: 0 | X17: 0 | Y17: 0 | Z17: 0 | AA17: 0 | AB17: 0 | AE17: 0 | AF17: 0 | AG17: 0 | AH17: 0 | AI17: 0 | AJ17: 0 | AP17: =SUM(F21,F128,F235,F342,F449,F556,F663) -> 0 | AR17: =AR16+TIME(0,15,0) -> 0.0625 | AS17: =SUM(C21,C128,C235,C342,C449,C556,C663)/config!$AC$13 -> 0 | AT17: =SUM(D21:E21,D128:E128,D235:E235,D342:E342,D449:E449,D556:E556,D663:E663)/config!$AC$13 -> 0.14285714 | AU17: =SUM(F21:G21,F128:G128,F235:G235,F342:G342,F449:G449,F556:G556,F663:G663)/config!$AC$13 -> 0 | AV17: =SUM(H21,H128,H235,H342,H449,H556,H663)/config!$AC$13 -> 0 | AW17: =SUM(I21:L21,I128:L128,I235:L235,I342:L342,I449:L449,I556:L556,I663:L663)/config!$AC$13 -> 0 | AY17: =AY16+TIME(0,15,0) -> 0.0625 | AZ17: =B21 -> 0 | BA17: =B128 -> 1 | BB17: =B235 -> 0 | BC17: =B342 -> 0 | BD17: =B449 -> 0 | BE17: =B556 -> 0 | BF17: =B663 -> 0 | BH17: =AY17 -> 0.0625 | BI17: =AC21 | BJ17: =AC128 -> 22.2 | BK17: =AC235 | BL17: =AC342 | BM17: =AC449 | BN17: =AC556 | BO17: =AC663 | BQ17: =BH17 -> 0.0625 | BR17: =AD21 | BS17: =AD128 | BT17: =AD235 | BU17: =AD342 | BV17: =AD449 | BW17: =AD556 | BX17: =AD663 | BZ17: =IF(SUM(BI17:BO17)>0,SUM(BI17:BO17) / COUNTIF(BI17:BO17, ">0"),NA()) -> 22.2 | CA17: =IFERROR(SUM(BR17:BX17) / COUNTIF(BR17:BX17, ">0"), NA()) -> #N/A | CB17: =CB16 -> 30 | CD17: =AE21 -> 0 | CE17: =AE128 -> 0 | CF17: =AE235 -> 0 | CG17: =AE342 -> 0 | CH17: =AE449 -> 0 | CI17: =AE556 -> 0 | CJ17: =AE663 -> 0 | CK17: =IFERROR((SUM(CD17:CJ17)/SUM(AZ17:BF17)) * 100, "") -> 0 | CM17: =IFERROR(AZ17*BI17,"") | CN17: =IFERROR(BA17*BJ17,"") -> 22.2 | CO17: =IFERROR(BB17*BK17,"") | CP17: =IFERROR(BC17*BL17,"") | CQ17: =IFERROR(BD17*BM17,"") | CR17: =IFERROR(BE17*BN17,"") | CS17: =IFERROR(BF17*BO17,"") | CU17: =SUM(SUMIF($AZ$8:$BF$8, {"NON";"NEUT"}, AZ17:BF17))/config!$AC$16 -> 0.2 | CV17: =AY17 -> 0.0625 | CY17: =SUM(C21*$CY$108, C128*$CY$109, C235*$CY$110, C342*$CY$111, C449*$CY$112, C556*$CY$113, C663*$CY$114)/config!$AC$16 -> 0 | CZ17: =SUM(SUM(D21:E21)*$CY$108, SUM(D128:E128)*$CY$109, SUM(D235:E235)*$CY$110, SUM(D342:E342)*$CY$111, SUM(D449:E449)*$CY$112, SUM(D556:E556)*$CY$113, SUM(D663:E663)*$CY$114)/config!$AC$16 -> 0.2 | DA17: =SUM(SUM(F21:G21)*$CY$108, SUM(F128:G128)*$CY$109, SUM(F235:G235)*$CY$110, SUM(F342:G342)*$CY$111, SUM(F449:G449)*$CY$112, SUM(F556:G556)*$CY$113, SUM(F663:G663)*$CY$114)/config!$AC$16 -> 0 | DB17: =SUM(H21*$CY$108, H128*$CY$109, H235*$CY$110, H342*$CY$111, H449*$CY$112, H556*$CY$113, H663*$CY$114)/config!$AC$16 -> 0 | DC17: =SUM(SUM(I21:L21)*$CY$108, SUM(I128:L128)*$CY$109, SUM(I235:L235)*$CY$110, SUM(I342:L342)*$CY$111, SUM(I449:L449)*$CY$112, SUM(I556:L556)*$CY$113, SUM(I663:L663)*$CY$114)/config!$AC$16 -> 0 | DF17: =IFERROR((CD17/AZ17)*100, "") | DG17: =IFERROR((CE17/BA17)*100, "") -> 0 | DH17: =IFERROR((CF17/BB17)*100, "") | DI17: =IFERROR((CG17/BC17)*100, "") | DJ17: =IFERROR((CH17/BD17)*100, "") | DK17: =IFERROR((CI17/BE17)*100, "") | DL17: =IFERROR((CJ17/BF17)*100, "") | DN17: =AG21 -> 0 | DO17: =AG128 -> 0 | DP17: =AG235 -> 0 | DQ17: =AG342 -> 0 | DR17: =AG449 -> 0 | DS17: =AG556 -> 0 | DT17: =AG663 -> 0 | DV17: =CD17-DN17 -> 0 | DW17: =CE17-DO17 -> 0 | DX17: =CF17-DP17 -> 0 | DY17: =CG17-DQ17 -> 0 | DZ17: =CH17-DR17 -> 0 | EA17: =CI17-DS17 -> 0 | EB17: =CJ17-DT17 -> 0
A18: 0045 | B18: 0 | C18: 0 | D18: 0 | E18: 0 | F18: 0 | G18: 0 | H18: 0 | I18: 0 | J18: 0 | K18: 0 | L18: 0 | N18: 0045 | O18: 0 | P18: 0 | Q18: 0 | R18: 0 | S18: 0 | T18: 0 | U18: 0 | V18: 0 | W18: 0 | X18: 0 | Y18: 0 | Z18: 0 | AA18: 0 | AB18: 0 | AE18: 0 | AF18: 0 | AG18: 0 | AH18: 0 | AI18: 0 | AJ18: 0 | AP18: =SUM(F22,F129,F236,F343,F450,F557,F664) -> 1 | AR18: =AR17+TIME(0,15,0) -> 0.072916667 | AS18: =SUM(C22,C129,C236,C343,C450,C557,C664)/config!$AC$13 -> 0 | AT18: =SUM(D22:E22,D129:E129,D236:E236,D343:E343,D450:E450,D557:E557,D664:E664)/config!$AC$13 -> 0 | AU18: =SUM(F22:G22,F129:G129,F236:G236,F343:G343,F450:G450,F557:G557,F664:G664)/config!$AC$13 -> 0.14285714 | AV18: =SUM(H22,H129,H236,H343,H450,H557,H664)/config!$AC$13 -> 0 | AW18: =SUM(I22:L22,I129:L129,I236:L236,I343:L343,I450:L450,I557:L557,I664:L664)/config!$AC$13 -> 0 | AY18: =AY17+TIME(0,15,0) -> 0.072916667 | AZ18: =B22 -> 0 | BA18: =B129 -> 0 | BB18: =B236 -> 0 | BC18: =B343 -> 0 | BD18: =B450 -> 1 | BE18: =B557 -> 0 | BF18: =B664 -> 0 | BH18: =AY18 -> 0.072916667 | BI18: =AC22 | BJ18: =AC129 | BK18: =AC236 | BL18: =AC343 | BM18: =AC450 -> 33.1 | BN18: =AC557 | BO18: =AC664 | BQ18: =BH18 -> 0.072916667 | BR18: =AD22 | BS18: =AD129 | BT18: =AD236 | BU18: =AD343 | BV18: =AD450 | BW18: =AD557 | BX18: =AD664 | BZ18: =IF(SUM(BI18:BO18)>0,SUM(BI18:BO18) / COUNTIF(BI18:BO18, ">0"),NA()) -> 33.1 | CA18: =IFERROR(SUM(BR18:BX18) / COUNTIF(BR18:BX18, ">0"), NA()) -> #N/A | CB18: =CB17 -> 30 | CD18: =AE22 -> 0 | CE18: =AE129 -> 0 | CF18: =AE236 -> 0 | CG18: =AE343 -> 0 | CH18: =AE450 -> 1 | CI18: =AE557 -> 0 | CJ18: =AE664 -> 0 | CK18: =IFERROR((SUM(CD18:CJ18)/SUM(AZ18:BF18)) * 100, "") -> 100 | CM18: =IFERROR(AZ18*BI18,"") | CN18: =IFERROR(BA18*BJ18,"") | CO18: =IFERROR(BB18*BK18,"") | CP18: =IFERROR(BC18*BL18,"") | CQ18: =IFERROR(BD18*BM18,"") -> 33.1 | CR18: =IFERROR(BE18*BN18,"") | CS18: =IFERROR(BF18*BO18,"") | CU18: =SUM(SUMIF($AZ$8:$BF$8, {"NON";"NEUT"}, AZ18:BF18))/config!$AC$16 -> 0 | CV18: =AY18 -> 0.072916667 | CY18: =SUM(C22*$CY$108, C129*$CY$109, C236*$CY$110, C343*$CY$111, C450*$CY$112, C557*$CY$113, C664*$CY$114)/config!$AC$16 -> 0 | CZ18: =SUM(SUM(D22:E22)*$CY$108, SUM(D129:E129)*$CY$109, SUM(D236:E236)*$CY$110, SUM(D343:E343)*$CY$111, SUM(D450:E450)*$CY$112, SUM(D557:E557)*$CY$113, SUM(D664:E664)*$CY$114)/config!$AC$16 -> 0 | DA18: =SUM(SUM(F22:G22)*$CY$108, SUM(F129:G129)*$CY$109, SUM(F236:G236)*$CY$110, SUM(F343:G343)*$CY$111, SUM(F450:G450)*$CY$112, SUM(F557:G557)*$CY$113, SUM(F664:G664)*$CY$114)/config!$AC$16 -> 0 | DB18: =SUM(H22*$CY$108, H129*$CY$109, H236*$CY$110, H343*$CY$111, H450*$CY$112, H557*$CY$113, H664*$CY$114)/config!$AC$16 -> 0 | DC18: =SUM(SUM(I22:L22)*$CY$108, SUM(I129:L129)*$CY$109, SUM(I236:L236)*$CY$110, SUM(I343:L343)*$CY$111, SUM(I450:L450)*$CY$112, SUM(I557:L557)*$CY$113, SUM(I664:L664)*$CY$114)/config!$AC$16 -> 0 | DF18: =IFERROR((CD18/AZ18)*100, "") | DG18: =IFERROR((CE18/BA18)*100, "") | DH18: =IFERROR((CF18/BB18)*100, "") | DI18: =IFERROR((CG18/BC18)*100, "") | DJ18: =IFERROR((CH18/BD18)*100, "") -> 100 | DK18: =IFERROR((CI18/BE18)*100, "") | DL18: =IFERROR((CJ18/BF18)*100, "") | DN18: =AG22 -> 0 | DO18: =AG129 -> 0 | DP18: =AG236 -> 0 | DQ18: =AG343 -> 0 | DR18: =AG450 -> 0 | DS18: =AG557 -> 0 | DT18: =AG664 -> 0 | DV18: =CD18-DN18 -> 0 | DW18: =CE18-DO18 -> 0 | DX18: =CF18-DP18 -> 0 | DY18: =CG18-DQ18 -> 0 | DZ18: =CH18-DR18 -> 1 | EA18: =CI18-DS18 -> 0 | EB18: =CJ18-DT18 -> 0
A19: 0100 | B19: 0 | C19: 0 | D19: 0 | E19: 0 | F19: 0 | G19: 0 | H19: 0 | I19: 0 | J19: 0 | K19: 0 | L19: 0 | N19: 0100 | O19: 0 | P19: 0 | Q19: 0 | R19: 0 | S19: 0 | T19: 0 | U19: 0 | V19: 0 | W19: 0 | X19: 0 | Y19: 0 | Z19: 0 | AA19: 0 | AB19: 0 | AE19: 0 | AF19: 0 | AG19: 0 | AH19: 0 | AI19: 0 | AJ19: 0 | AP19: =SUM(F23,F130,F237,F344,F451,F558,F665) -> 0 | AR19: =AR18+TIME(0,15,0) -> 0.083333333 | AS19: =SUM(C23,C130,C237,C344,C451,C558,C665)/config!$AC$13 -> 0 | AT19: =SUM(D23:E23,D130:E130,D237:E237,D344:E344,D451:E451,D558:E558,D665:E665)/config!$AC$13 -> 0.28571429 | AU19: =SUM(F23:G23,F130:G130,F237:G237,F344:G344,F451:G451,F558:G558,F665:G665)/config!$AC$13 -> 0 | AV19: =SUM(H23,H130,H237,H344,H451,H558,H665)/config!$AC$13 -> 0 | AW19: =SUM(I23:L23,I130:L130,I237:L237,I344:L344,I451:L451,I558:L558,I665:L665)/config!$AC$13 -> 0 | AY19: =AY18+TIME(0,15,0) -> 0.083333333 | AZ19: =B23 -> 0 | BA19: =B130 -> 0 | BB19: =B237 -> 1 | BC19: =B344 -> 1 | BD19: =B451 -> 0 | BE19: =B558 -> 0 | BF19: =B665 -> 0 | BH19: =AY19 -> 0.083333333 | BI19: =AC23 | BJ19: =AC130 | BK19: =AC237 -> 18.8 | BL19: =AC344 -> 21.5 | BM19: =AC451 | BN19: =AC558 | BO19: =AC665 | BQ19: =BH19 -> 0.083333333 | BR19: =AD23 | BS19: =AD130 | BT19: =AD237 | BU19: =AD344 | BV19: =AD451 | BW19: =AD558 | BX19: =AD665 | BZ19: =IF(SUM(BI19:BO19)>0,SUM(BI19:BO19) / COUNTIF(BI19:BO19, ">0"),NA()) -> 20.15 | CA19: =IFERROR(SUM(BR19:BX19) / COUNTIF(BR19:BX19, ">0"), NA()) -> #N/A | CB19: =CB18 -> 30 | CD19: =AE23 -> 0 | CE19: =AE130 -> 0 | CF19: =AE237 -> 0 | CG19: =AE344 -> 0 | CH19: =AE451 -> 0 | CI19: =AE558 -> 0 | CJ19: =AE665 -> 0 | CK19: =IFERROR((SUM(CD19:CJ19)/SUM(AZ19:BF19)) * 100, "") -> 0 | CM19: =IFERROR(AZ19*BI19,"") | CN19: =IFERROR(BA19*BJ19,"") | CO19: =IFERROR(BB19*BK19,"") -> 18.8 | CP19: =IFERROR(BC19*BL19,"") -> 21.5 | CQ19: =IFERROR(BD19*BM19,"") | CR19: =IFERROR(BE19*BN19,"") | CS19: =IFERROR(BF19*BO19,"") | CU19: =SUM(SUMIF($AZ$8:$BF$8, {"NON";"NEUT"}, AZ19:BF19))/config!$AC$16 -> 0.4 | CV19: =AY19 -> 0.083333333 | CY19: =SUM(C23*$CY$108, C130*$CY$109, C237*$CY$110, C344*$CY$111, C451*$CY$112, C558*$CY$113, C665*$CY$114)/config!$AC$16 -> 0 | CZ19: =SUM(SUM(D23:E23)*$CY$108, SUM(D130:E130)*$CY$109, SUM(D237:E237)*$CY$110, SUM(D344:E344)*$CY$111, SUM(D451:E451)*$CY$112, SUM(D558:E558)*$CY$113, SUM(D665:E665)*$CY$114)/config!$AC$16 -> 0.4 | DA19: =SUM(SUM(F23:G23)*$CY$108, SUM(F130:G130)*$CY$109, SUM(F237:G237)*$CY$110, SUM(F344:G344)*$CY$111, SUM(F451:G451)*$CY$112, SUM(F558:G558)*$CY$113, SUM(F665:G665)*$CY$114)/config!$AC$16 -> 0 | DB19: =SUM(H23*$CY$108, H130*$CY$109, H237*$CY$110, H344*$CY$111, H451*$CY$112, H558*$CY$113, H665*$CY$114)/config!$AC$16 -> 0 | DC19: =SUM(SUM(I23:L23)*$CY$108, SUM(I130:L130)*$CY$109, SUM(I237:L237)*$CY$110, SUM(I344:L344)*$CY$111, SUM(I451:L451)*$CY$112, SUM(I558:L558)*$CY$113, SUM(I665:L665)*$CY$114)/config!$AC$16 -> 0 | DF19: =IFERROR((CD19/AZ19)*100, "") | DG19: =IFERROR((CE19/BA19)*100, "") | DH19: =IFERROR((CF19/BB19)*100, "") -> 0 | DI19: =IFERROR((CG19/BC19)*100, "") -> 0 | DJ19: =IFERROR((CH19/BD19)*100, "") | DK19: =IFERROR((CI19/BE19)*100, "") | DL19: =IFERROR((CJ19/BF19)*100, "") | DN19: =AG23 -> 0 | DO19: =AG130 -> 0 | DP19: =AG237 -> 0 | DQ19: =AG344 -> 0 | DR19: =AG451 -> 0 | DS19: =AG558 -> 0 | DT19: =AG665 -> 0 | DV19: =CD19-DN19 -> 0 | DW19: =CE19-DO19 -> 0 | DX19: =CF19-DP19 -> 0 | DY19: =CG19-DQ19 -> 0 | DZ19: =CH19-DR19 -> 0 | EA19: =CI19-DS19 -> 0 | EB19: =CJ19-DT19 -> 0
A20: 0115 | B20: 1 | C20: 0 | D20: 0 | E20: 0 | F20: 1 | G20: 0 | H20: 0 | I20: 0 | J20: 0 | K20: 0 | L20: 0 | N20: 0115 | O20: 0 | P20: 0 | Q20: 0 | R20: 1 | S20: 0 | T20: 0 | U20: 0 | V20: 0 | W20: 0 | X20: 0 | Y20: 0 | Z20: 0 | AA20: 0 | AB20: 0 | AC20: 24 | AE20: 0 | AF20: 0 | AG20: 0 | AH20: 0 | AI20: 0 | AJ20: 0 | AP20: =SUM(F24,F131,F238,F345,F452,F559,F666) -> 0 | AR20: =AR19+TIME(0,15,0) -> 0.09375 | AS20: =SUM(C24,C131,C238,C345,C452,C559,C666)/config!$AC$13 -> 0 | AT20: =SUM(D24:E24,D131:E131,D238:E238,D345:E345,D452:E452,D559:E559,D666:E666)/config!$AC$13 -> 0.42857143 | AU20: =SUM(F24:G24,F131:G131,F238:G238,F345:G345,F452:G452,F559:G559,F666:G666)/config!$AC$13 -> 0 | AV20: =SUM(H24,H131,H238,H345,H452,H559,H666)/config!$AC$13 -> 0 | AW20: =SUM(I24:L24,I131:L131,I238:L238,I345:L345,I452:L452,I559:L559,I666:L666)/config!$AC$13 -> 0 | AY20: =AY19+TIME(0,15,0) -> 0.09375 | AZ20: =B24 -> 0 | BA20: =B131 -> 1 | BB20: =B238 -> 2 | BC20: =B345 -> 0 | BD20: =B452 -> 0 | BE20: =B559 -> 0 | BF20: =B666 -> 0 | BH20: =AY20 -> 0.09375 | BI20: =AC24 | BJ20: =AC131 -> 22.9 | BK20: =AC238 -> 20.1 | BL20: =AC345 | BM20: =AC452 | BN20: =AC559 | BO20: =AC666 | BQ20: =BH20 -> 0.09375 | BR20: =AD24 | BS20: =AD131 | BT20: =AD238 | BU20: =AD345 | BV20: =AD452 | BW20: =AD559 | BX20: =AD666 | BZ20: =IF(SUM(BI20:BO20)>0,SUM(BI20:BO20) / COUNTIF(BI20:BO20, ">0"),NA()) -> 21.5 | CA20: =IFERROR(SUM(BR20:BX20) / COUNTIF(BR20:BX20, ">0"), NA()) -> #N/A | CB20: =CB19 -> 30 | CD20: =AE24 -> 0 | CE20: =AE131 -> 0 | CF20: =AE238 -> 0 | CG20: =AE345 -> 0 | CH20: =AE452 -> 0 | CI20: =AE559 -> 0 | CJ20: =AE666 -> 0 | CK20: =IFERROR((SUM(CD20:CJ20)/SUM(AZ20:BF20)) * 100, "") -> 0 | CM20: =IFERROR(AZ20*BI20,"") | CN20: =IFERROR(BA20*BJ20,"") -> 22.9 | CO20: =IFERROR(BB20*BK20,"") -> 40.2 | CP20: =IFERROR(BC20*BL20,"") | CQ20: =IFERROR(BD20*BM20,"") | CR20: =IFERROR(BE20*BN20,"") | CS20: =IFERROR(BF20*BO20,"") | CU20: =SUM(SUMIF($AZ$8:$BF$8, {"NON";"NEUT"}, AZ20:BF20))/config!$AC$16 -> 0.6 | CV20: =AY20 -> 0.09375 | CY20: =SUM(C24*$CY$108, C131*$CY$109, C238*$CY$110, C345*$CY$111, C452*$CY$112, C559*$CY$113, C666*$CY$114)/config!$AC$16 -> 0 | CZ20: =SUM(SUM(D24:E24)*$CY$108, SUM(D131:E131)*$CY$109, SUM(D238:E238)*$CY$110, SUM(D345:E345)*$CY$111, SUM(D452:E452)*$CY$112, SUM(D559:E559)*$CY$113, SUM(D666:E666)*$CY$114)/config!$AC$16 -> 0.6 | DA20: =SUM(SUM(F24:G24)*$CY$108, SUM(F131:G131)*$CY$109, SUM(F238:G238)*$CY$110, SUM(F345:G345)*$CY$111, SUM(F452:G452)*$CY$112, SUM(F559:G559)*$CY$113, SUM(F666:G666)*$CY$114)/config!$AC$16 -> 0 | DB20: =SUM(H24*$CY$108, H131*$CY$109, H238*$CY$110, H345*$CY$111, H452*$CY$112, H559*$CY$113, H666*$CY$114)/config!$AC$16 -> 0 | DC20: =SUM(SUM(I24:L24)*$CY$108, SUM(I131:L131)*$CY$109, SUM(I238:L238)*$CY$110, SUM(I345:L345)*$CY$111, SUM(I452:L452)*$CY$112, SUM(I559:L559)*$CY$113, SUM(I666:L666)*$CY$114)/config!$AC$16 -> 0 | DF20: =IFERROR((CD20/AZ20)*100, "") | DG20: =IFERROR((CE20/BA20)*100, "") -> 0 | DH20: =IFERROR((CF20/BB20)*100, "") -> 0 | DI20: =IFERROR((CG20/BC20)*100, "") | DJ20: =IFERROR((CH20/BD20)*100, "") | DK20: =IFERROR((CI20/BE20)*100, "") | DL20: =IFERROR((CJ20/BF20)*100, "") | DN20: =AG24 -> 0 | DO20: =AG131 -> 0 | DP20: =AG238 -> 0 | DQ20: =AG345 -> 0 | DR20: =AG452 -> 0 | DS20: =AG559 -> 0 | DT20: =AG666 -> 0 | DV20: =CD20-DN20 -> 0 | DW20: =CE20-DO20 -> 0 | DX20: =CF20-DP20 -> 0 | DY20: =CG20-DQ20 -> 0 | DZ20: =CH20-DR20 -> 0 | EA20: =CI20-DS20 -> 0 | EB20: =CJ20-DT20 -> 0
A21: 0130 | B21: 0 | C21: 0 | D21: 0 | E21: 0 | F21: 0 | G21: 0 | H21: 0 | I21: 0 | J21: 0 | K21: 0 | L21: 0 | N21: 0130 | O21: 0 | P21: 0 | Q21: 0 | R21: 0 | S21: 0 | T21: 0 | U21: 0 | V21: 0 | W21: 0 | X21: 0 | Y21: 0 | Z21: 0 | AA21: 0 | AB21: 0 | AE21: 0 | AF21: 0 | AG21: 0 | AH21: 0 | AI21: 0 | AJ21: 0 | AP21: =SUM(F25,F132,F239,F346,F453,F560,F667) -> 1 | AR21: =AR20+TIME(0,15,0) -> 0.10416667 | AS21: =SUM(C25,C132,C239,C346,C453,C560,C667)/config!$AC$13 -> 0 | AT21: =SUM(D25:E25,D132:E132,D239:E239,D346:E346,D453:E453,D560:E560,D667:E667)/config!$AC$13 -> 0 | AU21: =SUM(F25:G25,F132:G132,F239:G239,F346:G346,F453:G453,F560:G560,F667:G667)/config!$AC$13 -> 0.14285714 | AV21: =SUM(H25,H132,H239,H346,H453,H560,H667)/config!$AC$13 -> 0 | AW21: =SUM(I25:L25,I132:L132,I239:L239,I346:L346,I453:L453,I560:L560,I667:L667)/config!$AC$13 -> 0 | AY21: =AY20+TIME(0,15,0) -> 0.10416667 | AZ21: =B25 -> 0 | BA21: =B132 -> 1 | BB21: =B239 -> 0 | BC21: =B346 -> 0 | BD21: =B453 -> 0 | BE21: =B560 -> 0 | BF21: =B667 -> 0 | BH21: =AY21 -> 0.10416667 | BI21: =AC25 | BJ21: =AC132 -> 35.7 | BK21: =AC239 | BL21: =AC346 | BM21: =AC453 | BN21: =AC560 | BO21: =AC667 | BQ21: =BH21 -> 0.10416667 | BR21: =AD25 | BS21: =AD132 | BT21: =AD239 | BU21: =AD346 | BV21: =AD453 | BW21: =AD560 | BX21: =AD667 | BZ21: =IF(SUM(BI21:BO21)>0,SUM(BI21:BO21) / COUNTIF(BI21:BO21, ">0"),NA()) -> 35.7 | CA21: =IFERROR(SUM(BR21:BX21) / COUNTIF(BR21:BX21, ">0"), NA()) -> #N/A | CB21: =CB20 -> 30 | CD21: =AE25 -> 0 | CE21: =AE132 -> 1 | CF21: =AE239 -> 0 | CG21: =AE346 -> 0 | CH21: =AE453 -> 0 | CI21: =AE560 -> 0 | CJ21: =AE667 -> 0 | CK21: =IFERROR((SUM(CD21:CJ21)/SUM(AZ21:BF21)) * 100, "") -> 100 | CM21: =IFERROR(AZ21*BI21,"") | CN21: =IFERROR(BA21*BJ21,"") -> 35.7 | CO21: =IFERROR(BB21*BK21,"") | CP21: =IFERROR(BC21*BL21,"") | CQ21: =IFERROR(BD21*BM21,"") | CR21: =IFERROR(BE21*BN21,"") | CS21: =IFERROR(BF21*BO21,"") | CU21: =SUM(SUMIF($AZ$8:$BF$8, {"NON";"NEUT"}, AZ21:BF21))/config!$AC$16 -> 0.2 | CV21: =AY21 -> 0.10416667 | CY21: =SUM(C25*$CY$108, C132*$CY$109, C239*$CY$110, C346*$CY$111, C453*$CY$112, C560*$CY$113, C667*$CY$114)/config!$AC$16 -> 0 | CZ21: =SUM(SUM(D25:E25)*$CY$108, SUM(D132:E132)*$CY$109, SUM(D239:E239)*$CY$110, SUM(D346:E346)*$CY$111, SUM(D453:E453)*$CY$112, SUM(D560:E560)*$CY$113, SUM(D667:E667)*$CY$114)/config!$AC$16 -> 0 | DA21: =SUM(SUM(F25:G25)*$CY$108, SUM(F132:G132)*$CY$109, SUM(F239:G239)*$CY$110, SUM(F346:G346)*$CY$111, SUM(F453:G453)*$CY$112, SUM(F560:G560)*$CY$113, SUM(F667:G667)*$CY$114)/config!$AC$16 -> 0.2 | DB21: =SUM(H25*$CY$108, H132*$CY$109, H239*$CY$110, H346*$CY$111, H453*$CY$112, H560*$CY$113, H667*$CY$114)/config!$AC$16 -> 0 | DC21: =SUM(SUM(I25:L25)*$CY$108, SUM(I132:L132)*$CY$109, SUM(I239:L239)*$CY$110, SUM(I346:L346)*$CY$111, SUM(I453:L453)*$CY$112, SUM(I560:L560)*$CY$113, SUM(I667:L667)*$CY$114)/config!$AC$16 -> 0 | DF21: =IFERROR((CD21/AZ21)*100, "") | DG21: =IFERROR((CE21/BA21)*100, "") -> 100 | DH21: =IFERROR((CF21/BB21)*100, "") | DI21: =IFERROR((CG21/BC21)*100, "") | DJ21: =IFERROR((CH21/BD21)*100, "") | DK21: =IFERROR((CI21/BE21)*100, "") | DL21: =IFERROR((CJ21/BF21)*100, "") | DN21: =AG25 -> 0 | DO21: =AG132 -> 1 | DP21: =AG239 -> 0 | DQ21: =AG346 -> 0 | DR21: =AG453 -> 0 | DS21: =AG560 -> 0 | DT21: =AG667 -> 0 | DV21: =CD21-DN21 -> 0 | DW21: =CE21-DO21 -> 0 | DX21: =CF21-DP21 -> 0 | DY21: =CG21-DQ21 -> 0 | DZ21: =CH21-DR21 -> 0 | EA21: =CI21-DS21 -> 0 | EB21: =CJ21-DT21 -> 0
A22: 0145 | B22: 0 | C22: 0 | D22: 0 | E22: 0 | F22: 0 | G22: 0 | H22: 0 | I22: 0 | J22: 0 | K22: 0 | L22: 0 | N22: 0145 | O22: 0 | P22: 0 | Q22: 0 | R22: 0 | S22: 0 | T22: 0 | U22: 0 | V22: 0 | W22: 0 | X22: 0 | Y22: 0 | Z22: 0 | AA22: 0 | AB22: 0 | AE22: 0 | AF22: 0 | AG22: 0 | AH22: 0 | AI22: 0 | AJ22: 0 | AP22: =SUM(F26,F133,F240,F347,F454,F561,F668) -> 0 | AR22: =AR21+TIME(0,15,0) -> 0.11458333 | AS22: =SUM(C26,C133,C240,C347,C454,C561,C668)/config!$AC$13 -> 0 | AT22: =SUM(D26:E26,D133:E133,D240:E240,D347:E347,D454:E454,D561:E561,D668:E668)/config!$AC$13 -> 0 | AU22: =SUM(F26:G26,F133:G133,F240:G240,F347:G347,F454:G454,F561:G561,F668:G668)/config!$AC$13 -> 0 | AV22: =SUM(H26,H133,H240,H347,H454,H561,H668)/config!$AC$13 -> 0 | AW22: =SUM(I26:L26,I133:L133,I240:L240,I347:L347,I454:L454,I561:L561,I668:L668)/config!$AC$13 -> 0 | AY22: =AY21+TIME(0,15,0) -> 0.11458333 | AZ22: =B26 -> 0 | BA22: =B133 -> 0 | BB22: =B240 -> 0 | BC22: =B347 -> 0 | BD22: =B454 -> 0 | BE22: =B561 -> 0 | BF22: =B668 -> 0 | BH22: =AY22 -> 0.11458333 | BI22: =AC26 | BJ22: =AC133 | BK22: =AC240 | BL22: =AC347 | BM22: =AC454 | BN22: =AC561 | BO22: =AC668 | BQ22: =BH22 -> 0.11458333 | BR22: =AD26 | BS22: =AD133 | BT22: =AD240 | BU22: =AD347 | BV22: =AD454 | BW22: =AD561 | BX22: =AD668 | BZ22: =IF(SUM(BI22:BO22)>0,SUM(BI22:BO22) / COUNTIF(BI22:BO22, ">0"),NA()) -> #N/A | CA22: =IFERROR(SUM(BR22:BX22) / COUNTIF(BR22:BX22, ">0"), NA()) -> #N/A | CB22: =CB21 -> 30 | CD22: =AE26 -> 0 | CE22: =AE133 -> 0 | CF22: =AE240 -> 0 | CG22: =AE347 -> 0 | CH22: =AE454 -> 0 | CI22: =AE561 -> 0 | CJ22: =AE668 -> 0 | CK22: =IFERROR((SUM(CD22:CJ22)/SUM(AZ22:BF22)) * 100, "") | CM22: =IFERROR(AZ22*BI22,"") | CN22: =IFERROR(BA22*BJ22,"") | CO22: =IFERROR(BB22*BK22,"") | CP22: =IFERROR(BC22*BL22,"") | CQ22: =IFERROR(BD22*BM22,"") | CR22: =IFERROR(BE22*BN22,"") | CS22: =IFERROR(BF22*BO22,"") | CU22: =SUM(SUMIF($AZ$8:$BF$8, {"NON";"NEUT"}, AZ22:BF22))/config!$AC$16 -> 0 | CV22: =AY22 -> 0.11458333 | CY22: =SUM(C26*$CY$108, C133*$CY$109, C240*$CY$110, C347*$CY$111, C454*$CY$112, C561*$CY$113, C668*$CY$114)/config!$AC$16 -> 0 | CZ22: =SUM(SUM(D26:E26)*$CY$108, SUM(D133:E133)*$CY$109, SUM(D240:E240)*$CY$110, SUM(D347:E347)*$CY$111, SUM(D454:E454)*$CY$112, SUM(D561:E561)*$CY$113, SUM(D668:E668)*$CY$114)/config!$AC$16 -> 0 | DA22: =SUM(SUM(F26:G26)*$CY$108, SUM(F133:G133)*$CY$109, SUM(F240:G240)*$CY$110, SUM(F347:G347)*$CY$111, SUM(F454:G454)*$CY$112, SUM(F561:G561)*$CY$113, SUM(F668:G668)*$CY$114)/config!$AC$16 -> 0 | DB22: =SUM(H26*$CY$108, H133*$CY$109, H240*$CY$110, H347*$CY$111, H454*$CY$112, H561*$CY$113, H668*$CY$114)/config!$AC$16 -> 0 | DC22: =SUM(SUM(I26:L26)*$CY$108, SUM(I133:L133)*$CY$109, SUM(I240:L240)*$CY$110, SUM(I347:L347)*$CY$111, SUM(I454:L454)*$CY$112, SUM(I561:L561)*$CY$113, SUM(I668:L668)*$CY$114)/config!$AC$16 -> 0 | DF22: =IFERROR((CD22/AZ22)*100, "") | DG22: =IFERROR((CE22/BA22)*100, "") | DH22: =IFERROR((CF22/BB22)*100, "") | DI22: =IFERROR((CG22/BC22)*100, "") | DJ22: =IFERROR((CH22/BD22)*100, "") | DK22: =IFERROR((CI22/BE22)*100, "") | DL22: =IFERROR((CJ22/BF22)*100, "") | DN22: =AG26 -> 0 | DO22: =AG133 -> 0 | DP22: =AG240 -> 0 | DQ22: =AG347 -> 0 | DR22: =AG454 -> 0 | DS22: =AG561 -> 0 | DT22: =AG668 -> 0 | DV22: =CD22-DN22 -> 0 | DW22: =CE22-DO22 -> 0 | DX22: =CF22-DP22 -> 0 | DY22: =CG22-DQ22 -> 0 | DZ22: =CH22-DR22 -> 0 | EA22: =CI22-DS22 -> 0 | EB22: =CJ22-DT22 -> 0
A23: 0200 | B23: 0 | C23: 0 | D23: 0 | E23: 0 | F23: 0 | G23: 0 | H23: 0 | I23: 0 | J23: 0 | K23: 0 | L23: 0 | N23: 0200 | O23: 0 | P23: 0 | Q23: 0 | R23: 0 | S23: 0 | T23: 0 | U23: 0 | V23: 0 | W23: 0 | X23: 0 | Y23: 0 | Z23: 0 | AA23: 0 | AB23: 0 | AE23: 0 | AF23: 0 | AG23: 0 | AH23: 0 | AI23: 0 | AJ23: 0 | AP23: =SUM(F27,F134,F241,F348,F455,F562,F669) -> 0 | AR23: =AR22+TIME(0,15,0) -> 0.125 | AS23: =SUM(C27,C134,C241,C348,C455,C562,C669)/config!$AC$13 -> 0 | AT23: =SUM(D27:E27,D134:E134,D241:E241,D348:E348,D455:E455,D562:E562,D669:E669)/config!$AC$13 -> 0 | AU23: =SUM(F27:G27,F134:G134,F241:G241,F348:G348,F455:G455,F562:G562,F669:G669)/config!$AC$13 -> 0 | AV23: =SUM(H27,H134,H241,H348,H455,H562,H669)/config!$AC$13 -> 0 | AW23: =SUM(I27:L27,I134:L134,I241:L241,I348:L348,I455:L455,I562:L562,I669:L669)/config!$AC$13 -> 0 | AY23: =AY22+TIME(0,15,0) -> 0.125 | AZ23: =B27 -> 0 | BA23: =B134 -> 0 | BB23: =B241 -> 0 | BC23: =B348 -> 0 | BD23: =B455 -> 0 | BE23: =B562 -> 0 | BF23: =B669 -> 0 | BH23: =AY23 -> 0.125 | BI23: =AC27 | BJ23: =AC134 | BK23: =AC241 | BL23: =AC348 | BM23: =AC455 | BN23: =AC562 | BO23: =AC669 | BQ23: =BH23 -> 0.125 | BR23: =AD27 | BS23: =AD134 | BT23: =AD241 | BU23: =AD348 | BV23: =AD455 | BW23: =AD562 | BX23: =AD669 | BZ23: =IF(SUM(BI23:BO23)>0,SUM(BI23:BO23) / COUNTIF(BI23:BO23, ">0"),NA()) -> #N/A | CA23: =IFERROR(SUM(BR23:BX23) / COUNTIF(BR23:BX23, ">0"), NA()) -> #N/A | CB23: =CB22 -> 30 | CD23: =AE27 -> 0 | CE23: =AE134 -> 0 | CF23: =AE241 -> 0 | CG23: =AE348 -> 0 | CH23: =AE455 -> 0 | CI23: =AE562 -> 0 | CJ23: =AE669 -> 0 | CK23: =IFERROR((SUM(CD23:CJ23)/SUM(AZ23:BF23)) * 100, "") | CM23: =IFERROR(AZ23*BI23,"") | CN23: =IFERROR(BA23*BJ23,"") | CO23: =IFERROR(BB23*BK23,"") | CP23: =IFERROR(BC23*BL23,"") | CQ23: =IFERROR(BD23*BM23,"") | CR23: =IFERROR(BE23*BN23,"") | CS23: =IFERROR(BF23*BO23,"") | CU23: =SUM(SUMIF($AZ$8:$BF$8, {"NON";"NEUT"}, AZ23:BF23))/config!$AC$16 -> 0 | CV23: =AY23 -> 0.125 | CY23: =SUM(C27*$CY$108, C134*$CY$109, C241*$CY$110, C348*$CY$111, C455*$CY$112, C562*$CY$113, C669*$CY$114)/config!$AC$16 -> 0 | CZ23: =SUM(SUM(D27:E27)*$CY$108, SUM(D134:E134)*$CY$109, SUM(D241:E241)*$CY$110, SUM(D348:E348)*$CY$111, SUM(D455:E455)*$CY$112, SUM(D562:E562)*$CY$113, SUM(D669:E669)*$CY$114)/config!$AC$16 -> 0 | DA23: =SUM(SUM(F27:G27)*$CY$108, SUM(F134:G134)*$CY$109, SUM(F241:G241)*$CY$110, SUM(F348:G348)*$CY$111, SUM(F455:G455)*$CY$112, SUM(F562:G562)*$CY$113, SUM(F669:G669)*$CY$114)/config!$AC$16 -> 0 | DB23: =SUM(H27*$CY$108, H134*$CY$109, H241*$CY$110, H348*$CY$111, H455*$CY$112, H562*$CY$113, H669*$CY$114)/config!$AC$16 -> 0 | DC23: =SUM(SUM(I27:L27)*$CY$108, SUM(I134:L134)*$CY$109, SUM(I241:L241)*$CY$110, SUM(I348:L348)*$CY$111, SUM(I455:L455)*$CY$112, SUM(I562:L562)*$CY$113, SUM(I669:L669)*$CY$114)/config!$AC$16 -> 0 | DF23: =IFERROR((CD23/AZ23)*100, "") | DG23: =IFERROR((CE23/BA23)*100, "") | DH23: =IFERROR((CF23/BB23)*100, "") | DI23: =IFERROR((CG23/BC23)*100, "") | DJ23: =IFERROR((CH23/BD23)*100, "") | DK23: =IFERROR((CI23/BE23)*100, "") | DL23: =IFERROR((CJ23/BF23)*100, "") | DN23: =AG27 -> 0 | DO23: =AG134 -> 0 | DP23: =AG241 -> 0 | DQ23: =AG348 -> 0 | DR23: =AG455 -> 0 | DS23: =AG562 -> 0 | DT23: =AG669 -> 0 | DV23: =CD23-DN23 -> 0 | DW23: =CE23-DO23 -> 0 | DX23: =CF23-DP23 -> 0 | DY23: =CG23-DQ23 -> 0 | DZ23: =CH23-DR23 -> 0 | EA23: =CI23-DS23 -> 0 | EB23: =CJ23-DT23 -> 0
A24: 0215 | B24: 0 | C24: 0 | D24: 0 | E24: 0 | F24: 0 | G24: 0 | H24: 0 | I24: 0 | J24: 0 | K24: 0 | L24: 0 | N24: 0215 | O24: 0 | P24: 0 | Q24: 0 | R24: 0 | S24: 0 | T24: 0 | U24: 0 | V24: 0 | W24: 0 | X24: 0 | Y24: 0 | Z24: 0 | AA24: 0 | AB24: 0 | AE24: 0 | AF24: 0 | AG24: 0 | AH24: 0 | AI24: 0 | AJ24: 0 | AP24: =SUM(F28,F135,F242,F349,F456,F563,F670) -> 0 | AR24: =AR23+TIME(0,15,0) -> 0.13541667 | AS24: =SUM(C28,C135,C242,C349,C456,C563,C670)/config!$AC$13 -> 0 | AT24: =SUM(D28:E28,D135:E135,D242:E242,D349:E349,D456:E456,D563:E563,D670:E670)/config!$AC$13 -> 0 | AU24: =SUM(F28:G28,F135:G135,F242:G242,F349:G349,F456:G456,F563:G563,F670:G670)/config!$AC$13 -> 0 | AV24: =SUM(H28,H135,H242,H349,H456,H563,H670)/config!$AC$13 -> 0 | AW24: =SUM(I28:L28,I135:L135,I242:L242,I349:L349,I456:L456,I563:L563,I670:L670)/config!$AC$13 -> 0 | AY24: =AY23+TIME(0,15,0) -> 0.13541667 | AZ24: =B28 -> 0 | BA24: =B135 -> 0 | BB24: =B242 -> 0 | BC24: =B349 -> 0 | BD24: =B456 -> 0 | BE24: =B563 -> 0 | BF24: =B670 -> 0 | BH24: =AY24 -> 0.13541667 | BI24: =AC28 | BJ24: =AC135 | BK24: =AC242 | BL24: =AC349 | BM24: =AC456 | BN24: =AC563 | BO24: =AC670 | BQ24: =BH24 -> 0.13541667 | BR24: =AD28 | BS24: =AD135 | BT24: =AD242 | BU24: =AD349 | BV24: =AD456 | BW24: =AD563 | BX24: =AD670 | BZ24: =IF(SUM(BI24:BO24)>0,SUM(BI24:BO24) / COUNTIF(BI24:BO24, ">0"),NA()) -> #N/A | CA24: =IFERROR(SUM(BR24:BX24) / COUNTIF(BR24:BX24, ">0"), NA()) -> #N/A | CB24: =CB23 -> 30 | CD24: =AE28 -> 0 | CE24: =AE135 -> 0 | CF24: =AE242 -> 0 | CG24: =AE349 -> 0 | CH24: =AE456 -> 0 | CI24: =AE563 -> 0 | CJ24: =AE670 -> 0 | CK24: =IFERROR((SUM(CD24:CJ24)/SUM(AZ24:BF24)) * 100, "") | CM24: =IFERROR(AZ24*BI24,"") | CN24: =IFERROR(BA24*BJ24,"") | CO24: =IFERROR(BB24*BK24,"") | CP24: =IFERROR(BC24*BL24,"") | CQ24: =IFERROR(BD24*BM24,"") | CR24: =IFERROR(BE24*BN24,"") | CS24: =IFERROR(BF24*BO24,"") | CU24: =SUM(SUMIF($AZ$8:$BF$8, {"NON";"NEUT"}, AZ24:BF24))/config!$AC$16 -> 0 | CV24: =AY24 -> 0.13541667 | CY24: =SUM(C28*$CY$108, C135*$CY$109, C242*$CY$110, C349*$CY$111, C456*$CY$112, C563*$CY$113, C670*$CY$114)/config!$AC$16 -> 0 | CZ24: =SUM(SUM(D28:E28)*$CY$108, SUM(D135:E135)*$CY$109, SUM(D242:E242)*$CY$110, SUM(D349:E349)*$CY$111, SUM(D456:E456)*$CY$112, SUM(D563:E563)*$CY$113, SUM(D670:E670)*$CY$114)/config!$AC$16 -> 0 | DA24: =SUM(SUM(F28:G28)*$CY$108, SUM(F135:G135)*$CY$109, SUM(F242:G242)*$CY$110, SUM(F349:G349)*$CY$111, SUM(F456:G456)*$CY$112, SUM(F563:G563)*$CY$113, SUM(F670:G670)*$CY$114)/config!$AC$16 -> 0 | DB24: =SUM(H28*$CY$108, H135*$CY$109, H242*$CY$110, H349*$CY$111, H456*$CY$112, H563*$CY$113, H670*$CY$114)/config!$AC$16 -> 0 | DC24: =SUM(SUM(I28:L28)*$CY$108, SUM(I135:L135)*$CY$109, SUM(I242:L242)*$CY$110, SUM(I349:L349)*$CY$111, SUM(I456:L456)*$CY$112, SUM(I563:L563)*$CY$113, SUM(I670:L670)*$CY$114)/config!$AC$16 -> 0 | DF24: =IFERROR((CD24/AZ24)*100, "") | DG24: =IFERROR((CE24/BA24)*100, "") | DH24: =IFERROR((CF24/BB24)*100, "") | DI24: =IFERROR((CG24/BC24)*100, "") | DJ24: =IFERROR((CH24/BD24)*100, "") | DK24: =IFERROR((CI24/BE24)*100, "") | DL24: =IFERROR((CJ24/BF24)*100, "") | DN24: =AG28 -> 0 | DO24: =AG135 -> 0 | DP24: =AG242 -> 0 | DQ24: =AG349 -> 0 | DR24: =AG456 -> 0 | DS24: =AG563 -> 0 | DT24: =AG670 -> 0 | DV24: =CD24-DN24 -> 0 | DW24: =CE24-DO24 -> 0 | DX24: =CF24-DP24 -> 0 | DY24: =CG24-DQ24 -> 0 | DZ24: =CH24-DR24 -> 0 | EA24: =CI24-DS24 -> 0 | EB24: =CJ24-DT24 -> 0
