Workbook

Sheet SUMMARY
C2: PROJECT | E2: =config!C3 -> 25356 HATFIELD PEVEREL
C3: SITE CODE | E3: =config!C51 -> 25356-41
C4: LOCATION | E4: =IF( config!C5 <> "", config!C4 & " - " & config!C5, "UNDEFINED" ) -> JCT41 - Duke of Wellington, Hatfield Peverel | O4: logo
C5: LOC. DESC. | E5: =config!AL7 & "-arm " & config!C10 -> 3-arm mini-roundabout
C6: START DATE | E6: =IF( config!C6 <> "", config!C6, "UNDEFINED" ) -> 45945
C7: DURATION | E7: 0600-1900 (13hrs)
C8: PSL | E8: =N16 -> 30mph
C9: SURVEY TYPE | E9: 15min interval junction count, origin & destination
C10: WEATHER | E10: =IF( config!C11 <> "", config!C11, "UNDEFINED" ) -> Overcast, max 13°C
C13: site map | M13: ="A "&config!AL4&"hr survey, commencing at "&TEXT(config!C7,"hh:mm")&" on "&TEXT(config!C6,"ddd dd mmm yyyy")&", recorded a total of "&TEXT('15MIN'!CF439, "#,###")&" vehicle movements in "&config!AL10&" classes at the "&config!AL7&"-arm junction." -> A 13hr survey, commencing at 06:00 on Wed 15 Oct 2025, recorded a total of 17,529 vehicle movements in 9 classes at the 3-arm junction.
M16: PSL | N16: =IF( config!C9<>"", config!C9 & "mph", "UNDEFINED" ) -> 30mph
M17: OSGR | N17: =IF( config!C20 <> "", config!C20, "UNDEFINED" ) -> 579411, 211928
M18: LAT, LNG | N18: =IF(config!C21<>"", HYPERLINK("https://maps.google.co.uk/maps?f=q&hl=en&q="&config!C21&"&ie=UTF8&z=16", config!C21), "UNDEFINED") -> 51.777257, 0.599256
M19: POST CODE | N19: =IF( config!C12 <> "", config!C12, "UNDEFINED" ) -> CM3 2HG
M20: =IF(config!AI12 = 0, "No data...", config!AI13 & " cyclists were recorded, "&config!AJ13& "% of the total volume. " & CHAR(10) & CHAR(10) & config!AJ14 & "% of the total volume consists of rigid and articulated HGVs." & CHAR(10) & CHAR(10) & config!C24 & CHAR(10) & CHAR(10) & "The AM peak was in the 15min period commencing at "&TEXT(config!AJ15, "hh:mm")&", whilst the PM peak was "&TEXT(config!AJ16, "hh:mm") & CHAR(10) & CHAR(10) & config!AP19& CHAR(10) & CHAR(10) & "ENTRY refers to entering the junction, EXITING refers to vehicles leaving the junction area.") -> 24 cyclists were recorded, 0.14% of the total volume. 3.49% of the total volume consists of rigid and articulated HGVs. There were no recorded incidents. The AM peak was in the 15min period commencing at 08:15, whilst the PM peak was 16:30 The busiest route over 13hrs was between B1019 Maldon Rd (S) and B1137 The Street (W) (see matrices). ENTRY refers to entering the junction, EXITING refers to vehicles leaving the junction area.
C25: Map © OpenStreetMap contributors
C26: VEHICLE MOVEMENTS
H29: Entering | J29: Exiting
C30: =IF(config!C14<>"", config!B14,"") -> ARM A | D30: =IF(C30<>"", config!AP4, "") -> B1137 The Street (W) | H30: =IF(C30<>"", '60MIN'!CF28, "") -> 6569 | I30: =IF(C30<>"", config!AH4, "") -> → | J30: =IF(C30<>"", '60MIN'!L166, "") -> 6967 | K30: =IF(C30<>"", config!AF4, "") -> ←
C31: =IF(config!C15<>"", config!B15,"") -> ARM B | D31: =IF(C31<>"", config!AP5, "") -> B1137 The Street (NE) | H31: =IF(C31<>"", '60MIN'!CF51, "") -> 4958 | I31: =IF(C31<>"", config!AH5, "") -> ↙ | J31: =IF(C31<>"", '60MIN'!X166, "") -> 4748 | K31: =IF(C31<>"", config!AF5, "") -> ↗
C32: =IF(config!C16<>"", config!B16,"") -> ARM C | D32: =IF(C32<>"", config!AP6, "") -> B1019 Maldon Rd (S) | H32: =IF(C32<>"", '60MIN'!CF74, "") -> 6002 | I32: =IF(C32<>"", config!AH6, "") -> ↑ | J32: =IF(C32<>"", '60MIN'!AJ166, "") -> 5814 | K32: =IF(C32<>"", config!AF6, "") -> ↓
C33: =IF(config!C17<>"", config!B17,"") | D33: =IF(C33<>"", config!AP7, "") | H33: =IF(C33<>"", '60MIN'!CF97, "") | I33: =IF(C33<>"", config!AH7, "") | J33: =IF(C33<>"", '60MIN'!AV166, "") | K33: =IF(C33<>"", config!AF7, "")
C34: =IF(config!C18<>"", config!B18,"") | D34: =IF(C34<>"", config!AP8, "") | H34: =IF(C34<>"", '60MIN'!CF120, "") | I34: =IF(C34<>"", config!AH8, "") | J34: =IF(C34<>"", '60MIN'!BH166, "") | K34: =IF(C34<>"", config!AF8, "")
C35: =IF(config!C19<>"", config!B19,"") | D35: =IF(C35<>"", config!AP9, "") | H35: =IF(C35<>"", '60MIN'!CF143, "") | I35: =IF(C35<>"", config!AH9, "") | J35: =IF(C35<>"", '60MIN'!BT166, "") | K35: =IF(C35<>"", config!AF9, "")
H36: =SUM(H30:H35) -> 17529 | J36: =SUM(J30:J35) -> 17529
J40: =config!AH4 -> → | M40: =UPPER(config!C14)&": entries at arm A (above the axis) against exits (below) for the survey duration." & CHAR(10) & CHAR(10) & TEXT(config!AH27, "0.0%") & " of all inbound movements, and " & TEXT(config!AI27, "0.0%") & " of all outbound movements." -> B1137 THE STREET: entries at arm A (above the axis) against exits (below) for the survey duration. 37.5% of all inbound movements, and 39.7% of all outbound movements.
J42: A
J43: =config!AF4 -> ←
J47: =config!AH5 -> ↙ | M47: =UPPER(config!C15)&": entries at arm B (above the axis) against exits (below) for the survey duration." & CHAR(10) & CHAR(10) & TEXT(config!AH28, "0.0%") & " of all inbound movements, and " & TEXT(config!AI28, "0.0%") & " of all outbound movements." -> B1137 THE STREET: entries at arm B (above the axis) against exits (below) for the survey duration. 28.3% of all inbound movements, and 27.1% of all outbound movements.
J49: B
J50: =config!AF5 -> ↗
J54: =config!AH6 -> ↑ | M54: =UPPER(config!C16)&": entries at arm C (above the axis) against exits (below) for the survey duration." & CHAR(10) & CHAR(10) & TEXT(config!AH29, "0.0%") & " of all inbound movements, and " & TEXT(config!AI29, "0.0%") & " of all outbound movements." -> B1019 MALDON RD: entries at arm C (above the axis) against exits (below) for the survey duration. 34.2% of all inbound movements, and 33.2% of all outbound movements.
J56: C
J57: =config!AF6 -> ↓
J61: =config!AH7 | M61: =UPPER(config!C17)&": entries at arm D (above the axis) against exits (below) for the survey duration." & CHAR(10) & CHAR(10) & TEXT(config!AH30, "0.0%") & " of all inbound movements, and " & TEXT(config!AI30, "0.0%") & " of all outbound movements." -> : entries at arm D (above the axis) against exits (below) for the survey duration. 0.0% of all inbound movements, and 0.0% of all outbound movements.
J63: D
J64: =config!AF7
J68: =config!AH8 | M68: =UPPER(config!C18)&": entries at arm E (above the axis) against exits (below) for the survey duration." & CHAR(10) & CHAR(10) & TEXT(config!AH31, "0.0%") & " of all inbound movements, and " & TEXT(config!AI31, "0.0%") & " of all outbound movements." -> : entries at arm E (above the axis) against exits (below) for the survey duration. 0.0% of all inbound movements, and 0.0% of all outbound movements.
J70: E
J71: =config!AF8
...

Sheet 15MIN
C2: PROJECT | F2: =config!C3 -> 25356 HATFIELD PEVEREL
C3: LOCATION | F3: =IF(config!C5<>"", config!C4&" - "&config!C5, "UNDEFINED") -> JCT41 - Duke of Wellington, Hatfield Peverel
C4: DATE | F4: =IF(config!C6<>"",config!C6,"UNDEFINED") -> 45945
C6: WEATHER | F6: =IF(config!C11<>"",config!C11,"UNDEFINED") -> Overcast, max 13°C
C7: DATASET | F7: =TEXT(config!C8,"hh:mm")&" minute intervals" -> 00:15 minute intervals
C9: ="ORIGIN: "&config!C14&" ("&config!F14&")" -> ORIGIN: B1137 The Street (west) | BW9: ORIGIN SUMMARY
C11: =config!$AH4&"A" -> →A | D11: to | E11: ="A"&config!$AF$4 -> A← | O11: =C11 -> →A | P11: to | Q11: ="B"&config!$AF$5 -> B↗ | AA11: =C11 -> →A | AB11: to | AC11: ="C"&config!$AF$6 -> C↓ | AM11: =C11 -> →A | AN11: to | AO11: ="D"&config!$AF$7 -> D | AY11: =C11 -> →A | AZ11: to | BA11: ="E"&config!$AF$8 -> E | BK11: =C11 -> →A | BL11: to | BM11: ="F"&config!$AF$9 -> F | BW11: ="ENTERING FROM "&C11 -> ENTERING FROM →A
C12: =config!C14&" to "&config!C14 -> B1137 The Street to B1137 The Street | O12: =config!C14&" to "&config!C15 -> B1137 The Street to B1137 The Street | AA12: =IF(config!C16<>"",config!C14&" to "&config!C16,"") -> B1137 The Street to B1019 Maldon Rd | AM12: =IF(config!C17<>"",config!C14&" to "&config!C17,"") | AY12: =IF(config!C18<>"",config!C14&" to "&config!C18,"") | BK12: =IF(config!C19<>"",config!C14&" to "&config!C19,"") | BW12: =config!C14 -> B1137 The Street
C14: =config!C27 -> CAR | D14: =config!C28 -> LGV1 | E14: =config!C29 -> LGV2 | F14: =config!C30 -> MGV | G14: =config!C31 -> HGV1 | H14: =config!C32 -> HGV2 | I14: =config!C33 -> PSV | J14: =config!C34 -> MB | K14: =config!C35 -> CYC | O14: =C14 -> CAR | P14: =D14 -> LGV1 | Q14: =E14 -> LGV2 | R14: =F14 -> MGV | S14: =G14 -> HGV1 | T14: =H14 -> HGV2 | U14: =I14 -> PSV | V14: =J14 -> MB | W14: =K14 -> CYC | AA14: =O14 -> CAR | AB14: =P14 -> LGV1 | AC14: =Q14 -> LGV2 | AD14: =R14 -> MGV | AE14: =S14 -> HGV1 | AF14: =T14 -> HGV2 | AG14: =U14 -> PSV | AH14: =V14 -> MB | AI14: =W14 -> CYC | AM14: =AA14 -> CAR | AN14: =AB14 -> LGV1 | AO14: =AC14 -> LGV2 | AP14: =AD14 -> MGV | AQ14: =AE14 -> HGV1 | AR14: =AF14 -> HGV2 | AS14: =AG14 -> PSV | AT14: =AH14 -> MB | AU14: =AI14 -> CYC | AY14: =AM14 -> CAR | AZ14: =AN14 -> LGV1 | BA14: =AO14 -> LGV2 | BB14: =AP14 -> MGV | BC14: =AQ14 -> HGV1 | BD14: =AR14 -> HGV2 | BE14: =AS14 -> PSV | BF14: =AT14 -> MB | BG14: =AU14 -> CYC | BK14: =AY14 -> CAR | BL14: =AZ14 -> LGV1 | BM14: =BA14 -> LGV2 | BN14: =BB14 -> MGV | BO14: =BC14 -> HGV1 | BP14: =BD14 -> HGV2 | BQ14: =BE14 -> PSV | BR14: =BF14 -> MB | BS14: =BG14 -> CYC | BW14: =BK14 -> CAR | BX14: =BL14 -> LGV1 | BY14: =BM14 -> LGV2 | BZ14: =BN14 -> MGV | CA14: =BO14 -> HGV1 | CB14: =BP14 -> HGV2 | CC14: =BQ14 -> PSV | CD14: =BR14 -> MB | CE14: =BS14 -> CYC
B15: =config!C7 -> 0.25 | C15: 0 | D15: 0 | E15: 0 | F15: 0 | G15: 0 | H15: 0 | I15: 0 | J15: 0 | K15: 0 | L15: {=IF(ISBLANK(C15:K15),"",SUM(C15:K15))} -> 0 | N15: =B15 -> 0.25 | O15: 10 | P15: 1 | Q15: 1 | R15: 0 | S15: 0 | T15: 0 | U15: 0 | V15: 0 | W15: 0 | X15: {=IF(ISBLANK(O15:W15),"",SUM(O15:W15))} -> 12 | Z15: =N15 -> 0.25 | AA15: 9 | AB15: 1 | AC15: 2 | AD15: 0 | AE15: 0 | AF15: 1 | AG15: 0 | AH15: 0 | AI15: 0 | AJ15: {=IF(ISBLANK(AA15:AI15),"",SUM(AA15:AI15))} -> 13 | AL15: =Z15 -> 0.25 | AV15: {=IF(ISBLANK(AM15:AU15),"",SUM(AM15:AU15))} | AX15: =AL15 -> 0.25 | BH15: {=IF(ISBLANK(AY15:BG15),"",SUM(AY15:BG15))} | BJ15: =AX15 -> 0.25 | BT15: {=IF(ISBLANK(BK15:BS15),"",SUM(BK15:BS15))} | BV15: =BJ15 -> 0.25 | BW15: =SUM(C15,O15,AA15,AM15,AY15,BK15) -> 19 | BX15: =SUM(D15,P15,AB15,AN15,AZ15,BL15) -> 2 | BY15: =SUM(E15,Q15,AC15,AO15,BA15,BM15) -> 3 | BZ15: =SUM(F15,R15,AD15,AP15,BB15,BN15) -> 0 | CA15: =SUM(G15,S15,AE15,AQ15,BC15,BO15) -> 0 | CB15: =SUM(H15,T15,AF15,AR15,BD15,BP15) -> 1 | CC15: =SUM(I15,U15,AG15,AS15,BE15,BQ15) -> 0 | CD15: =SUM(J15,V15,AH15,AT15,BF15,BR15) -> 0 | CE15: =SUM(K15,W15,AI15,AU15,BG15,BS15) -> 0 | CF15: =IF(BW15="","",SUM(BW15:CE15)) -> 25
B16: =B15+config!$C$8 -> 0.26041667 | C16: 0 | D16: 0 | E16: 0 | F16: 0 | G16: 0 | H16: 0 | I16: 0 | J16: 0 | K16: 0 | L16: {=IF(ISBLANK(C16:K16),"",SUM(C16:K16))} -> 0 | N16: =B16 -> 0.26041667 | O16: 15 | P16: 2 | Q16: 3 | R16: 0 | S16: 0 | T16: 1 | U16: 1 | V16: 0 | W16: 0 | X16: {=IF(ISBLANK(O16:W16),"",SUM(O16:W16))} -> 22 | Z16: =N16 -> 0.26041667 | AA16: 9 | AB16: 2 | AC16: 1 | AD16: 0 | AE16: 2 | AF16: 0 | AG16: 0 | AH16: 0 | AI16: 0 | AJ16: {=IF(ISBLANK(AA16:AI16),"",SUM(AA16:AI16))} -> 14 | AL16: =Z16 -> 0.26041667 | AV16: {=IF(ISBLANK(AM16:AU16),"",SUM(AM16:AU16))} | AX16: =AL16 -> 0.26041667 | BH16: {=IF(ISBLANK(AY16:BG16),"",SUM(AY16:BG16))} | BJ16: =AX16 -> 0.26041667 | BT16: {=IF(ISBLANK(BK16:BS16),"",SUM(BK16:BS16))} | BV16: =BJ16 -> 0.26041667 | BW16: =SUM(C16,O16,AA16,AM16,AY16,BK16) -> 24 | BX16: =SUM(D16,P16,AB16,AN16,AZ16,BL16) -> 4 | BY16: =SUM(E16,Q16,AC16,AO16,BA16,BM16) -> 4 | BZ16: =SUM(F16,R16,AD16,AP16,BB16,BN16) -> 0 | CA16: =SUM(G16,S16,AE16,AQ16,BC16,BO16) -> 2 | CB16: =SUM(H16,T16,AF16,AR16,BD16,BP16) -> 1 | CC16: =SUM(I16,U16,AG16,AS16,BE16,BQ16) -> 1 | CD16: =SUM(J16,V16,AH16,AT16,BF16,BR16) -> 0 | CE16: =SUM(K16,W16,AI16,AU16,BG16,BS16) -> 0 | CF16: =IF(BW16="","",SUM(BW16:CE16)) -> 36
B17: =B16+config!$C$8 -> 0.27083333 | C17: 0 | D17: 0 | E17: 0 | F17: 0 | G17: 0 | H17: 0 | I17: 0 | J17: 0 | K17: 0 | L17: {=IF(ISBLANK(C17:K17),"",SUM(C17:K17))} -> 0 | N17: =B17 -> 0.27083333 | O17: 20 | P17: 3 | Q17: 3 | R17: 0 | S17: 1 | T17: 0 | U17: 0 | V17: 0 | W17: 0 | X17: {=IF(ISBLANK(O17:W17),"",SUM(O17:W17))} -> 27 | Z17: =N17 -> 0.27083333 | AA17: 13 | AB17: 3 | AC17: 2 | AD17: 0 | AE17: 1 | AF17: 1 | AG17: 0 | AH17: 0 | AI17: 0 | AJ17: {=IF(ISBLANK(AA17:AI17),"",SUM(AA17:AI17))} -> 20 | AL17: =Z17 -> 0.27083333 | AV17: {=IF(ISBLANK(AM17:AU17),"",SUM(AM17:AU17))} | AX17: =AL17 -> 0.27083333 | BH17: {=IF(ISBLANK(AY17:BG17),"",SUM(AY17:BG17))} | BJ17: =AX17 -> 0.27083333 | BT17: {=IF(ISBLANK(BK17:BS17),"",SUM(BK17:BS17))} | BV17: =BJ17 -> 0.27083333 | BW17: =SUM(C17,O17,AA17,AM17,AY17,BK17) -> 33 | BX17: =SUM(D17,P17,AB17,AN17,AZ17,BL17) -> 6 | BY17: =SUM(E17,Q17,AC17,AO17,BA17,BM17) -> 5 | BZ17: =SUM(F17,R17,AD17,AP17,BB17,BN17) -> 0 | CA17: =SUM(G17,S17,AE17,AQ17,BC17,BO17) -> 2 | CB17: =SUM(H17,T17,AF17,AR17,BD17,BP17) -> 1 | CC17: =SUM(I17,U17,AG17,AS17,BE17,BQ17) -> 0 | CD17: =SUM(J17,V17,AH17,AT17,BF17,BR17) -> 0 | CE17: =SUM(K17,W17,AI17,AU17,BG17,BS17) -> 0 | CF17: =IF(BW17="","",SUM(BW17:CE17)) -> 47
B18: =B17+config!$C$8 -> 0.28125 | C18: 0 | D18: 0 | E18: 0 | F18: 0 | G18: 0 | H18: 0 | I18: 0 | J18: 0 | K18: 0 | L18: {=IF(ISBLANK(C18:K18),"",SUM(C18:K18))} -> 0 | N18: =B18 -> 0.28125 | O18: 19 | P18: 2 | Q18: 5 | R18: 0 | S18: 1 | T18: 1 | U18: 1 | V18: 0 | W18: 0 | X18: {=IF(ISBLANK(O18:W18),"",SUM(O18:W18))} -> 29 | Z18: =N18 -> 0.28125 | AA18: 33 | AB18: 2 | AC18: 3 | AD18: 0 | AE18: 3 | AF18: 1 | AG18: 0 | AH18: 0 | AI18: 0 | AJ18: {=IF(ISBLANK(AA18:AI18),"",SUM(AA18:AI18))} -> 42 | AL18: =Z18 -> 0.28125 | AV18: {=IF(ISBLANK(AM18:AU18),"",SUM(AM18:AU18))} | AX18: =AL18 -> 0.28125 | BH18: {=IF(ISBLANK(AY18:BG18),"",SUM(AY18:BG18))} | BJ18: =AX18 -> 0.28125 | BT18: {=IF(ISBLANK(BK18:BS18),"",SUM(BK18:BS18))} | BV18: =BJ18 -> 0.28125 | BW18: =SUM(C18,O18,AA18,AM18,AY18,BK18) -> 52 | BX18: =SUM(D18,P18,AB18,AN18,AZ18,BL18) -> 4 | BY18: =SUM(E18,Q18,AC18,AO18,BA18,BM18) -> 8 | BZ18: =SUM(F18,R18,AD18,AP18,BB18,BN18) -> 0 | CA18: =SUM(G18,S18,AE18,AQ18,BC18,BO18) -> 4 | CB18: =SUM(H18,T18,AF18,AR18,BD18,BP18) -> 2 | CC18: =SUM(I18,U18,AG18,AS18,BE18,BQ18) -> 1 | CD18: =SUM(J18,V18,AH18,AT18,BF18,BR18) -> 0 | CE18: =SUM(K18,W18,AI18,AU18,BG18,BS18) -> 0 | CF18: =IF(BW18="","",SUM(BW18:CE18)) -> 71
B19: =B18+config!$C$8 -> 0.29166667 | C19: 0 | D19: 0 | E19: 0 | F19: 0 | G19: 0 | H19: 0 | I19: 0 | J19: 0 | K19: 0 | L19: {=IF(ISBLANK(C19:K19),"",SUM(C19:K19))} -> 0 | N19: =B19 -> 0.29166667 | O19: 31 | P19: 1 | Q19: 4 | R19: 0 | S19: 1 | T19: 0 | U19: 0 | V19: 0 | W19: 0 | X19: {=IF(ISBLANK(O19:W19),"",SUM(O19:W19))} -> 37 | Z19: =N19 -> 0.29166667 | AA19: 38 | AB19: 9 | AC19: 8 | AD19: 0 | AE19: 1 | AF19: 0 | AG19: 1 | AH19: 0 | AI19: 0 | AJ19: {=IF(ISBLANK(AA19:AI19),"",SUM(AA19:AI19))} -> 57 | AL19: =Z19 -> 0.29166667 | AV19: {=IF(ISBLANK(AM19:AU19),"",SUM(AM19:AU19))} | AX19: =AL19 -> 0.29166667 | BH19: {=IF(ISBLANK(AY19:BG19),"",SUM(AY19:BG19))} | BJ19: =AX19 -> 0.29166667 | BT19: {=IF(ISBLANK(BK19:BS19),"",SUM(BK19:BS19))} | BV19: =BJ19 -> 0.29166667 | BW19: =SUM(C19,O19,AA19,AM19,AY19,BK19) -> 69 | BX19: =SUM(D19,P19,AB19,AN19,AZ19,BL19) -> 10 | BY19: =SUM(E19,Q19,AC19,AO19,BA19,BM19) -> 12 | BZ19: =SUM(F19,R19,AD19,AP19,BB19,BN19) -> 0 | CA19: =SUM(G19,S19,AE19,AQ19,BC19,BO19) -> 2 | CB19: =SUM(H19,T19,AF19,AR19,BD19,BP19) -> 0 | CC19: =SUM(I19,U19,AG19,AS19,BE19,BQ19) -> 1 | CD19: =SUM(J19,V19,AH19,AT19,BF19,BR19) -> 0 | CE19: =SUM(K19,W19,AI19,AU19,BG19,BS19) -> 0 | CF19: =IF(BW19="","",SUM(BW19:CE19)) -> 94
B20: =B19+config!$C$8 -> 0.30208333 | C20: 0 | D20: 0 | E20: 0 | F20: 0 | G20: 0 | H20: 0 | I20: 0 | J20: 0 | K20: 0 | L20: {=IF(ISBLANK(C20:K20),"",SUM(C20:K20))} -> 0 | N20: =B20 -> 0.30208333 | O20: 36 | P20: 2 | Q20: 6 | R20: 2 | S20: 0 | T20: 0 | U20: 2 | V20: 0 | W20: 0 | X20: {=IF(ISBLANK(O20:W20),"",SUM(O20:W20))} -> 48 | Z20: =N20 -> 0.30208333 | AA20: 54 | AB20: 9 | AC20: 11 | AD20: 0 | AE20: 2 | AF20: 1 | AG20: 2 | AH20: 0 | AI20: 0 | AJ20: {=IF(ISBLANK(AA20:AI20),"",SUM(AA20:AI20))} -> 79 | AL20: =Z20 -> 0.30208333 | AV20: {=IF(ISBLANK(AM20:AU20),"",SUM(AM20:AU20))} | AX20: =AL20 -> 0.30208333 | BH20: {=IF(ISBLANK(AY20:BG20),"",SUM(AY20:BG20))} | BJ20: =AX20 -> 0.30208333 | BT20: {=IF(ISBLANK(BK20:BS20),"",SUM(BK20:BS20))} | BV20: =BJ20 -> 0.30208333 | BW20: =SUM(C20,O20,AA20,AM20,AY20,BK20) -> 90 | BX20: =SUM(D20,P20,AB20,AN20,AZ20,BL20) -> 11 | BY20: =SUM(E20,Q20,AC20,AO20,BA20,BM20) -> 17 | BZ20: =SUM(F20,R20,AD20,AP20,BB20,BN20) -> 2 | CA20: =SUM(G20,S20,AE20,AQ20,BC20,BO20) -> 2 | CB20: =SUM(H20,T20,AF20,AR20,BD20,BP20) -> 1 | CC20: =SUM(I20,U20,AG20,AS20,BE20,BQ20) -> 4 | CD20: =SUM(J20,V20,AH20,AT20,BF20,BR20) -> 0 | CE20: =SUM(K20,W20,AI20,AU20,BG20,BS20) -> 0 | CF20: =IF(BW20="","",SUM(BW20:CE20)) -> 127
B21: =B20+config!$C$8 -> 0.3125 | C21: 0 | D21: 0 | E21: 0 | F21: 0 | G21: 0 | H21: 0 | I21: 0 | J21: 0 | K21: 0 | L21: {=IF(ISBLANK(C21:K21),"",SUM(C21:K21))} -> 0 | N21: =B21 -> 0.3125 | O21: 38 | P21: 2 | Q21: 3 | R21: 0 | S21: 1 | T21: 1 | U21: 0 | V21: 0 | W21: 0 | X21: {=IF(ISBLANK(O21:W21),"",SUM(O21:W21))} -> 45 | Z21: =N21 -> 0.3125 | AA21: 53 | AB21: 2 | AC21: 12 | AD21: 0 | AE21: 0 | AF21: 2 | AG21: 0 | AH21: 1 | AI21: 0 | AJ21: {=IF(ISBLANK(AA21:AI21),"",SUM(AA21:AI21))} -> 70 | AL21: =Z21 -> 0.3125 | AV21: {=IF(ISBLANK(AM21:AU21),"",SUM(AM21:AU21))} | AX21: =AL21 -> 0.3125 | BH21: {=IF(ISBLANK(AY21:BG21),"",SUM(AY21:BG21))} | BJ21: =AX21 -> 0.3125 | BT21: {=IF(ISBLANK(BK21:BS21),"",SUM(BK21:BS21))} | BV21: =BJ21 -> 0.3125 | BW21: =SUM(C21,O21,AA21,AM21,AY21,BK21) -> 91 | BX21: =SUM(D21,P21,AB21,AN21,AZ21,BL21) -> 4 | BY21: =SUM(E21,Q21,AC21,AO21,BA21,BM21) -> 15 | BZ21: =SUM(F21,R21,AD21,AP21,BB21,BN21) -> 0 | CA21: =SUM(G21,S21,AE21,AQ21,BC21,BO21) -> 1 | CB21: =SUM(H21,T21,AF21,AR21,BD21,BP21) -> 3 | CC21: =SUM(I21,U21,AG21,AS21,BE21,BQ21) -> 0 | CD21: =SUM(J21,V21,AH21,AT21,BF21,BR21) -> 1 | CE21: =SUM(K21,W21,AI21,AU21,BG21,BS21) -> 0 | CF21: =IF(BW21="","",SUM(BW21:CE21)) -> 115
B22: =B21+config!$C$8 -> 0.32291667 | C22: 0 | D22: 0 | E22: 0 | F22: 0 | G22: 0 | H22: 0 | I22: 0 | J22: 0 | K22: 0 | L22: {=IF(ISBLANK(C22:K22),"",SUM(C22:K22))} -> 0 | N22: =B22 -> 0.32291667 | O22: 54 | P22: 4 | Q22: 4 | R22: 0 | S22: 1 | T22: 0 | U22: 1 | V22: 0 | W22: 0 | X22: {=IF(ISBLANK(O22:W22),"",SUM(O22:W22))} -> 64 | Z22: =N22 -> 0.32291667 | AA22: 81 | AB22: 4 | AC22: 9 | AD22: 1 | AE22: 1 | AF22: 1 | AG22: 0 | AH22: 0 | AI22: 0 | AJ22: {=IF(ISBLANK(AA22:AI22),"",SUM(AA22:AI22))} -> 97 | AL22: =Z22 -> 0.32291667 | AV22: {=IF(ISBLANK(AM22:AU22),"",SUM(AM22:AU22))} | AX22: =AL22 -> 0.32291667 | BH22: {=IF(ISBLANK(AY22:BG22),"",SUM(AY22:BG22))} | BJ22: =AX22 -> 0.32291667 | BT22: {=IF(ISBLANK(BK22:BS22),"",SUM(BK22:BS22))} | BV22: =BJ22 -> 0.32291667 | BW22: =SUM(C22,O22,AA22,AM22,AY22,BK22) -> 135 | BX22: =SUM(D22,P22,AB22,AN22,AZ22,BL22) -> 8 | BY22: =SUM(E22,Q22,AC22,AO22,BA22,BM22) -> 13 | BZ22: =SUM(F22,R22,AD22,AP22,BB22,BN22) -> 1 | CA22: =SUM(G22,S22,AE22,AQ22,BC22,BO22) -> 2 | CB22: =SUM(H22,T22,AF22,AR22,BD22,BP22) -> 1 | CC22: =SUM(I22,U22,AG22,AS22,BE22,BQ22) -> 1 | CD22: =SUM(J22,V22,AH22,AT22,BF22,BR22) -> 0 | CE22: =SUM(K22,W22,AI22,AU22,BG22,BS22) -> 0 | CF22: =IF(BW22="","",SUM(BW22:CE22)) -> 161
B23: =B22+config!$C$8 -> 0.33333333 | C23: 0 | D23: 0 | E23: 0 | F23: 0 | G23: 0 | H23: 0 | I23: 0 | J23: 0 | K23: 0 | L23: {=IF(ISBLANK(C23:K23),"",SUM(C23:K23))} -> 0 | N23: =B23 -> 0.33333333 | O23: 58 | P23: 0 | Q23: 2 | R23: 0 | S23: 0 | T23: 0 | U23: 1 | V23: 0 | W23: 0 | X23: {=IF(ISBLANK(O23:W23),"",SUM(O23:W23))} -> 61 | Z23: =N23 -> 0.33333333 | AA23: 60 | AB23: 2 | AC23: 12 | AD23: 1 | AE23: 1 | AF23: 2 | AG23: 0 | AH23: 0 | AI23: 1 | AJ23: {=IF(ISBLANK(AA23:AI23),"",SUM(AA23:AI23))} -> 79 | AL23: =Z23 -> 0.33333333 | AV23: {=IF(ISBLANK(AM23:AU23),"",SUM(AM23:AU23))} | AX23: =AL23 -> 0.33333333 | BH23: {=IF(ISBLANK(AY23:BG23),"",SUM(AY23:BG23))} | BJ23: =AX23 -> 0.33333333 | BT23: {=IF(ISBLANK(BK23:BS23),"",SUM(BK23:BS23))} | BV23: =BJ23 -> 0.33333333 | BW23: =SUM(C23,O23,AA23,AM23,AY23,BK23) -> 118 | BX23: =SUM(D23,P23,AB23,AN23,AZ23,BL23) -> 2 | BY23: =SUM(E23,Q23,AC23,AO23,BA23,BM23) -> 14 | BZ23: =SUM(F23,R23,AD23,AP23,BB23,BN23) -> 1 | CA23: =SUM(G23,S23,AE23,AQ23,BC23,BO23) -> 1 | CB23: =SUM(H23,T23,AF23,AR23,BD23,BP23) -> 2 | CC23: =SUM(I23,U23,AG23,AS23,BE23,BQ23) -> 1 | CD23: =SUM(J23,V23,AH23,AT23,BF23,BR23) -> 0 | CE23: =SUM(K23,W23,AI23,AU23,BG23,BS23) -> 1 | CF23: =IF(BW23="","",SUM(BW23:CE23)) -> 140
B24: =B23+config!$C$8 -> 0.34375 | C24: 1 | D24: 0 | E24: 0 | F24: 0 | G24: 0 | H24: 0 | I24: 0 | J24: 0 | K24: 0 | L24: {=IF(ISBLANK(C24:K24),"",SUM(C24:K24))} -> 1 | N24: =B24 -> 0.34375 | O24: 52 | P24: 3 | Q24: 6 | R24: 0 | S24: 0 | T24: 0 | U24: 0 | V24: 1 | W24: 0 | X24: {=IF(ISBLANK(O24:W24),"",SUM(O24:W24))} -> 62 | Z24: =N24 -> 0.34375 | AA24: 86 | AB24: 3 | AC24: 6 | AD24: 0 | AE24: 1 | AF24: 1 | AG24: 0 | AH24: 0 | AI24: 0 | AJ24: {=IF(ISBLANK(AA24:AI24),"",SUM(AA24:AI24))} -> 97 | AL24: =Z24 -> 0.34375 | AV24: {=IF(ISBLANK(AM24:AU24),"",SUM(AM24:AU24))} | AX24: =AL24 -> 0.34375 | BH24: {=IF(ISBLANK(AY24:BG24),"",SUM(AY24:BG24))} | BJ24: =AX24 -> 0.34375 | BT24: {=IF(ISBLANK(BK24:BS24),"",SUM(BK24:BS24))} | BV24: =BJ24 -> 0.34375 | BW24: =SUM(C24,O24,AA24,AM24,AY24,BK24) -> 139 | BX24: =SUM(D24,P24,AB24,AN24,AZ24,BL24) -> 6 | BY24: =SUM(E24,Q24,AC24,AO24,BA24,BM24) -> 12 | BZ24: =SUM(F24,R24,AD24,AP24,BB24,BN24) -> 0 | CA24: =SUM(G24,S24,AE24,AQ24,BC24,BO24) -> 1 | CB24: =SUM(H24,T24,AF24,AR24,BD24,BP24) -> 1 | CC24: =SUM(I24,U24,AG24,AS24,BE24,BQ24) -> 0 | CD24: =SUM(J24,V24,AH24,AT24,BF24,BR24) -> 1 | CE24: =SUM(K24,W24,AI24,AU24,BG24,BS24) -> 0 | CF24: =IF(BW24="","",SUM(BW24:CE24)) -> 160
B25: =B24+config!$C$8 -> 0.35416667 | C25: 1 | D25: 0 | E25: 0 | F25: 0 | G25: 0 | H25: 0 | I25: 0 | J25: 0 | K25: 0 | L25: {=IF(ISBLANK(C25:K25),"",SUM(C25:K25))} -> 1 | N25: =B25 -> 0.35416667 | O25: 39 | P25: 2 | Q25: 5 | R25: 2 | S25: 3 | T25: 1 | U25: 1 | V25: 0 | W25: 0 | X25: {=IF(ISBLANK(O25:W25),"",SUM(O25:W25))} -> 53 | Z25: =N25 -> 0.35416667 | AA25: 58 | AB25: 2 | AC25: 5 | AD25: 0 | AE25: 0 | AF25: 2 | AG25: 0 | AH25: 2 | AI25: 0 | AJ25: {=IF(ISBLANK(AA25:AI25),"",SUM(AA25:AI25))} -> 69 | AL25: =Z25 -> 0.35416667 | AV25: {=IF(ISBLANK(AM25:AU25),"",SUM(AM25:AU25))} | AX25: =AL25 -> 0.35416667 | BH25: {=IF(ISBLANK(AY25:BG25),"",SUM(AY25:BG25))} | BJ25: =AX25 -> 0.35416667 | BT25: {=IF(ISBLANK(BK25:BS25),"",SUM(BK25:BS25))} | BV25: =BJ25 -> 0.35416667 | BW25: =SUM(C25,O25,AA25,AM25,AY25,BK25) -> 98 | BX25: =SUM(D25,P25,AB25,AN25,AZ25,BL25) -> 4 | BY25: =SUM(E25,Q25,AC25,AO25,BA25,BM25) -> 10 | BZ25: =SUM(F25,R25,AD25,AP25,BB25,BN25) -> 2 | CA25: =SUM(G25,S25,AE25,AQ25,BC25,BO25) -> 3 | CB25: =SUM(H25,T25,AF25,AR25,BD25,BP25) -> 3 | CC25: =SUM(I25,U25,AG25,AS25,BE25,BQ25) -> 1 | CD25: =SUM(J25,V25,AH25,AT25,BF25,BR25) -> 2 | CE25: =SUM(K25,W25,AI25,AU25,BG25,BS25) -> 0 | CF25: =IF(BW25="","",SUM(BW25:CE25)) -> 123
B26: =B25+config!$C$8 -> 0.36458333 | C26: 0 | D26: 0 | E26: 0 | F26: 0 | G26: 0 | H26: 0 | I26: 0 | J26: 0 | K26: 0 | L26: {=IF(ISBLANK(C26:K26),"",SUM(C26:K26))} -> 0 | N26: =B26 -> 0.36458333 | O26: 38 | P26: 2 | Q26: 6 | R26: 0 | S26: 0 | T26: 0 | U26: 0 | V26: 1 | W26: 0 | X26: {=IF(ISBLANK(O26:W26),"",SUM(O26:W26))} -> 47 | Z26: =N26 -> 0.36458333 | AA26: 63 | AB26: 3 | AC26: 5 | AD26: 0 | AE26: 1 | AF26: 0 | AG26: 1 | AH26: 0 | AI26: 0 | AJ26: {=IF(ISBLANK(AA26:AI26),"",SUM(AA26:AI26))} -> 73 | AL26: =Z26 -> 0.36458333 | AV26: {=IF(ISBLANK(AM26:AU26),"",SUM(AM26:AU26))} | AX26: =AL26 -> 0.36458333 | BH26: {=IF(ISBLANK(AY26:BG26),"",SUM(AY26:BG26))} | BJ26: =AX26 -> 0.36458333 | BT26: {=IF(ISBLANK(BK26:BS26),"",SUM(BK26:BS26))} | BV26: =BJ26 -> 0.36458333 | BW26: =SUM(C26,O26,AA26,AM26,AY26,BK26) -> 101 | BX26: =SUM(D26,P26,AB26,AN26,AZ26,BL26) -> 5 | BY26: =SUM(E26,Q26,AC26,AO26,BA26,BM26) -> 11 | BZ26: =SUM(F26,R26,AD26,AP26,BB26,BN26) -> 0 | CA26: =SUM(G26,S26,AE26,AQ26,BC26,BO26) -> 1 | CB26: =SUM(H26,T26,AF26,AR26,BD26,BP26) -> 0 | CC26: =SUM(I26,U26,AG26,AS26,BE26,BQ26) -> 1 | CD26: =SUM(J26,V26,AH26,AT26,BF26,BR26) -> 1 | CE26: =SUM(K26,W26,AI26,AU26,BG26,BS26) -> 0 | CF26: =IF(BW26="","",SUM(BW26:CE26)) -> 120
B27: =B26+config!$C$8 -> 0.375 | C27: 0 | D27: 0 | E27: 0 | F27: 0 | G27: 0 | H27: 0 | I27: 0 | J27: 0 | K27: 0 | L27: {=IF(ISBLANK(C27:K27),"",SUM(C27:K27))} -> 0 | N27: =B27 -> 0.375 | O27: 50 | P27: 0 | Q27: 9 | R27: 0 | S27: 2 | T27: 0 | U27: 1 | V27: 0 | W27: 0 | X27: {=IF(ISBLANK(O27:W27),"",SUM(O27:W27))} -> 62 | Z27: =N27 -> 0.375 | AA27: 40 | AB27: 1 | AC27: 9 | AD27: 0 | AE27: 0 | AF27: 1 | AG27: 1 | AH27: 0 | AI27: 0 | AJ27: {=IF(ISBLANK(AA27:AI27),"",SUM(AA27:AI27))} -> 52 | AL27: =Z27 -> 0.375 | AV27: {=IF(ISBLANK(AM27:AU27),"",SUM(AM27:AU27))} | AX27: =AL27 -> 0.375 | BH27: {=IF(ISBLANK(AY27:BG27),"",SUM(AY27:BG27))} | BJ27: =AX27 -> 0.375 | BT27: {=IF(ISBLANK(BK27:BS27),"",SUM(BK27:BS27))} | BV27: =BJ27 -> 0.375 | BW27: =SUM(C27,O27,AA27,AM27,AY27,BK27) -> 90 | BX27: =SUM(D27,P27,AB27,AN27,AZ27,BL27) -> 1 | BY27: =SUM(E27,Q27,AC27,AO27,BA27,BM27) -> 18 | BZ27: =SUM(F27,R27,AD27,AP27,BB27,BN27) -> 0 | CA27: =SUM(G27,S27,AE27,AQ27,BC27,BO27) -> 2 | CB27: =SUM(H27,T27,AF27,AR27,BD27,BP27) -> 1 | CC27: =SUM(I27,U27,AG27,AS27,BE27,BQ27) -> 2 | CD27: =SUM(J27,V27,AH27,AT27,BF27,BR27) -> 0 | CE27: =SUM(K27,W27,AI27,AU27,BG27,BS27) -> 0 | CF27: =IF(BW27="","",SUM(BW27:CE27)) -> 114
... B66: =B65+config!$C$8 -> 0.78125 | C66: 0 | D66: 0 | E66: 0 | F66: 0 | G66: 0 | H66: 0 | I66: 0 | J66: 0 | K66: 0 | L66: {=IF(ISBLANK(C66:K66),"",SUM(C66:K66))} -> 0 | N66: =B66 -> 0.78125 | O66: 34 | P66: 0 | Q66: 3 | R66: 0 | S66: 0 | T66: 0 | U66: 1 | V66: 0 | W66: 0 | X66: {=IF(ISBLANK(O66:W66),"",SUM(O66:W66))} -> 38 | Z66: =N66 -> 0.78125 | AA66: 61 | AB66: 0 | AC66: 5 | AD66: 0 | AE66: 0 | AF66: 0 | AG66: 0 | AH66: 0 | AI66: 0 | AJ66: {=IF(ISBLANK(AA66:AI66),"",SUM(AA66:AI66))} -> 66 | AL66: =Z66 -> 0.78125 | AV66: {=IF(ISBLANK(AM66:AU66),"",SUM(AM66:AU66))} | AX66: =AL66 -> 0.78125 | BH66: {=IF(ISBLANK(AY66:BG66),"",SUM(AY66:BG66))} | BJ66: =AX66 -> 0.78125 | BT66: {=IF(ISBLANK(BK66:BS66),"",SUM(BK66:BS66))} | BV66: =BJ66 -> 0.78125 | BW66: =SUM(C66,O66,AA66,AM66,AY66,BK66) -> 95 | BX66: =SUM(D66,P66,AB66,AN66,AZ66,BL66) -> 0 | BY66: =SUM(E66,Q66,AC66,AO66,BA66,BM66) -> 8 | BZ66: =SUM(F66,R66,AD66,AP66,BB66,BN66) -> 0 | CA66: =SUM(G66,S66,AE66,AQ66,BC66,BO66) -> 0 | CB66: =SUM(H66,T66,AF66,AR66,BD66,BP66) -> 0 | CC66: =SUM(I66,U66,AG66,AS66,BE66,BQ66) -> 1 | CD66: =SUM(J66,V66,AH66,AT66,BF66,BR66) -> 0 | CE66: =SUM(K66,W66,AI66,AU66,BG66,BS66) -> 0 | CF66: =IF(BW66="","",SUM(BW66:CE66)) -> 104
B67: TOTAL | C67: =SUM(C15:C66) -> 18 | D67: =SUM(D15:D66) -> 0 | E67: =SUM(E15:E66) -> 2 | F67: =SUM(F15:F66) -> 0 | G67: =SUM(G15:G66) -> 0 | H67: =SUM(H15:H66) -> 0 | I67: =SUM(I15:I66) -> 0 | J67: =SUM(J15:J66) -> 0 | ... L67: =SUM(L15:L66) -> 20 | N67: TOTAL | O67: =SUM(O15:O66) -> 2145 | P67: =SUM(P15:P66) -> 105 | Q67: =SUM(Q15:Q66) -> 301 | R67: =SUM(R15:R66) -> 23 | S67: =SUM(S15:S66) -> 30 | T67: =SUM(T15:T66) -> 9 | U67: =SUM(U15:U66) -> 35 | V67: =SUM(V15:V66) -> 9 | ... X67: =SUM(X15:X66) -> 2660 | Z67: TOTAL | AA67: =SUM(AA15:AA66) -> 3177 | AB67: =SUM(AB15:AB66) -> 170 | AC67: =SUM(AC15:AC66) -> 379 | AD67: =SUM(AD15:AD66) -> 14 | AE67: =SUM(AE15:AE66) -> 76 | AF67: =SUM(AF15:AF66) -> 40 | AG67: =SUM(AG15:AG66) -> 12 | AH67: =SUM(AH15:AH66) -> 17 | ... AJ67: =SUM(AJ15:AJ66) -> 3889 | AL67: TOTAL | AM67: =SUM(AM15:AM66) -> 0 | AN67: =SUM(AN15:AN66) -> 0 | AO67: =SUM(AO15:AO66) -> 0 | AP67: =SUM(AP15:AP66) -> 0 | AQ67: =SUM(AQ15:AQ66) -> 0 | AR67: =SUM(AR15:AR66) -> 0 | AS67: =SUM(AS15:AS66) -> 0 | AT67: =SUM(AT15:AT66) -> 0 | ... AV67: =SUM(AV15:AV66) -> 0 | AX67: TOTAL | AY67: =SUM(AY15:AY66) -> 0 | AZ67: =SUM(AZ15:AZ66) -> 0 | BA67: =SUM(BA15:BA66) -> 0 | BB67: =SUM(BB15:BB66) -> 0 | BC67: =SUM(BC15:BC66) -> 0 | BD67: =SUM(BD15:BD66) -> 0 | BE67: =SUM(BE15:BE66) -> 0 | BF67: =SUM(BF15:BF66) -> 0 | ... BH67: =SUM(BH15:BH66) -> 0 | BJ67: TOTAL | BK67: =SUM(BK15:BK66) -> 0 | BL67: =SUM(BL15:BL66) -> 0 | BM67: =SUM(BM15:BM66) -> 0 | BN67: =SUM(BN15:BN66) -> 0 | BO67: =SUM(BO15:BO66) -> 0 | BP67: =SUM(BP15:BP66) -> 0 | BQ67: =SUM(BQ15:BQ66) -> 0 | BR67: =SUM(BR15:BR66) -> 0 | ... BT67: =SUM(BT15:BT66) -> 0 | BV67: TOTAL | BW67: =SUM(BW15:BW66) -> 5340 | BX67: =SUM(BX15:BX66) -> 275 | BY67: =SUM(BY15:BY66) -> 682 | BZ67: =SUM(BZ15:BZ66) -> 37 | CA67: =SUM(CA15:CA66) -> 106 | CB67: =SUM(CB15:CB66) -> 49 | CC67: =SUM(CC15:CC66) -> 47 | CD67: =SUM(CD15:CD66) -> 26 | ... CF67: =SUM(CF15:CF66) -> 6569
C71: ="ORIGIN: "&config!C15&" ("&config!F15&")" -> ORIGIN: B1137 The Street (northeast)
C73: ="B"&config!$AH$5 -> B↙ | D73: to | E73: =E11 -> A← | O73: =C73 -> B↙ | P73: to | Q73: =Q11 -> B↗ | AA73: =C73 -> B↙ | AB73: to | AC73: =AC11 -> C↓ | AM73: =C73 -> B↙ | AN73: to | AO73: =AO11 -> D | AY73: =C73 -> B↙ | AZ73: to | BA73: =BA11 -> E | BK73: =C73 -> B↙ | BL73: to | BM73: =BM11 -> F | BW73: ="ENTERING FROM "&C73 -> ENTERING FROM B↙
C74: =config!C15&" to "&config!C14 -> B1137 The Street to B1137 The Street | O74: =config!C15&" to "&config!C15 -> B1137 The Street to B1137 The Street | AA74: =IF(config!C16<>"",config!C15&" to "&config!C16,"") -> B1137 The Street to B1019 Maldon Rd | AM74: =IF(config!C17<>"",config!C15&" to "&config!C17,"") | AY74: =IF(config!C18<>"",config!C15&" to "&config!C18,"") | BK74: =IF(config!C19<>"",config!C15&" to "&config!C19,"") | BW74: =config!C15 -> B1137 The Street
C76: =C14 -> CAR | D76: =D14 -> LGV1 | E76: =E14 -> LGV2 | F76: =F14 -> MGV | G76: =G14 -> HGV1 | H76: =H14 -> HGV2 | I76: =I14 -> PSV | J76: =J14 -> MB | K76: =K14 -> CYC | O76: =O14 -> CAR | P76: =P14 -> LGV1 | Q76: =Q14 -> LGV2 | R76: =R14 -> MGV | S76: =S14 -> HGV1 | T76: =T14 -> HGV2 | U76: =U14 -> PSV | V76: =V14 -> MB | W76: =W14 -> CYC | AA76: =AA14 -> CAR | AB76: =AB14 -> LGV1 | AC76: =AC14 -> LGV2 | AD76: =AD14 -> MGV | AE76: =AE14 -> HGV1 | AF76: =AF14 -> HGV2 | AG76: =AG14 -> PSV | AH76: =AH14 -> MB | AI76: =AI14 -> CYC | AM76: =AM14 -> CAR | AN76: =AN14 -> LGV1 | AO76: =AO14 -> LGV2 | AP76: =AP14 -> MGV | AQ76: =AQ14 -> HGV1 | AR76: =AR14 -> HGV2 | AS76: =AS14 -> PSV | AT76: =AT14 -> MB | AU76: =AU14 -> CYC | AY76: =AY14 -> CAR | AZ76: =AZ14 -> LGV1 | BA76: =BA14 -> LGV2 | BB76: =BB14 -> MGV | BC76: =BC14 -> HGV1 | BD76: =BD14 -> HGV2 | BE76: =BE14 -> PSV | BF76: =BF14 -> MB | BG76: =BG14 -> CYC | BK76: =BK14 -> CAR | BL76: =BL14 -> LGV1 | BM76: =BM14 -> LGV2 | BN76: =BN14 -> MGV | BO76: =BO14 -> HGV1 | BP76: =BP14 -> HGV2 | BQ76: =BQ14 -> PSV | BR76: =BR14 -> MB | BS76: =BS14 -> CYC | BW76: =BK76 -> CAR | BX76: =BL76 -> LGV1 | BY76: =BM76 -> LGV2 | BZ76: =BN76 -> MGV | CA76: =BO76 -> HGV1 | CB76: =BP76 -> HGV2 | CC76: =BQ76 -> PSV | CD76: =BR76 -> MB | CE76: =BS76 -> CYC
B77: =B15 -> 0.25 | C77: 19 | D77: 1 | E77: 3 | F77: 0 | G77: 1 | H77: 1 | I77: 1 | J77: 1 | K77: 0 | L77: {=IF(ISBLANK(C77:K77),"",SUM(C77:K77))} -> 27 | N77: =N15 -> 0.25 | O77: 0 | P77: 0 | Q77: 0 | R77: 0 | S77: 0 | T77: 0 | U77: 0 | V77: 0 | W77: 0 | X77: {=IF(ISBLANK(O77:W77),"",SUM(O77:W77))} -> 0 | Z77: =Z15 -> 0.25 | AA77: 5 | AB77: 0 | AC77: 2 | AD77: 0 | AE77: 0 | AF77: 2 | AG77: 0 | AH77: 0 | AI77: 0 | AJ77: {=IF(ISBLANK(AA77:AI77),"",SUM(AA77:AI77))} -> 9 | AL77: =AL15 -> 0.25 | AV77: {=IF(ISBLANK(AM77:AU77),"",SUM(AM77:AU77))} | AX77: =AX15 -> 0.25 | BH77: {=IF(ISBLANK(AY77:BG77),"",SUM(AY77:BG77))} | BJ77: =BJ15 -> 0.25 | BT77: {=IF(ISBLANK(BK77:BS77),"",SUM(BK77:BS77))} | BV77: =BJ77 -> 0.25 | BW77: =SUM(C77,O77,AA77,AM77,AY77,BK77) -> 24 | BX77: =SUM(D77,P77,AB77,AN77,AZ77,BL77) -> 1 | BY77: =SUM(E77,Q77,AC77,AO77,BA77,BM77) -> 5 | BZ77: =SUM(F77,R77,AD77,AP77,BB77,BN77) -> 0 | CA77: =SUM(G77,S77,AE77,AQ77,BC77,BO77) -> 1 | CB77: =SUM(H77,T77,AF77,AR77,BD77,BP77) -> 3 | CC77: =SUM(I77,U77,AG77,AS77,BE77,BQ77) -> 1 | CD77: =SUM(J77,V77,AH77,AT77,BF77,BR77) -> 1 | CE77: =SUM(K77,W77,AI77,AU77,BG77,BS77) -> 0 | CF77: =IF(BW77="","",SUM(BW77:CE77)) -> 36
B78: =B16 -> 0.26041667 | C78: 23 | D78: 0 | E78: 6 | F78: 0 | G78: 1 | H78: 0 | I78: 0 | J78: 0 | K78: 0 | L78: {=IF(ISBLANK(C78:K78),"",SUM(C78:K78))} -> 30 | N78: =N16 -> 0.26041667 | O78: 0 | P78: 0 | Q78: 0 | R78: 0 | S78: 0 | T78: 0 | U78: 0 | V78: 0 | W78: 0 | X78: {=IF(ISBLANK(O78:W78),"",SUM(O78:W78))} -> 0 | Z78: =Z16 -> 0.26041667 | AA78: 6 | AB78: 0 | AC78: 1 | AD78: 0 | AE78: 2 | AF78: 0 | AG78: 2 | AH78: 0 | AI78: 0 | AJ78: {=IF(ISBLANK(AA78:AI78),"",SUM(AA78:AI78))} -> 11 | AL78: =AL16 -> 0.26041667 | AV78: {=IF(ISBLANK(AM78:AU78),"",SUM(AM78:AU78))} | AX78: =AX16 -> 0.26041667 | BH78: {=IF(ISBLANK(AY78:BG78),"",SUM(AY78:BG78))} | BJ78: =BJ16 -> 0.26041667 | BT78: {=IF(ISBLANK(BK78:BS78),"",SUM(BK78:BS78))} | BV78: =BJ78 -> 0.26041667 | BW78: =SUM(C78,O78,AA78,AM78,AY78,BK78) -> 29 | BX78: =SUM(D78,P78,AB78,AN78,AZ78,BL78) -> 0 | BY78: =SUM(E78,Q78,AC78,AO78,BA78,BM78) -> 7 | BZ78: =SUM(F78,R78,AD78,AP78,BB78,BN78) -> 0 | CA78: =SUM(G78,S78,AE78,AQ78,BC78,BO78) -> 3 | CB78: =SUM(H78,T78,AF78,AR78,BD78,BP78) -> 0 | CC78: =SUM(I78,U78,AG78,AS78,BE78,BQ78) -> 2 | CD78: =SUM(J78,V78,AH78,AT78,BF78,BR78) -> 0 | CE78: =SUM(K78,W78,AI78,AU78,BG78,BS78) -> 0 | CF78: =IF(BW78="","",SUM(BW78:CE78)) -> 41
B79: =B17 -> 0.27083333 | C79: 42 | D79: 2 | E79: 4 | F79: 0 | G79: 0 | H79: 0 | I79: 1 | J79: 0 | K79: 0 | L79: {=IF(ISBLANK(C79:K79),"",SUM(C79:K79))} -> 49 | N79: =N17 -> 0.27083333 | O79: 0 | P79: 0 | Q79: 0 | R79: 0 | S79: 0 | T79: 0 | U79: 0 | V79: 0 | W79: 0 | X79: {=IF(ISBLANK(O79:W79),"",SUM(O79:W79))} -> 0 | Z79: =Z17 -> 0.27083333 | AA79: 12 | AB79: 1 | AC79: 2 | AD79: 0 | AE79: 3 | AF79: 0 | AG79: 0 | AH79: 0 | AI79: 0 | AJ79: {=IF(ISBLANK(AA79:AI79),"",SUM(AA79:AI79))} -> 18 | AL79: =AL17 -> 0.27083333 | AV79: {=IF(ISBLANK(AM79:AU79),"",SUM(AM79:AU79))} | AX79: =AX17 -> 0.27083333 | BH79: {=IF(ISBLANK(AY79:BG79),"",SUM(AY79:BG79))} | BJ79: =BJ17 -> 0.27083333 | BT79: {=IF(ISBLANK(BK79:BS79),"",SUM(BK79:BS79))} | BV79: =BJ79 -> 0.27083333 | BW79: =SUM(C79,O79,AA79,AM79,AY79,BK79) -> 54 | BX79: =SUM(D79,P79,AB79,AN79,AZ79,BL79) -> 3 | BY79: =SUM(E79,Q79,AC79,AO79,BA79,BM79) -> 6 | BZ79: =SUM(F79,R79,AD79,AP79,BB79,BN79) -> 0 | CA79: =SUM(G79,S79,AE79,AQ79,BC79,BO79) -> 3 | CB79: =SUM(H79,T79,AF79,AR79,BD79,BP79) -> 0 | CC79: =SUM(I79,U79,AG79,AS79,BE79,BQ79) -> 1 | CD79: =SUM(J79,V79,AH79,AT79,BF79,BR79) -> 0 | CE79: =SUM(K79,W79,AI79,AU79,BG79,BS79) -> 0 | CF79: =IF(BW79="","",SUM(BW79:CE79)) -> 67
B80: =B18 -> 0.28125 | C80: 54 | D80: 2 | E80: 12 | F80: 1 | G80: 1 | H80: 0 | I80: 1 | J80: 1 | K80: 1 | L80: {=IF(ISBLANK(C80:K80),"",SUM(C80:K80))} -> 73 | N80: =N18 -> 0.28125 | O80: 0 | P80: 0 | Q80: 0 | R80: 0 | S80: 0 | T80: 0 | U80: 0 | V80: 0 | W80: 0 | X80: {=IF(ISBLANK(O80:W80),"",SUM(O80:W80))} -> 0 | Z80: =Z18 -> 0.28125 | AA80: 13 | AB80: 5 | AC80: 6 | AD80: 0 | AE80: 1 | AF80: 0 | AG80: 0 | AH80: 0 | AI80: 0 | AJ80: {=IF(ISBLANK(AA80:AI80),"",SUM(AA80:AI80))} -> 25 | AL80: =AL18 -> 0.28125 | AV80: {=IF(ISBLANK(AM80:AU80),"",SUM(AM80:AU80))} | AX80: =AX18 -> 0.28125 | BH80: {=IF(ISBLANK(AY80:BG80),"",SUM(AY80:BG80))} | BJ80: =BJ18 -> 0.28125 | BT80: {=IF(ISBLANK(BK80:BS80),"",SUM(BK80:BS80))} | BV80: =BJ80 -> 0.28125 | BW80: =SUM(C80,O80,AA80,AM80,AY80,BK80) -> 67 | BX80: =SUM(D80,P80,AB80,AN80,AZ80,BL80) -> 7 | BY80: =SUM(E80,Q80,AC80,AO80,BA80,BM80) -> 18 | BZ80: =SUM(F80,R80,AD80,AP80,BB80,BN80) -> 1 | CA80: =SUM(G80,S80,AE80,AQ80,BC80,BO80) -> 2 | CB80: =SUM(H80,T80,AF80,AR80,BD80,BP80) -> 0 | CC80: =SUM(I80,U80,AG80,AS80,BE80,BQ80) -> 1 | CD80: =SUM(J80,V80,AH80,AT80,BF80,BR80) -> 1 | CE80: =SUM(K80,W80,AI80,AU80,BG80,BS80) -> 1 | CF80: =IF(BW80="","",SUM(BW80:CE80)) -> 98
B81: =B19 -> 0.29166667 | C81: 58 | D81: 1 | E81: 5 | F81: 1 | G81: 2 | H81: 0 | I81: 1 | J81: 1 | K81: 0 | L81: {=IF(ISBLANK(C81:K81),"",SUM(C81:K81))} -> 69 | N81: =N19 -> 0.29166667 | O81: 0 | P81: 0 | Q81: 0 | R81: 0 | S81: 0 | T81: 0 | U81: 0 | V81: 0 | W81: 0 | X81: {=IF(ISBLANK(O81:W81),"",SUM(O81:W81))} -> 0 | Z81: =Z19 -> 0.29166667 | AA81: 16 | AB81: 10 | AC81: 5 | AD81: 0 | AE81: 2 | AF81: 0 | AG81: 0 | AH81: 0 | AI81: 0 | AJ81: {=IF(ISBLANK(AA81:AI81),"",SUM(AA81:AI81))} -> 33 | AL81: =AL19 -> 0.29166667 | AV81: {=IF(ISBLANK(AM81:AU81),"",SUM(AM81:AU81))} | AX81: =AX19 -> 0.29166667 | BH81: {=IF(ISBLANK(AY81:BG81),"",SUM(AY81:BG81))} | BJ81: =BJ19 -> 0.29166667 | BT81: {=IF(ISBLANK(BK81:BS81),"",SUM(BK81:BS81))} | BV81: =BJ81 -> 0.29166667 | BW81: =SUM(C81,O81,AA81,AM81,AY81,BK81) -> 74 | BX81: =SUM(D81,P81,AB81,AN81,AZ81,BL81) -> 11 | BY81: =SUM(E81,Q81,AC81,AO81,BA81,BM81) -> 10 | BZ81: =SUM(F81,R81,AD81,AP81,BB81,BN81) -> 1 | CA81: =SUM(G81,S81,AE81,AQ81,BC81,BO81) -> 4 | CB81: =SUM(H81,T81,AF81,AR81,BD81,BP81) -> 0 | CC81: =SUM(I81,U81,AG81,AS81,BE81,BQ81) -> 1 | CD81: =SUM(J81,V81,AH81,AT81,BF81,BR81) -> 1 | CE81: =SUM(K81,W81,AI81,AU81,BG81,BS81) -> 0 | CF81: =IF(BW81="","",SUM(BW81:CE81)) -> 102
B82: =B20 -> 0.30208333 | C82: 77 | D82: 4 | E82: 5 | F82: 1 | G82: 2 | H82: 1 | I82: 0 | J82: 1 | K82: 0 | L82: {=IF(ISBLANK(C82:K82),"",SUM(C82:K82))} -> 91 | N82: =N20 -> 0.30208333 | O82: 0 | P82: 0 | Q82: 0 | R82: 0 | S82: 0 | T82: 0 | U82: 0 | V82: 0 | W82: 0 | X82: {=IF(ISBLANK(O82:W82),"",SUM(O82:W82))} -> 0 | Z82: =Z20 -> 0.30208333 | AA82: 25 | AB82: 5 | AC82: 5 | AD82: 0 | AE82: 1 | AF82: 4 | AG82: 0 | AH82: 0 | AI82: 0 | AJ82: {=IF(ISBLANK(AA82:AI82),"",SUM(AA82:AI82))} -> 40 | AL82: =AL20 -> 0.30208333 | AV82: {=IF(ISBLANK(AM82:AU82),"",SUM(AM82:AU82))} | AX82: =AX20 -> 0.30208333 | BH82: {=IF(ISBLANK(AY82:BG82),"",SUM(AY82:BG82))} | BJ82: =BJ20 -> 0.30208333 | BT82: {=IF(ISBLANK(BK82:BS82),"",SUM(BK82:BS82))} | BV82: =BJ82 -> 0.30208333 | BW82: =SUM(C82,O82,AA82,AM82,AY82,BK82) -> 102 | BX82: =SUM(D82,P82,AB82,AN82,AZ82,BL82) -> 9 | BY82: =SUM(E82,Q82,AC82,AO82,BA82,BM82) -> 10 | BZ82: =SUM(F82,R82,AD82,AP82,BB82,BN82) -> 1 | CA82: =SUM(G82,S82,AE82,AQ82,BC82,BO82) -> 3 | CB82: =SUM(H82,T82,AF82,AR82,BD82,BP82) -> 5 | CC82: =SUM(I82,U82,AG82,AS82,BE82,BQ82) -> 0 | CD82: =SUM(J82,V82,AH82,AT82,BF82,BR82) -> 1 | CE82: =SUM(K82,W82,AI82,AU82,BG82,BS82) -> 0 | CF82: =IF(BW82="","",SUM(BW82:CE82)) -> 131
B83: =B21 -> 0.3125 | C83: 68 | D83: 6 | E83: 13 | F83: 2 | G83: 0 | H83: 0 | I83: 3 | J83: 1 | K83: 0 | L83: {=IF(ISBLANK(C83:K83),"",SUM(C83:K83))} -> 93 | N83: =N21 -> 0.3125 | O83: 0 | P83: 0 | Q83: 0 | R83: 0 | S83: 0 | T83: 0 | U83: 0 | V83: 0 | W83: 0 | X83: {=IF(ISBLANK(O83:W83),"",SUM(O83:W83))} -> 0 | Z83: =Z21 -> 0.3125 | AA83: 31 | AB83: 0 | AC83: 6 | AD83: 1 | AE83: 1 | AF83: 3 | AG83: 0 | AH83: 0 | AI83: 0 | AJ83: {=IF(ISBLANK(AA83:AI83),"",SUM(AA83:AI83))} -> 42 | AL83: =AL21 -> 0.3125 | AV83: {=IF(ISBLANK(AM83:AU83),"",SUM(AM83:AU83))} | AX83: =AX21 -> 0.3125 | BH83: {=IF(ISBLANK(AY83:BG83),"",SUM(AY83:BG83))} | BJ83: =BJ21 -> 0.3125 | BT83: {=IF(ISBLANK(BK83:BS83),"",SUM(BK83:BS83))} | BV83: =BJ83 -> 0.3125 | BW83: =SUM(C83,O83,AA83,AM83,AY83,BK83) -> 99 | BX83: =SUM(D83,P83,AB83,AN83,AZ83,BL83) -> 6 | BY83: =SUM(E83,Q83,AC83,AO83,BA83,BM83) -> 19 | BZ83: =SUM(F83,R83,AD83,AP83,BB83,BN83) -> 3 | CA83: =SUM(G83,S83,AE83,AQ83,BC83,BO83) -> 1 | CB83: =SUM(H83,T83,AF83,AR83,BD83,BP83) -> 3 | CC83: =SUM(I83,U83,AG83,AS83,BE83,BQ83) -> 3 | CD83: =SUM(J83,V83,AH83,AT83,BF83,BR83) -> 1 | CE83: =SUM(K83,W83,AI83,AU83,BG83,BS83) -> 0 | CF83: =IF(BW83="","",SUM(BW83:CE83)) -> 135
B84: =B22 -> 0.32291667 | C84: 72 | D84: 5 | E84: 8 | F84: 1 | G84: 1 | H84: 0 | I84: 0 | J84: 0 | K84: 0 | L84: {=IF(ISBLANK(C84:K84),"",SUM(C84:K84))} -> 87 | N84: =N22 -> 0.32291667 | O84: 0 | P84: 0 | Q84: 0 | R84: 0 | S84: 0 | T84: 0 | U84: 0 | V84: 0 | W84: 0 | X84: {=IF(ISBLANK(O84:W84),"",SUM(O84:W84))} -> 0 | Z84: =Z22 -> 0.32291667 | AA84: 30 | AB84: 5 | AC84: 10 | AD84: 0 | AE84: 2 | AF84: 2 | AG84: 1 | AH84: 0 | AI84: 0 | AJ84: {=IF(ISBLANK(AA84:AI84),"",SUM(AA84:AI84))} -> 50 | AL84: =AL22 -> 0.32291667 | AV84: {=IF(ISBLANK(AM84:AU84),"",SUM(AM84:AU84))} | AX84: =AX22 -> 0.32291667 | BH84: {=IF(ISBLANK(AY84:BG84),"",SUM(AY84:BG84))} | BJ84: =BJ22 -> 0.32291667 | BT84: {=IF(ISBLANK(BK84:BS84),"",SUM(BK84:BS84))} | BV84: =BJ84 -> 0.32291667 | BW84: =SUM(C84,O84,AA84,AM84,AY84,BK84) -> 102 | BX84: =SUM(D84,P84,AB84,AN84,AZ84,BL84) -> 10 | BY84: =SUM(E84,Q84,AC84,AO84,BA84,BM84) -> 18 | BZ84: =SUM(F84,R84,AD84,AP84,BB84,BN84) -> 1 | CA84: =SUM(G84,S84,AE84,AQ84,BC84,BO84) -> 3 | CB84: =SUM(H84,T84,AF84,AR84,BD84,BP84) -> 2 | CC84: =SUM(I84,U84,AG84,AS84,BE84,BQ84) -> 1 | CD84: =SUM(J84,V84,AH84,AT84,BF84,BR84) -> 0 | CE84: =SUM(K84,W84,AI84,AU84,BG84,BS84) -> 0 | CF84: =IF(BW84="","",SUM(BW84:CE84)) -> 137
B85: =B23 -> 0.33333333 | C85: 60 | D85: 3 | E85: 13 | F85: 0 | G85: 1 | H85: 0 | I85: 0 | J85: 0 | K85: 1 | L85: {=IF(ISBLANK(C85:K85),"",SUM(C85:K85))} -> 78 | N85: =N23 -> 0.33333333 | O85: 0 | P85: 0 | Q85: 0 | R85: 0 | S85: 0 | T85: 0 | U85: 0 | V85: 0 | W85: 0 | X85: {=IF(ISBLANK(O85:W85),"",SUM(O85:W85))} -> 0 | Z85: =Z23 -> 0.33333333 | AA85: 34 | AB85: 1 | AC85: 4 | AD85: 1 | AE85: 1 | AF85: 2 | AG85: 0 | AH85: 2 | AI85: 0 | AJ85: {=IF(ISBLANK(AA85:AI85),"",SUM(AA85:AI85))} -> 45 | AL85: =AL23 -> 0.33333333 | AV85: {=IF(ISBLANK(AM85:AU85),"",SUM(AM85:AU85))} | AX85: =AX23 -> 0.33333333 | BH85: {=IF(ISBLANK(AY85:BG85),"",SUM(AY85:BG85))} | BJ85: =BJ23 -> 0.33333333 | BT85: {=IF(ISBLANK(BK85:BS85),"",SUM(BK85:BS85))} | BV85: =BJ85 -> 0.33333333 | BW85: =SUM(C85,O85,AA85,AM85,AY85,BK85) -> 94 | BX85: =SUM(D85,P85,AB85,AN85,AZ85,BL85) -> 4 | BY85: =SUM(E85,Q85,AC85,AO85,BA85,BM85) -> 17 | BZ85: =SUM(F85,R85,AD85,AP85,BB85,BN85) -> 1 | CA85: =SUM(G85,S85,AE85,AQ85,BC85,BO85) -> 2 | CB85: =SUM(H85,T85,AF85,AR85,BD85,BP85) -> 2 | CC85: =SUM(I85,U85,AG85,AS85,BE85,BQ85) -> 0 | CD85: =SUM(J85,V85,AH85,AT85,BF85,BR85) -> 2 | CE85: =SUM(K85,W85,AI85,AU85,BG85,BS85) -> 1 | CF85: =IF(BW85="","",SUM(BW85:CE85)) -> 123
B86: =B24 -> 0.34375 | C86: 77 | D86: 3 | E86: 9 | F86: 0 | G86: 0 | H86: 0 | I86: 1 | J86: 1 | K86: 0 | L86: {=IF(ISBLANK(C86:K86),"",SUM(C86:K86))} -> 91 | N86: =N24 -> 0.34375 | O86: 0 | P86: 0 | Q86: 0 | R86: 0 | S86: 0 | T86: 0 | U86: 0 | V86: 0 | W86: 0 | X86: {=IF(ISBLANK(O86:W86),"",SUM(O86:W86))} -> 0 | Z86: =Z24 -> 0.34375 | AA86: 57 | AB86: 3 | AC86: 6 | AD86: 1 | AE86: 1 | AF86: 3 | AG86: 0 | AH86: 0 | AI86: 0 | AJ86: {=IF(ISBLANK(AA86:AI86),"",SUM(AA86:AI86))} -> 71 | AL86: =AL24 -> 0.34375 | AV86: {=IF(ISBLANK(AM86:AU86),"",SUM(AM86:AU86))} | AX86: =AX24 -> 0.34375 | BH86: {=IF(ISBLANK(AY86:BG86),"",SUM(AY86:BG86))} | BJ86: =BJ24 -> 0.34375 | BT86: {=IF(ISBLANK(BK86:BS86),"",SUM(BK86:BS86))} | BV86: =BJ86 -> 0.34375 | BW86: =SUM(C86,O86,AA86,AM86,AY86,BK86) -> 134 | BX86: =SUM(D86,P86,AB86,AN86,AZ86,BL86) -> 6 | BY86: =SUM(E86,Q86,AC86,AO86,BA86,BM86) -> 15 | BZ86: =SUM(F86,R86,AD86,AP86,BB86,BN86) -> 1 | CA86: =SUM(G86,S86,AE86,AQ86,BC86,BO86) -> 1 | CB86: =SUM(H86,T86,AF86,AR86,BD86,BP86) -> 3 | CC86: =SUM(I86,U86,AG86,AS86,BE86,BQ86) -> 1 | CD86: =SUM(J86,V86,AH86,AT86,BF86,BR86) -> 1 | CE86: =SUM(K86,W86,AI86,AU86,BG86,BS86) -> 0 | CF86: =IF(BW86="","",SUM(BW86:CE86)) -> 162
B87: =B25 -> 0.35416667 | C87: 81 | D87: 4 | E87: 9 | F87: 0 | G87: 4 | H87: 0 | I87: 0 | J87: 1 | K87: 1 | L87: {=IF(ISBLANK(C87:K87),"",SUM(C87:K87))} -> 100 | N87: =N25 -> 0.35416667 | O87: 0 | P87: 0 | Q87: 0 | R87: 0 | S87: 0 | T87: 0 | U87: 0 | V87: 0 | W87: 0 | X87: {=IF(ISBLANK(O87:W87),"",SUM(O87:W87))} -> 0 | Z87: =Z25 -> 0.35416667 | AA87: 29 | AB87: 1 | AC87: 5 | AD87: 0 | AE87: 1 | AF87: 4 | AG87: 0 | AH87: 0 | AI87: 0 | AJ87: {=IF(ISBLANK(AA87:AI87),"",SUM(AA87:AI87))} -> 40 | AL87: =AL25 -> 0.35416667 | AV87: {=IF(ISBLANK(AM87:AU87),"",SUM(AM87:AU87))} | AX87: =AX25 -> 0.35416667 | BH87: {=IF(ISBLANK(AY87:BG87),"",SUM(AY87:BG87))} | BJ87: =BJ25 -> 0.35416667 | BT87: {=IF(ISBLANK(BK87:BS87),"",SUM(BK87:BS87))} | BV87: =BJ87 -> 0.35416667 | BW87: =SUM(C87,O87,AA87,AM87,AY87,BK87) -> 110 | BX87: =SUM(D87,P87,AB87,AN87,AZ87,BL87) -> 5 | BY87: =SUM(E87,Q87,AC87,AO87,BA87,BM87) -> 14 | BZ87: =SUM(F87,R87,AD87,AP87,BB87,BN87) -> 0 | CA87: =SUM(G87,S87,AE87,AQ87,BC87,BO87) -> 5 | CB87: =SUM(H87,T87,AF87,AR87,BD87,BP87) -> 4 | CC87: =SUM(I87,U87,AG87,AS87,BE87,BQ87) -> 0 | CD87: =SUM(J87,V87,AH87,AT87,BF87,BR87) -> 1 | CE87: =SUM(K87,W87,AI87,AU87,BG87,BS87) -> 1 | CF87: =IF(BW87="","",SUM(BW87:CE87)) -> 140
B88: =B26 -> 0.36458333 | C88: 80 | D88: 3 | E88: 12 | F88: 0 | G88: 1 | H88: 0 | I88: 1 | J88: 0 | K88: 0 | L88: {=IF(ISBLANK(C88:K88),"",SUM(C88:K88))} -> 97 | N88: =N26 -> 0.36458333 | O88: 0 | P88: 0 | Q88: 0 | R88: 0 | S88: 0 | T88: 0 | U88: 0 | V88: 0 | W88: 0 | X88: {=IF(ISBLANK(O88:W88),"",SUM(O88:W88))} -> 0 | Z88: =Z26 -> 0.36458333 | AA88: 31 | AB88: 4 | AC88: 5 | AD88: 0 | AE88: 1 | AF88: 2 | AG88: 0 | AH88: 0 | AI88: 0 | AJ88: {=IF(ISBLANK(AA88:AI88),"",SUM(AA88:AI88))} -> 43 | AL88: =AL26 -> 0.36458333 | AV88: {=IF(ISBLANK(AM88:AU88),"",SUM(AM88:AU88))} | AX88: =AX26 -> 0.36458333 | BH88: {=IF(ISBLANK(AY88:BG88),"",SUM(AY88:BG88))} | BJ88: =BJ26 -> 0.36458333 | BT88: {=IF(ISBLANK(BK88:BS88),"",SUM(BK88:BS88))} | BV88: =BJ88 -> 0.36458333 | BW88: =SUM(C88,O88,AA88,AM88,AY88,BK88) -> 111 | BX88: =SUM(D88,P88,AB88,AN88,AZ88,BL88) -> 7 | BY88: =SUM(E88,Q88,AC88,AO88,BA88,BM88) -> 17 | BZ88: =SUM(F88,R88,AD88,AP88,BB88,BN88) -> 0 | CA88: =SUM(G88,S88,AE88,AQ88,BC88,BO88) -> 2 | CB88: =SUM(H88,T88,AF88,AR88,BD88,BP88) -> 2 | CC88: =SUM(I88,U88,AG88,AS88,BE88,BQ88) -> 1 | CD88: =SUM(J88,V88,AH88,AT88,BF88,BR88) -> 0 | CE88: =SUM(K88,W88,AI88,AU88,BG88,BS88) -> 0 | CF88: =IF(BW88="","",SUM(BW88:CE88)) -> 140
...

Sheet 60MIN
C2: PROJECT | F2: ='15MIN'!F2:L2 -> 25356 HATFIELD PEVEREL
C3: LOCATION | F3: ='15MIN'!F3:L3 -> JCT41 - Duke of Wellington, Hatfield Peverel
C4: DATE | F4: ='15MIN'!F4:L4 -> 45945
C6: WEATHER | F6: ='15MIN'!F6:L6 -> Overcast, max 13°C
C7: DATASET | F7: 60 minute intervals
C9: ='15MIN'!C9:L9 -> ORIGIN: B1137 The Street (west) | BW9: ORIGIN SUMMARY
C11: ='15MIN'!C11 -> →A | D11: ='15MIN'!D11 -> to | E11: ='15MIN'!E11 -> A← | O11: ='15MIN'!O11 -> →A | P11: ='15MIN'!P11 -> to | Q11: ='15MIN'!Q11 -> B↗ | AA11: ='15MIN'!AA11 -> →A | AB11: ='15MIN'!AB11 -> to | AC11: ='15MIN'!AC11 -> C↓ | AM11: ='15MIN'!AM11 -> →A | AN11: ='15MIN'!AN11 -> to | AO11: ='15MIN'!AO11 -> D | AY11: ='15MIN'!AY11 -> →A | AZ11: ='15MIN'!AZ11 -> to | BA11: ='15MIN'!BA11 -> E | BK11: ='15MIN'!BK11 -> →A | BL11: ='15MIN'!BL11 -> to | BM11: ='15MIN'!BM11 -> F | BW11: ='15MIN'!BW11:CF11 -> ENTERING FROM →A
C12: ='15MIN'!C12:L12 -> B1137 The Street to B1137 The Street | O12: ='15MIN'!O12:X12 -> B1137 The Street to B1137 The Street | AA12: ='15MIN'!AA12:AJ12 -> B1137 The Street to B1019 Maldon Rd | AM12: ='15MIN'!AM12:AV12 | AY12: ='15MIN'!AY12:BH12 | BK12: ='15MIN'!BK12:BT12 | BW12: =config!C14 -> B1137 The Street
C14: ='15MIN'!C14 -> CAR | D14: ='15MIN'!D14 -> LGV1 | E14: ='15MIN'!E14 -> LGV2 | F14: ='15MIN'!F14 -> MGV | G14: ='15MIN'!G14 -> HGV1 | H14: ='15MIN'!H14 -> HGV2 | I14: ='15MIN'!I14 -> PSV | J14: ='15MIN'!J14 -> MB | K14: ='15MIN'!K14 -> CYC | O14: =C14 -> CAR | P14: =D14 -> LGV1 | Q14: =E14 -> LGV2 | R14: =F14 -> MGV | S14: =G14 -> HGV1 | T14: =H14 -> HGV2 | U14: =I14 -> PSV | V14: =J14 -> MB | W14: =K14 -> CYC | AA14: =O14 -> CAR | AB14: =P14 -> LGV1 | AC14: =Q14 -> LGV2 | AD14: =R14 -> MGV | AE14: =S14 -> HGV1 | AF14: =T14 -> HGV2 | AG14: =U14 -> PSV | AH14: =V14 -> MB | AI14: =W14 -> CYC | AM14: =AA14 -> CAR | AN14: =AB14 -> LGV1 | AO14: =AC14 -> LGV2 | AP14: =AD14 -> MGV | AQ14: =AE14 -> HGV1 | AR14: =AF14 -> HGV2 | AS14: =AG14 -> PSV | AT14: =AH14 -> MB | AU14: =AI14 -> CYC | AY14: =AM14 -> CAR | AZ14: =AN14 -> LGV1 | BA14: =AO14 -> LGV2 | BB14: =AP14 -> MGV | BC14: =AQ14 -> HGV1 | BD14: =AR14 -> HGV2 | BE14: =AS14 -> PSV | BF14: =AT14 -> MB | BG14: =AU14 -> CYC | BK14: =AY14 -> CAR | BL14: =AZ14 -> LGV1 | BM14: =BA14 -> LGV2 | BN14: =BB14 -> MGV | BO14: =BC14 -> HGV1 | BP14: =BD14 -> HGV2 | BQ14: =BE14 -> PSV | BR14: =BF14 -> MB | BS14: =BG14 -> CYC | BW14: =BK14 -> CAR | BX14: =BL14 -> LGV1 | BY14: =BM14 -> LGV2 | BZ14: =BN14 -> MGV | CA14: =BO14 -> HGV1 | CB14: =BP14 -> HGV2 | CC14: =BQ14 -> PSV | CD14: =BR14 -> MB | CE14: =BS14 -> CYC
B15: =config!C7 -> 0.25 | C15: =SUM('15MIN'!C15:C18) -> 0 | D15: =SUM('15MIN'!D15:D18) -> 0 | E15: =SUM('15MIN'!E15:E18) -> 0 | F15: =SUM('15MIN'!F15:F18) -> 0 | G15: =SUM('15MIN'!G15:G18) -> 0 | H15: =SUM('15MIN'!H15:H18) -> 0 | I15: =SUM('15MIN'!I15:I18) -> 0 | J15: =SUM('15MIN'!J15:J18) -> 0 | K15: =SUM('15MIN'!K15:K18) -> 0 | L15: =SUM(C15:K15) -> 0 | N15: =B15 -> 0.25 | O15: =SUM('15MIN'!O15:O18) -> 64 | P15: =SUM('15MIN'!P15:P18) -> 8 | Q15: =SUM('15MIN'!Q15:Q18) -> 12 | R15: =SUM('15MIN'!R15:R18) -> 0 | S15: =SUM('15MIN'!S15:S18) -> 2 | T15: =SUM('15MIN'!T15:T18) -> 2 | U15: =SUM('15MIN'!U15:U18) -> 2 | V15: =SUM('15MIN'!V15:V18) -> 0 | W15: =SUM('15MIN'!W15:W18) -> 0 | X15: =SUM(O15:W15) -> 90 | Z15: =N15 -> 0.25 | AA15: =SUM('15MIN'!AA15:AA18) -> 64 | AB15: =SUM('15MIN'!AB15:AB18) -> 8 | AC15: =SUM('15MIN'!AC15:AC18) -> 8 | AD15: =SUM('15MIN'!AD15:AD18) -> 0 | AE15: =SUM('15MIN'!AE15:AE18) -> 6 | AF15: =SUM('15MIN'!AF15:AF18) -> 3 | AG15: =SUM('15MIN'!AG15:AG18) -> 0 | AH15: =SUM('15MIN'!AH15:AH18) -> 0 | AI15: =SUM('15MIN'!AI15:AI18) -> 0 | AJ15: =SUM(AA15:AI15) -> 89 | AL15: =Z15 -> 0.25 | AM15: =SUM('15MIN'!AM15:AM18) -> 0 | AN15: =SUM('15MIN'!AN15:AN18) -> 0 | AO15: =SUM('15MIN'!AO15:AO18) -> 0 | AP15: =SUM('15MIN'!AP15:AP18) -> 0 | AQ15: =SUM('15MIN'!AQ15:AQ18) -> 0 | AR15: =SUM('15MIN'!AR15:AR18) -> 0 | AS15: =SUM('15MIN'!AS15:AS18) -> 0 | AT15: =SUM('15MIN'!AT15:AT18) -> 0 | AU15: =SUM('15MIN'!AU15:AU18) -> 0 | AV15: =SUM(AM15:AU15) -> 0 | AX15: =AL15 -> 0.25 | AY15: =SUM('15MIN'!AY15:AY18) -> 0 | AZ15: =SUM('15MIN'!AZ15:AZ18) -> 0 | BA15: =SUM('15MIN'!BA15:BA18) -> 0 | BB15: =SUM('15MIN'!BB15:BB18) -> 0 | BC15: =SUM('15MIN'!BC15:BC18) -> 0 | BD15: =SUM('15MIN'!BD15:BD18) -> 0 | BE15: =SUM('15MIN'!BE15:BE18) -> 0 | BF15: =SUM('15MIN'!BF15:BF18) -> 0 | BG15: =SUM('15MIN'!BG15:BG18) -> 0 | BH15: =SUM(AY15:BG15) -> 0 | BJ15: =AX15 -> 0.25 | BK15: =SUM('15MIN'!BK15:BK18) -> 0 | BL15: =SUM('15MIN'!BL15:BL18) -> 0 | BM15: =SUM('15MIN'!BM15:BM18) -> 0 | BN15: =SUM('15MIN'!BN15:BN18) -> 0 | BO15: =SUM('15MIN'!BO15:BO18) -> 0 | BP15: =SUM('15MIN'!BP15:BP18) -> 0 | BQ15: =SUM('15MIN'!BQ15:BQ18) -> 0 | BR15: =SUM('15MIN'!BR15:BR18) -> 0 | BS15: =SUM('15MIN'!BS15:BS18) -> 0 | BT15: =SUM(BK15:BS15) -> 0 | BV15: =BJ15 -> 0.25 | BW15: =SUM(C15,O15,AA15,AM15,AY15,BK15) -> 128 | BX15: =SUM(D15,P15,AB15,AN15,AZ15,BL15) -> 16 | BY15: =SUM(E15,Q15,AC15,AO15,BA15,BM15) -> 20 | BZ15: =SUM(F15,R15,AD15,AP15,BB15,BN15) -> 0 | CA15: =SUM(G15,S15,AE15,AQ15,BC15,BO15) -> 8 | CB15: =SUM(H15,T15,AF15,AR15,BD15,BP15) -> 5 | CC15: =SUM(I15,U15,AG15,AS15,BE15,BQ15) -> 2 | CD15: =SUM(J15,V15,AH15,AT15,BF15,BR15) -> 0 | CE15: =SUM(K15,W15,AI15,AU15,BG15,BS15) -> 0 | CF15: =IF(BW15<>"",SUM(BW15:CE15),"") -> 179
B16: =B15+TIME(1,0,0) -> 0.29166667 | C16: =SUM('15MIN'!C19:C22) -> 0 | D16: =SUM('15MIN'!D19:D22) -> 0 | E16: =SUM('15MIN'!E19:E22) -> 0 | F16: =SUM('15MIN'!F19:F22) -> 0 | G16: =SUM('15MIN'!G19:G22) -> 0 | H16: =SUM('15MIN'!H19:H22) -> 0 | I16: =SUM('15MIN'!I19:I22) -> 0 | J16: =SUM('15MIN'!J19:J22) -> 0 | K16: =SUM('15MIN'!K19:K22) -> 0 | L16: =SUM(C16:K16) -> 0 | N16: =B16 -> 0.29166667 | O16: =SUM('15MIN'!O19:O22) -> 159 | P16: =SUM('15MIN'!P19:P22) -> 9 | Q16: =SUM('15MIN'!Q19:Q22) -> 17 | R16: =SUM('15MIN'!R19:R22) -> 2 | S16: =SUM('15MIN'!S19:S22) -> 3 | T16: =SUM('15MIN'!T19:T22) -> 1 | U16: =SUM('15MIN'!U19:U22) -> 3 | V16: =SUM('15MIN'!V19:V22) -> 0 | W16: =SUM('15MIN'!W19:W22) -> 0 | X16: =SUM(O16:W16) -> 194 | Z16: =N16 -> 0.29166667 | AA16: =SUM('15MIN'!AA19:AA22) -> 226 | AB16: =SUM('15MIN'!AB19:AB22) -> 24 | AC16: =SUM('15MIN'!AC19:AC22) -> 40 | AD16: =SUM('15MIN'!AD19:AD22) -> 1 | AE16: =SUM('15MIN'!AE19:AE22) -> 4 | AF16: =SUM('15MIN'!AF19:AF22) -> 4 | AG16: =SUM('15MIN'!AG19:AG22) -> 3 | AH16: =SUM('15MIN'!AH19:AH22) -> 1 | AI16: =SUM('15MIN'!AI19:AI22) -> 0 | AJ16: =SUM(AA16:AI16) -> 303 | AL16: =Z16 -> 0.29166667 | AM16: =SUM('15MIN'!AM19:AM22) -> 0 | AN16: =SUM('15MIN'!AN19:AN22) -> 0 | AO16: =SUM('15MIN'!AO19:AO22) -> 0 | AP16: =SUM('15MIN'!AP19:AP22) -> 0 | AQ16: =SUM('15MIN'!AQ19:AQ22) -> 0 | AR16: =SUM('15MIN'!AR19:AR22) -> 0 | AS16: =SUM('15MIN'!AS19:AS22) -> 0 | AT16: =SUM('15MIN'!AT19:AT22) -> 0 | AU16: =SUM('15MIN'!AU19:AU22) -> 0 | AV16: =SUM(AM16:AU16) -> 0 | AX16: =AL16 -> 0.29166667 | AY16: =SUM('15MIN'!AY19:AY22) -> 0 | AZ16: =SUM('15MIN'!AZ19:AZ22) -> 0 | BA16: =SUM('15MIN'!BA19:BA22) -> 0 | BB16: =SUM('15MIN'!BB19:BB22) -> 0 | BC16: =SUM('15MIN'!BC19:BC22) -> 0 | BD16: =SUM('15MIN'!BD19:BD22) -> 0 | BE16: =SUM('15MIN'!BE19:BE22) -> 0 | BF16: =SUM('15MIN'!BF19:BF22) -> 0 | BG16: =SUM('15MIN'!BG19:BG22) -> 0 | BH16: =SUM(AY16:BG16) -> 0 | BJ16: =AX16 -> 0.29166667 | BK16: =SUM('15MIN'!BK19:BK22) -> 0 | BL16: =SUM('15MIN'!BL19:BL22) -> 0 | BM16: =SUM('15MIN'!BM19:BM22) -> 0 | BN16: =SUM('15MIN'!BN19:BN22) -> 0 | BO16: =SUM('15MIN'!BO19:BO22) -> 0 | BP16: =SUM('15MIN'!BP19:BP22) -> 0 | BQ16: =SUM('15MIN'!BQ19:BQ22) -> 0 | BR16: =SUM('15MIN'!BR19:BR22) -> 0 | BS16: =SUM('15MIN'!BS19:BS22) -> 0 | BT16: =SUM(BK16:BS16) -> 0 | BV16: =BJ16 -> 0.29166667 | BW16: =SUM(C16,O16,AA16,AM16,AY16,BK16) -> 385 | BX16: =SUM(D16,P16,AB16,AN16,AZ16,BL16) -> 33 | BY16: =SUM(E16,Q16,AC16,AO16,BA16,BM16) -> 57 | BZ16: =SUM(F16,R16,AD16,AP16,BB16,BN16) -> 3 | CA16: =SUM(G16,S16,AE16,AQ16,BC16,BO16) -> 7 | CB16: =SUM(H16,T16,AF16,AR16,BD16,BP16) -> 5 | CC16: =SUM(I16,U16,AG16,AS16,BE16,BQ16) -> 6 | CD16: =SUM(J16,V16,AH16,AT16,BF16,BR16) -> 1 | CE16: =SUM(K16,W16,AI16,AU16,BG16,BS16) -> 0 | CF16: =IF(BW16<>"",SUM(BW16:CE16),"") -> 497
B17: =B16+TIME(1,0,0) -> 0.33333333 | C17: =SUM('15MIN'!C23:C26) -> 2 | D17: =SUM('15MIN'!D23:D26) -> 0 | E17: =SUM('15MIN'!E23:E26) -> 0 | F17: =SUM('15MIN'!F23:F26) -> 0 | G17: =SUM('15MIN'!G23:G26) -> 0 | H17: =SUM('15MIN'!H23:H26) -> 0 | I17: =SUM('15MIN'!I23:I26) -> 0 | J17: =SUM('15MIN'!J23:J26) -> 0 | K17: =SUM('15MIN'!K23:K26) -> 0 | L17: =SUM(C17:K17) -> 2 | N17: =B17 -> 0.33333333 | O17: =SUM('15MIN'!O23:O26) -> 187 | P17: =SUM('15MIN'!P23:P26) -> 7 | Q17: =SUM('15MIN'!Q23:Q26) -> 19 | R17: =SUM('15MIN'!R23:R26) -> 2 | S17: =SUM('15MIN'!S23:S26) -> 3 | T17: =SUM('15MIN'!T23:T26) -> 1 | U17: =SUM('15MIN'!U23:U26) -> 2 | V17: =SUM('15MIN'!V23:V26) -> 2 | W17: =SUM('15MIN'!W23:W26) -> 0 | X17: =SUM(O17:W17) -> 223 | Z17: =N17 -> 0.33333333 | AA17: =SUM('15MIN'!AA23:AA26) -> 267 | AB17: =SUM('15MIN'!AB23:AB26) -> 10 | AC17: =SUM('15MIN'!AC23:AC26) -> 28 | AD17: =SUM('15MIN'!AD23:AD26) -> 1 | AE17: =SUM('15MIN'!AE23:AE26) -> 3 | AF17: =SUM('15MIN'!AF23:AF26) -> 5 | AG17: =SUM('15MIN'!AG23:AG26) -> 1 | AH17: =SUM('15MIN'!AH23:AH26) -> 2 | AI17: =SUM('15MIN'!AI23:AI26) -> 1 | AJ17: =SUM(AA17:AI17) -> 318 | AL17: =Z17 -> 0.33333333 | AM17: =SUM('15MIN'!AM23:AM26) -> 0 | AN17: =SUM('15MIN'!AN23:AN26) -> 0 | AO17: =SUM('15MIN'!AO23:AO26) -> 0 | AP17: =SUM('15MIN'!AP23:AP26) -> 0 | AQ17: =SUM('15MIN'!AQ23:AQ26) -> 0 | AR17: =SUM('15MIN'!AR23:AR26) -> 0 | AS17: =SUM('15MIN'!AS23:AS26) -> 0 | AT17: =SUM('15MIN'!AT23:AT26) -> 0 | AU17: =SUM('15MIN'!AU23:AU26) -> 0 | AV17: =SUM(AM17:AU17) -> 0 | AX17: =AL17 -> 0.33333333 | AY17: =SUM('15MIN'!AY23:AY26) -> 0 | AZ17: =SUM('15MIN'!AZ23:AZ26) -> 0 | BA17: =SUM('15MIN'!BA23:BA26) -> 0 | BB17: =SUM('15MIN'!BB23:BB26) -> 0 | BC17: =SUM('15MIN'!BC23:BC26) -> 0 | BD17: =SUM('15MIN'!BD23:BD26) -> 0 | BE17: =SUM('15MIN'!BE23:BE26) -> 0 | BF17: =SUM('15MIN'!BF23:BF26) -> 0 | BG17: =SUM('15MIN'!BG23:BG26) -> 0 | BH17: =SUM(AY17:BG17) -> 0 | BJ17: =AX17 -> 0.33333333 | BK17: =SUM('15MIN'!BK23:BK26) -> 0 | BL17: =SUM('15MIN'!BL23:BL26) -> 0 | BM17: =SUM('15MIN'!BM23:BM26) -> 0 | BN17: =SUM('15MIN'!BN23:BN26) -> 0 | BO17: =SUM('15MIN'!BO23:BO26) -> 0 | BP17: =SUM('15MIN'!BP23:BP26) -> 0 | BQ17: =SUM('15MIN'!BQ23:BQ26) -> 0 | BR17: =SUM('15MIN'!BR23:BR26) -> 0 | BS17: =SUM('15MIN'!BS23:BS26) -> 0 | BT17: =SUM(BK17:BS17) -> 0 | BV17: =BJ17 -> 0.33333333 | BW17: =SUM(C17,O17,AA17,AM17,AY17,BK17) -> 456 | BX17: =SUM(D17,P17,AB17,AN17,AZ17,BL17) -> 17 | BY17: =SUM(E17,Q17,AC17,AO17,BA17,BM17) -> 47 | BZ17: =SUM(F17,R17,AD17,AP17,BB17,BN17) -> 3 | CA17: =SUM(G17,S17,AE17,AQ17,BC17,BO17) -> 6 | CB17: =SUM(H17,T17,AF17,AR17,BD17,BP17) -> 6 | CC17: =SUM(I17,U17,AG17,AS17,BE17,BQ17) -> 3 | CD17: =SUM(J17,V17,AH17,AT17,BF17,BR17) -> 4 | CE17: =SUM(K17,W17,AI17,AU17,BG17,BS17) -> 1 | CF17: =IF(BW17<>"",SUM(BW17:CE17),"") -> 543
B18: =B17+TIME(1,0,0) -> 0.375 | C18: =SUM('15MIN'!C27:C30) -> 2 | D18: =SUM('15MIN'!D27:D30) -> 0 | E18: =SUM('15MIN'!E27:E30) -> 0 | F18: =SUM('15MIN'!F27:F30) -> 0 | G18: =SUM('15MIN'!G27:G30) -> 0 | H18: =SUM('15MIN'!H27:H30) -> 0 | I18: =SUM('15MIN'!I27:I30) -> 0 | J18: =SUM('15MIN'!J27:J30) -> 0 | K18: =SUM('15MIN'!K27:K30) -> 0 | L18: =SUM(C18:K18) -> 2 | N18: =B18 -> 0.375 | O18: =SUM('15MIN'!O27:O30) -> 143 | P18: =SUM('15MIN'!P27:P30) -> 4 | Q18: =SUM('15MIN'!Q27:Q30) -> 20 | R18: =SUM('15MIN'!R27:R30) -> 3 | S18: =SUM('15MIN'!S27:S30) -> 4 | T18: =SUM('15MIN'!T27:T30) -> 0 | U18: =SUM('15MIN'!U27:U30) -> 4 | V18: =SUM('15MIN'!V27:V30) -> 0 | W18: =SUM('15MIN'!W27:W30) -> 2 | X18: =SUM(O18:W18) -> 180 | Z18: =N18 -> 0.375 | AA18: =SUM('15MIN'!AA27:AA30) -> 169 | AB18: =SUM('15MIN'!AB27:AB30) -> 10 | AC18: =SUM('15MIN'!AC27:AC30) -> 33 | AD18: =SUM('15MIN'!AD27:AD30) -> 1 | AE18: =SUM('15MIN'!AE27:AE30) -> 13 | AF18: =SUM('15MIN'!AF27:AF30) -> 3 | AG18: =SUM('15MIN'!AG27:AG30) -> 1 | AH18: =SUM('15MIN'!AH27:AH30) -> 0 | AI18: =SUM('15MIN'!AI27:AI30) -> 0 | AJ18: =SUM(AA18:AI18) -> 230 | AL18: =Z18 -> 0.375 | AM18: =SUM('15MIN'!AM27:AM30) -> 0 | AN18: =SUM('15MIN'!AN27:AN30) -> 0 | AO18: =SUM('15MIN'!AO27:AO30) -> 0 | AP18: =SUM('15MIN'!AP27:AP30) -> 0 | AQ18: =SUM('15MIN'!AQ27:AQ30) -> 0 | AR18: =SUM('15MIN'!AR27:AR30) -> 0 | AS18: =SUM('15MIN'!AS27:AS30) -> 0 | AT18: =SUM('15MIN'!AT27:AT30) -> 0 | AU18: =SUM('15MIN'!AU27:AU30) -> 0 | AV18: =SUM(AM18:AU18) -> 0 | AX18: =AL18 -> 0.375 | AY18: =SUM('15MIN'!AY27:AY30) -> 0 | AZ18: =SUM('15MIN'!AZ27:AZ30) -> 0 | BA18: =SUM('15MIN'!BA27:BA30) -> 0 | BB18: =SUM('15MIN'!BB27:BB30) -> 0 | BC18: =SUM('15MIN'!BC27:BC30) -> 0 | BD18: =SUM('15MIN'!BD27:BD30) -> 0 | BE18: =SUM('15MIN'!BE27:BE30) -> 0 | BF18: =SUM('15MIN'!BF27:BF30) -> 0 | BG18: =SUM('15MIN'!BG27:BG30) -> 0 | BH18: =SUM(AY18:BG18) -> 0 | BJ18: =AX18 -> 0.375 | BK18: =SUM('15MIN'!BK27:BK30) -> 0 | BL18: =SUM('15MIN'!BL27:BL30) -> 0 | BM18: =SUM('15MIN'!BM27:BM30) -> 0 | BN18: =SUM('15MIN'!BN27:BN30) -> 0 | BO18: =SUM('15MIN'!BO27:BO30) -> 0 | BP18: =SUM('15MIN'!BP27:BP30) -> 0 | BQ18: =SUM('15MIN'!BQ27:BQ30) -> 0 | BR18: =SUM('15MIN'!BR27:BR30) -> 0 | BS18: =SUM('15MIN'!BS27:BS30) -> 0 | BT18: =SUM(BK18:BS18) -> 0 | BV18: =BJ18 -> 0.375 | BW18: =SUM(C18,O18,AA18,AM18,AY18,BK18) -> 314 | BX18: =SUM(D18,P18,AB18,AN18,AZ18,BL18) -> 14 | BY18: =SUM(E18,Q18,AC18,AO18,BA18,BM18) -> 53 | BZ18: =SUM(F18,R18,AD18,AP18,BB18,BN18) -> 4 | CA18: =SUM(G18,S18,AE18,AQ18,BC18,BO18) -> 17 | CB18: =SUM(H18,T18,AF18,AR18,BD18,BP18) -> 3 | CC18: =SUM(I18,U18,AG18,AS18,BE18,BQ18) -> 5 | CD18: =SUM(J18,V18,AH18,AT18,BF18,BR18) -> 0 | CE18: =SUM(K18,W18,AI18,AU18,BG18,BS18) -> 2 | CF18: =IF(BW18<>"",SUM(BW18:CE18),"") -> 412
