Workbook

Sheet SUMMARY
C2: PROJECT | E2: =config!C3 -> 25356 HATFIELD PEVEREL
C3: SITE CODE | E3: =config!C51 -> 25356-41
C4: LOCATION | E4: =IF( config!C5 <> "", config!C4 & " - " & config!C5, "UNDEFINED" ) -> JCT41 - Duke of Wellington, Hatfield Peverel | O4: logo
C5: LOC. DESC. | E5: =config!AL7 & "-arm " & config!C10 -> 3-arm mini-roundabout
C6: START DATE | E6: =IF( config!C6 <> "", config!C6, "UNDEFINED" ) -> 45945
C7: DURATION | E7: 0600-1900 (13hrs)
C8: PSL | E8: =N16 -> 30mph
C9: SURVEY TYPE | E9: 15min interval junction count, origin & destination
C10: WEATHER | E10: =IF( config!C11 <> "", config!C11, "UNDEFINED" ) -> Overcast, max 13°C
C13: site map | M13: ="A "&config!AL4&"hr survey, commencing at "&TEXT(config!C7,"hh:mm")&" on "&TEXT(config!C6,"ddd dd mmm yyyy")&", recorded a total of "&TEXT('15MIN'!CF439, "#,###")&" vehicle movements in "&config!AL10&" classes at the "&config!AL7&"-arm junction." -> A 13hr survey, commencing at 06:00 on Wed 15 Oct 2025, recorded a total of 17,529 vehicle movements in 9 classes at the 3-arm junction.
M16: PSL | N16: =IF( config!C9<>"", config!C9 & "mph", "UNDEFINED" ) -> 30mph
M17: OSGR | N17: =IF( config!C20 <> "", config!C20, "UNDEFINED" ) -> 579411, 211928
M18: LAT, LNG | N18: =IF(config!C21<>"", HYPERLINK("https://maps.google.co.uk/maps?f=q&hl=en&q="&config!C21&"&ie=UTF8&z=16", config!C21), "UNDEFINED") -> 51.777257, 0.599256
M19: POST CODE | N19: =IF( config!C12 <> "", config!C12, "UNDEFINED" ) -> CM3 2HG
M20: =IF(config!AI12 = 0, "No data...", config!AI13 & " cyclists were recorded, "&config!AJ13& "% of the total volume. " & CHAR(10) & CHAR(10) & config!AJ14 & "% of the total volume consists of rigid and articulated HGVs." & CHAR(10) & CHAR(10) & config!C24 & CHAR(10) & CHAR(10) & "The AM peak was in the 15min period commencing at "&TEXT(config!AJ15, "hh:mm")&", whilst the PM peak was "&TEXT(config!AJ16, "hh:mm") & CHAR(10) & CHAR(10) & config!AP19& CHAR(10) & CHAR(10) & "ENTRY refers to entering the junction, EXITING refers to vehicles leaving the junction area.") -> 24 cyclists were recorded, 0.14% of the total volume. 3.49% of the total volume consists of rigid and articulated HGVs. There were no recorded incidents. The AM peak was in the 15min period commencing at 08:15, whilst the PM peak was 16:30 The busiest route over 13hrs was between B1019 Maldon Rd (S) and B1137 The Street (W) (see matrices). ENTRY refers to entering the junction, EXITING refers to vehicles leaving the junction area.
C25: Map © OpenStreetMap contributors
C26: VEHICLE MOVEMENTS
H29: Entering | J29: Exiting
C30: =IF(config!C14<>"", config!B14,"") -> ARM A | D30: =IF(C30<>"", config!AP4, "") -> B1137 The Street (W) | H30: =IF(C30<>"", '60MIN'!CF28, "") -> 6569 | I30: =IF(C30<>"", config!AH4, "") -> → | J30: =IF(C30<>"", '60MIN'!L166, "") -> 6967 | K30: =IF(C30<>"", config!AF4, "") -> ←
C31: =IF(config!C15<>"", config!B15,"") -> ARM B | D31: =IF(C31<>"", config!AP5, "") -> B1137 The Street (NE) | H31: =IF(C31<>"", '60MIN'!CF51, "") -> 4958 | I31: =IF(C31<>"", config!AH5, "") -> ↙ | J31: =IF(C31<>"", '60MIN'!X166, "") -> 4748 | K31: =IF(C31<>"", config!AF5, "") -> ↗
C32: =IF(config!C16<>"", config!B16,"") -> ARM C | D32: =IF(C32<>"", config!AP6, "") -> B1019 Maldon Rd (S) | H32: =IF(C32<>"", '60MIN'!CF74, "") -> 6002 | I32: =IF(C32<>"", config!AH6, "") -> ↑ | J32: =IF(C32<>"", '60MIN'!AJ166, "") -> 5814 | K32: =IF(C32<>"", config!AF6, "") -> ↓
C33: =IF(config!C17<>"", config!B17,"") | D33: =IF(C33<>"", config!AP7, "") | H33: =IF(C33<>"", '60MIN'!CF97, "") | I33: =IF(C33<>"", config!AH7, "") | J33: =IF(C33<>"", '60MIN'!AV166, "") | K33: =IF(C33<>"", config!AF7, "")
C34: =IF(config!C18<>"", config!B18,"") | D34: =IF(C34<>"", config!AP8, "") | H34: =IF(C34<>"", '60MIN'!CF120, "") | I34: =IF(C34<>"", config!AH8, "") | J34: =IF(C34<>"", '60MIN'!BH166, "") | K34: =IF(C34<>"", config!AF8, "")
C35: =IF(config!C19<>"", config!B19,"") | D35: =IF(C35<>"", config!AP9, "") | H35: =IF(C35<>"", '60MIN'!CF143, "") | I35: =IF(C35<>"", config!AH9, "") | J35: =IF(C35<>"", '60MIN'!BT166, "") | K35: =IF(C35<>"", config!AF9, "")
H36: =SUM(H30:H35) -> 17529 | J36: =SUM(J30:J35) -> 17529
J40: =config!AH4 -> → | M40: =UPPER(config!C14)&": entries at arm A (above the axis) against exits (below) for the survey duration." & CHAR(10) & CHAR(10) & TEXT(config!AH27, "0.0%") & " of all inbound movements, and " & TEXT(config!AI27, "0.0%") & " of all outbound movements." -> B1137 THE STREET: entries at arm A (above the axis) against exits (below) for the survey duration. 37.5% of all inbound movements, and 39.7% of all outbound movements.
J42: A
J43: =config!AF4 -> ←
J47: =config!AH5 -> ↙ | M47: =UPPER(config!C15)&": entries at arm B (above the axis) against exits (below) for the survey duration." & CHAR(10) & CHAR(10) & TEXT(config!AH28, "0.0%") & " of all inbound movements, and " & TEXT(config!AI28, "0.0%") & " of all outbound movements." -> B1137 THE STREET: entries at arm B (above the axis) against exits (below) for the survey duration. 28.3% of all inbound movements, and 27.1% of all outbound movements.
J49: B
J50: =config!AF5 -> ↗
J54: =config!AH6 -> ↑ | M54: =UPPER(config!C16)&": entries at arm C (above the axis) against exits (below) for the survey duration." & CHAR(10) & CHAR(10) & TEXT(config!AH29, "0.0%") & " of all inbound movements, and " & TEXT(config!AI29, "0.0%") & " of all outbound movements." -> B1019 MALDON RD: entries at arm C (above the axis) against exits (below) for the survey duration. 34.2% of all inbound movements, and 33.2% of all outbound movements.
J56: C
J57: =config!AF6 -> ↓
J61: =config!AH7 | M61: =UPPER(config!C17)&": entries at arm D (above the axis) against exits (below) for the survey duration." & CHAR(10) & CHAR(10) & TEXT(config!AH30, "0.0%") & " of all inbound movements, and " & TEXT(config!AI30, "0.0%") & " of all outbound movements." -> : entries at arm D (above the axis) against exits (below) for the survey duration. 0.0% of all inbound movements, and 0.0% of all outbound movements.
J63: D
J64: =config!AF7
J68: =config!AH8 | M68: =UPPER(config!C18)&": entries at arm E (above the axis) against exits (below) for the survey duration." & CHAR(10) & CHAR(10) & TEXT(config!AH31, "0.0%") & " of all inbound movements, and " & TEXT(config!AI31, "0.0%") & " of all outbound movements." -> : entries at arm E (above the axis) against exits (below) for the survey duration. 0.0% of all inbound movements, and 0.0% of all outbound movements.
J70: E
J71: =config!AF8
J75: =config!AH9 | M75: =UPPER(config!C19)&": entries at arm F (above the axis) against exits (below) for the survey duration." & CHAR(10) & CHAR(10) & TEXT(config!AH32, "0.0%") & " of all inbound movements, and " & TEXT(config!AI32, "0.0%") & " of all outbound movements." -> : entries at arm F (above the axis) against exits (below) for the survey duration. 0.0% of all inbound movements, and 0.0% of all outbound movements.
J77: F
J78: =config!AF9
C82: METHODOLOGY
C83: Equipment & methodology
C84: ="Junction counts are undertaken using multiple digital video cameras, commencing at "&TEXT(config!C7, "HH:MM")&", and subsequently enumerated off-site to 9 vehicle classes in 15 minute intervals. The '60MIN' datasets are automatically calculated from the 15MIN dataset. Footage is retained for 6 months from the survey date." -> Junction counts are undertaken using multiple digital video cameras, commencing at 06:00, and subsequently enumerated off-site to 9 vehicle classes in 15 minute intervals. The '60MIN' datasets are automatically calculated from the 15MIN dataset. Footage is retained for 6 months from the survey date.
C85: Weather & environmental
C86: Inclement conditions during winter months or outbreaks of unseasonable weather may affect survey data collection. This can result in distorted traffic flows or unusable data and should be considered prior to survey approval. Although forecast checks are made prior to the survey commencing, Essex Highways cannot be held responsible for the forecast accuracy.
C87: Equipment damage & failure
C88: Although checked intermittently the equipment remains unmanned for much of the duration of the survey, and can potentially be interfered with, vandalised, damaged or stolen and Essex Highways cannot be held responsible for any periods where data has not been captured. The equipment is located in accordance with the details provided by the client and Essex Highways cannot be held responsible for the accuracy of the data or loss of equipment due to theft and vandalism.
C89: Roadworks & events
C90: Where possible, roadworks checks are made 10 days before, and 48 hours before, the survey commences. Additionally, influencing major local events are also monitored, covering the immediate vicinity of the surveys and any routes likely to affect the outcome of the survey.
C91: Vehicle classifications | H91: Disclaimer
C92: Enumerated vehicles are recorded into one of nine classes based on the descriptions below, in their respective 15 minute bracket. | H92: Although every attempt is made to achieve accuracy, neither Essex County Council nor Essex Highways may be held liable for errors of fact or interpretation.
C93: CLASS | E93: ABBREV. | F93: DESC. | H93: EXAMPLE | L93: ATC BIN EQUIV.
C94: Cars & Taxis | E94: CAR | F94: 2-axle, 4-tyre Rigid chassis Trailers included | H94: Three or four wheeled vehicles Non-commercial pick-ups Cars with trailers & caravans Light ambulances & caravanettes Non-commercial 4x4s | L94: ATC 2 & 3
C95: LGV1 (car-based) | E95: LGV1 | F95: Under 1.5t 2-axle, 4-tyre Rigid chassis Trailers included | H95: Inc. Astra vans, Escort vans, etc Sign-written commercial pick-up vehicles
C96: LGV2 (Transit-type) | E96: LGV2 | F96: 1.5t - 3.5t 2-axle, 4-tyre Rigid chassis Trailers included | H96: Single tyres only on rear axle No reflective plates on rear | L96: ATC 4
C97: Medium goods | E97: MGV | F97: 3.5t - 7.5t 2-axle, 6-tyre Rigid chassis Trailers included | H97: Twin tyres on rear axle No reflective plates on rear Single or no support bar between axles Rigid chassis, deep-dish rear wheels | L97: ATC 5
C98: Heavy goods rigid | E98: HGV1 | F98: Over 7.5t 2-axle, 3-axle 6 or more tyres Rigid chassis No trailers | H98: Twin tyres on rear axle(s) Reflective plates on rear Double support bar between axles Rigid chassis only | L98: ATC 6
C99: Heavy goods articulated | E99: HGV2 | F99: Over 7.5t 4-axle or more Rigid chassis (plus trailer) Articulated chassis | H99: Twin tyres on rear axles Reflective plates on rear Double support bar between axles Rigid or articulated chassis | L99: ATC 7, 8, 9 & 10
C100: Buses & coaches | E100: PSV | F100: 2-axle, 3-axle 6 or more tyres Rigid chassis | H100: Single or double decker All coach-built passenger carriers All school & scheduled routes Inc. non-scheduled coaches | L100: ATC 4 & 5
C101: Motorcycle | E101: MB | F101: Trailers included | H101: Inc. sidecars, scooters & mopeds | L101: ATC 1
C102: Pedal cycle | E102: CYC | F102: Non-motorised | H102: Inc. tandems, trailers & pedal trikes | L102: N/A
C104: Generated | E104: =IF(config!C22="","UNDEFINED",config!C22) -> 45960 | G104: =config!G3 -> v4.02
C105: =LEFT(config!C37, LEN(config!C37)-5) -> 25356-41 . Duke of Wellington HATFIELD PEVEREL . 15 OCT 2025 (JCT)

Sheet 15MIN
C2: PROJECT | F2: =config!C3 -> 25356 HATFIELD PEVEREL
C3: LOCATION | F3: =IF(config!C5<>"", config!C4&" - "&config!C5, "UNDEFINED") -> JCT41 - Duke of Wellington, Hatfield Peverel
C4: DATE | F4: =IF(config!C6<>"",config!C6,"UNDEFINED") -> 45945
C6: WEATHER | F6: =IF(config!C11<>"",config!C11,"UNDEFINED") -> Overcast, max 13°C
C7: DATASET | F7: =TEXT(config!C8,"hh:mm")&" minute intervals" -> 00:15 minute intervals
C9: ="ORIGIN: "&config!C14&" ("&config!F14&")" -> ORIGIN: B1137 The Street (west) | BW9: ORIGIN SUMMARY
C11: =config!$AH4&"A" -> →A | D11: to | E11: ="A"&config!$AF$4 -> A← | O11: =C11 -> →A | P11: to | Q11: ="B"&config!$AF$5 -> B↗ | AA11: =C11 -> →A | AB11: to | AC11: ="C"&config!$AF$6 -> C↓ | AM11: =C11 -> →A | AN11: to | AO11: ="D"&config!$AF$7 -> D | AY11: =C11 -> →A | AZ11: to | BA11: ="E"&config!$AF$8 -> E | BK11: =C11 -> →A | BL11: to | BM11: ="F"&config!$AF$9 -> F | BW11: ="ENTERING FROM "&C11 -> ENTERING FROM →A
C12: =config!C14&" to "&config!C14 -> B1137 The Street to B1137 The Street | O12: =config!C14&" to "&config!C15 -> B1137 The Street to B1137 The Street | AA12: =IF(config!C16<>"",config!C14&" to "&config!C16,"") -> B1137 The Street to B1019 Maldon Rd | AM12: =IF(config!C17<>"",config!C14&" to "&config!C17,"") | AY12: =IF(config!C18<>"",config!C14&" to "&config!C18,"") | BK12: =IF(config!C19<>"",config!C14&" to "&config!C19,"") | BW12: =config!C14 -> B1137 The Street
C14: =config!C27 -> CAR | D14: =config!C28 -> LGV1 | E14: =config!C29 -> LGV2 | F14: =config!C30 -> MGV | G14: =config!C31 -> HGV1 | H14: =config!C32 -> HGV2 | I14: =config!C33 -> PSV | J14: =config!C34 -> MB | K14: =config!C35 -> CYC | O14: =C14 -> CAR | P14: =D14 -> LGV1 | Q14: =E14 -> LGV2 | R14: =F14 -> MGV | S14: =G14 -> HGV1 | T14: =H14 -> HGV2 | U14: =I14 -> PSV | V14: =J14 -> MB | W14: =K14 -> CYC | AA14: =O14 -> CAR | AB14: =P14 -> LGV1 | AC14: =Q14 -> LGV2 | AD14: =R14 -> MGV | AE14: =S14 -> HGV1 | AF14: =T14 -> HGV2 | AG14: =U14 -> PSV | AH14: =V14 -> MB | AI14: =W14 -> CYC | AM14: =AA14 -> CAR | AN14: =AB14 -> LGV1 | AO14: =AC14 -> LGV2 | AP14: =AD14 -> MGV | AQ14: =AE14 -> HGV1 | AR14: =AF14 -> HGV2 | AS14: =AG14 -> PSV | AT14: =AH14 -> MB | AU14: =AI14 -> CYC | AY14: =AM14 -> CAR | AZ14: =AN14 -> LGV1 | BA14: =AO14 -> LGV2 | BB14: =AP14 -> MGV | BC14: =AQ14 -> HGV1 | BD14: =AR14 -> HGV2 | BE14: =AS14 -> PSV | BF14: =AT14 -> MB | BG14: =AU14 -> CYC | BK14: =AY14 -> CAR | BL14: =AZ14 -> LGV1 | BM14: =BA14 -> LGV2 | BN14: =BB14 -> MGV | BO14: =BC14 -> HGV1 | BP14: =BD14 -> HGV2 | BQ14: =BE14 -> PSV | BR14: =BF14 -> MB | BS14: =BG14 -> CYC | BW14: =BK14 -> CAR | BX14: =BL14 -> LGV1 | BY14: =BM14 -> LGV2 | BZ14: =BN14 -> MGV | CA14: =BO14 -> HGV1 | CB14: =BP14 -> HGV2 | CC14: =BQ14 -> PSV | CD14: =BR14 -> MB | CE14: =BS14 -> CYC
B15: =config!C7 -> 0.25 | C15: 0 | D15: 0 | E15: 0 | F15: 0 | G15: 0 | H15: 0 | I15: 0 | J15: 0 | K15: 0 | L15: {=IF(ISBLANK(C15:K15),"",SUM(C15:K15))} -> 0 | N15: =B15 -> 0.25 | O15: 10 | P15: 1 | Q15: 1 | R15: 0 | S15: 0 | T15: 0 | U15: 0 | V15: 0 | W15: 0 | X15: {=IF(ISBLANK(O15:W15),"",SUM(O15:W15))} -> 12 | Z15: =N15 -> 0.25 | AA15: 9 | AB15: 1 | AC15: 2 | AD15: 0 | AE15: 0 | AF15: 1 | AG15: 0 | AH15: 0 | AI15: 0 | AJ15: {=IF(ISBLANK(AA15:AI15),"",SUM(AA15:AI15))} -> 13 | AL15: =Z15 -> 0.25 | AV15: {=IF(ISBLANK(AM15:AU15),"",SUM(AM15:AU15))} | AX15: =AL15 -> 0.25 | BH15: {=IF(ISBLANK(AY15:BG15),"",SUM(AY15:BG15))} | BJ15: =AX15 -> 0.25 | BT15: {=IF(ISBLANK(BK15:BS15),"",SUM(BK15:BS15))} | BV15: =BJ15 -> 0.25 | BW15: =SUM(C15,O15,AA15,AM15,AY15,BK15) -> 19 | BX15: =SUM(D15,P15,AB15,AN15,AZ15,BL15) -> 2 | BY15: =SUM(E15,Q15,AC15,AO15,BA15,BM15) -> 3 | BZ15: =SUM(F15,R15,AD15,AP15,BB15,BN15) -> 0 | CA15: =SUM(G15,S15,AE15,AQ15,BC15,BO15) -> 0 | CB15: =SUM(H15,T15,AF15,AR15,BD15,BP15) -> 1 | CC15: =SUM(I15,U15,AG15,AS15,BE15,BQ15) -> 0 | CD15: =SUM(J15,V15,AH15,AT15,BF15,BR15) -> 0 | CE15: =SUM(K15,W15,AI15,AU15,BG15,BS15) -> 0 | CF15: =IF(BW15="","",SUM(BW15:CE15)) -> 25
B16: =B15+config!$C$8 -> 0.26041667 | C16: 0 | D16: 0 | E16: 0 | F16: 0 | G16: 0 | H16: 0 | I16: 0 | J16: 0 | K16: 0 | L16: {=IF(ISBLANK(C16:K16),"",SUM(C16:K16))} -> 0 | N16: =B16 -> 0.26041667 | O16: 15 | P16: 2 | Q16: 3 | R16: 0 | S16: 0 | T16: 1 | U16: 1 | V16: 0 | W16: 0 | X16: {=IF(ISBLANK(O16:W16),"",SUM(O16:W16))} -> 22 | Z16: =N16 -> 0.26041667 | AA16: 9 | AB16: 2 | AC16: 1 | AD16: 0 | AE16: 2 | AF16: 0 | AG16: 0 | AH16: 0 | AI16: 0 | AJ16: {=IF(ISBLANK(AA16:AI16),"",SUM(AA16:AI16))} -> 14 | AL16: =Z16 -> 0.26041667 | AV16: {=IF(ISBLANK(AM16:AU16),"",SUM(AM16:AU16))} | AX16: =AL16 -> 0.26041667 | BH16: {=IF(ISBLANK(AY16:BG16),"",SUM(AY16:BG16))} | BJ16: =AX16 -> 0.26041667 | BT16: {=IF(ISBLANK(BK16:BS16),"",SUM(BK16:BS16))} | BV16: =BJ16 -> 0.26041667 | BW16: =SUM(C16,O16,AA16,AM16,AY16,BK16) -> 24 | BX16: =SUM(D16,P16,AB16,AN16,AZ16,BL16) -> 4 | BY16: =SUM(E16,Q16,AC16,AO16,BA16,BM16) -> 4 | BZ16: =SUM(F16,R16,AD16,AP16,BB16,BN16) -> 0 | CA16: =SUM(G16,S16,AE16,AQ16,BC16,BO16) -> 2 | CB16: =SUM(H16,T16,AF16,AR16,BD16,BP16) -> 1 | CC16: =SUM(I16,U16,AG16,AS16,BE16,BQ16) -> 1 | CD16: =SUM(J16,V16,AH16,AT16,BF16,BR16) -> 0 | CE16: =SUM(K16,W16,AI16,AU16,BG16,BS16) -> 0 | CF16: =IF(BW16="","",SUM(BW16:CE16)) -> 36
B17: =B16+config!$C$8 -> 0.27083333 | C17: 0 | D17: 0 | E17: 0 | F17: 0 | G17: 0 | H17: 0 | I17: 0 | J17: 0 | K17: 0 | L17: {=IF(ISBLANK(C17:K17),"",SUM(C17:K17))} -> 0 | N17: =B17 -> 0.27083333 | O17: 20 | P17: 3 | Q17: 3 | R17: 0 | S17: 1 | T17: 0 | U17: 0 | V17: 0 | W17: 0 | X17: {=IF(ISBLANK(O17:W17),"",SUM(O17:W17))} -> 27 | Z17: =N17 -> 0.27083333 | AA17: 13 | AB17: 3 | AC17: 2 | AD17: 0 | AE17: 1 | AF17: 1 | AG17: 0 | AH17: 0 | AI17: 0 | AJ17: {=IF(ISBLANK(AA17:AI17),"",SUM(AA17:AI17))} -> 20 | AL17: =Z17 -> 0.27083333 | AV17: {=IF(ISBLANK(AM17:AU17),"",SUM(AM17:AU17))} | AX17: =AL17 -> 0.27083333 | BH17: {=IF(ISBLANK(AY17:BG17),"",SUM(AY17:BG17))} | BJ17: =AX17 -> 0.27083333 | BT17: {=IF(ISBLANK(BK17:BS17),"",SUM(BK17:BS17))} | BV17: =BJ17 -> 0.27083333 | BW17: =SUM(C17,O17,AA17,AM17,AY17,BK17) -> 33 | BX17: =SUM(D17,P17,AB17,AN17,AZ17,BL17) -> 6 | BY17: =SUM(E17,Q17,AC17,AO17,BA17,BM17) -> 5 | BZ17: =SUM(F17,R17,AD17,AP17,BB17,BN17) -> 0 | CA17: =SUM(G17,S17,AE17,AQ17,BC17,BO17) -> 2 | CB17: =SUM(H17,T17,AF17,AR17,BD17,BP17) -> 1 | CC17: =SUM(I17,U17,AG17,AS17,BE17,BQ17) -> 0 | CD17: =SUM(J17,V17,AH17,AT17,BF17,BR17) -> 0 | CE17: =SUM(K17,W17,AI17,AU17,BG17,BS17) -> 0 | CF17: =IF(BW17="","",SUM(BW17:CE17)) -> 47
B18: =B17+config!$C$8 -> 0.28125 | C18: 0 | D18: 0 | E18: 0 | F18: 0 | G18: 0 | H18: 0 | I18: 0 | J18: 0 | K18: 0 | L18: {=IF(ISBLANK(C18:K18),"",SUM(C18:K18))} -> 0 | N18: =B18 -> 0.28125 | O18: 19 | P18: 2 | Q18: 5 | R18: 0 | S18: 1 | T18: 1 | U18: 1 | V18: 0 | W18: 0 | X18: {=IF(ISBLANK(O18:W18),"",SUM(O18:W18))} -> 29 | Z18: =N18 -> 0.28125 | AA18: 33 | AB18: 2 | AC18: 3 | AD18: 0 | AE18: 3 | AF18: 1 | AG18: 0 | AH18: 0 | AI18: 0 | AJ18: {=IF(ISBLANK(AA18:AI18),"",SUM(AA18:AI18))} -> 42 | AL18: =Z18 -> 0.28125 | AV18: {=IF(ISBLANK(AM18:AU18),"",SUM(AM18:AU18))} | AX18: =AL18 -> 0.28125 | BH18: {=IF(ISBLANK(AY18:BG18),"",SUM(AY18:BG18))} | BJ18: =AX18 -> 0.28125 | BT18: {=IF(ISBLANK(BK18:BS18),"",SUM(BK18:BS18))} | BV18: =BJ18 -> 0.28125 | BW18: =SUM(C18,O18,AA18,AM18,AY18,BK18) -> 52 | BX18: =SUM(D18,P18,AB18,AN18,AZ18,BL18) -> 4 | BY18: =SUM(E18,Q18,AC18,AO18,BA18,BM18) -> 8 | BZ18: =SUM(F18,R18,AD18,AP18,BB18,BN18) -> 0 | CA18: =SUM(G18,S18,AE18,AQ18,BC18,BO18) -> 4 | CB18: =SUM(H18,T18,AF18,AR18,BD18,BP18) -> 2 | CC18: =SUM(I18,U18,AG18,AS18,BE18,BQ18) -> 1 | CD18: =SUM(J18,V18,AH18,AT18,BF18,BR18) -> 0 | CE18: =SUM(K18,W18,AI18,AU18,BG18,BS18) -> 0 | CF18: =IF(BW18="","",SUM(BW18:CE18)) -> 71
B19: =B18+config!$C$8 -> 0.29166667 | C19: 0 | D19: 0 | E19: 0 | F19: 0 | G19: 0 | H19: 0 | I19: 0 | J19: 0 | K19: 0 | L19: {=IF(ISBLANK(C19:K19),"",SUM(C19:K19))} -> 0 | N19: =B19 -> 0.29166667 | O19: 31 | P19: 1 | Q19: 4 | R19: 0 | S19: 1 | T19: 0 | U19: 0 | V19: 0 | W19: 0 | X19: {=IF(ISBLANK(O19:W19),"",SUM(O19:W19))} -> 37 | Z19: =N19 -> 0.29166667 | AA19: 38 | AB19: 9 | AC19: 8 | AD19: 0 | AE19: 1 | AF19: 0 | AG19: 1 | AH19: 0 | AI19: 0 | AJ19: {=IF(ISBLANK(AA19:AI19),"",SUM(AA19:AI19))} -> 57 | AL19: =Z19 -> 0.29166667 | AV19: {=IF(ISBLANK(AM19:AU19),"",SUM(AM19:AU19))} | AX19: =AL19 -> 0.29166667 | BH19: {=IF(ISBLANK(AY19:BG19),"",SUM(AY19:BG19))} | BJ19: =AX19 -> 0.29166667 | BT19: {=IF(ISBLANK(BK19:BS19),"",SUM(BK19:BS19))} | BV19: =BJ19 -> 0.29166667 | BW19: =SUM(C19,O19,AA19,AM19,AY19,BK19) -> 69 | BX19: =SUM(D19,P19,AB19,AN19,AZ19,BL19) -> 10 | BY19: =SUM(E19,Q19,AC19,AO19,BA19,BM19) -> 12 | BZ19: =SUM(F19,R19,AD19,AP19,BB19,BN19) -> 0 | CA19: =SUM(G19,S19,AE19,AQ19,BC19,BO19) -> 2 | CB19: =SUM(H19,T19,AF19,AR19,BD19,BP19) -> 0 | CC19: =SUM(I19,U19,AG19,AS19,BE19,BQ19) -> 1 | CD19: =SUM(J19,V19,AH19,AT19,BF19,BR19) -> 0 | CE19: =SUM(K19,W19,AI19,AU19,BG19,BS19) -> 0 | CF19: =IF(BW19="","",SUM(BW19:CE19)) -> 94
B20: =B19+config!$C$8 -> 0.30208333 | C20: 0 | D20: 0 | E20: 0 | F20: 0 | G20: 0 | H20: 0 | I20: 0 | J20: 0 | K20: 0 | L20: {=IF(ISBLANK(C20:K20),"",SUM(C20:K20))} -> 0 | N20: =B20 -> 0.30208333 | O20: 36 | P20: 2 | Q20: 6 | R20: 2 | S20: 0 | T20: 0 | U20: 2 | V20: 0 | W20: 0 | X20: {=IF(ISBLANK(O20:W20),"",SUM(O20:W20))} -> 48 | Z20: =N20 -> 0.30208333 | AA20: 54 | AB20: 9 | AC20: 11 | AD20: 0 | AE20: 2 | AF20: 1 | AG20: 2 | AH20: 0 | AI20: 0 | AJ20: {=IF(ISBLANK(AA20:AI20),"",SUM(AA20:AI20))} -> 79 | AL20: =Z20 -> 0.30208333 | AV20: {=IF(ISBLANK(AM20:AU20),"",SUM(AM20:AU20))} | AX20: =AL20 -> 0.30208333 | BH20: {=IF(ISBLANK(AY20:BG20),"",SUM(AY20:BG20))} | BJ20: =AX20 -> 0.30208333 | BT20: {=IF(ISBLANK(BK20:BS20),"",SUM(BK20:BS20))} | BV20: =BJ20 -> 0.30208333 | BW20: =SUM(C20,O20,AA20,AM20,AY20,BK20) -> 90 | BX20: =SUM(D20,P20,AB20,AN20,AZ20,BL20) -> 11 | BY20: =SUM(E20,Q20,AC20,AO20,BA20,BM20) -> 17 | BZ20: =SUM(F20,R20,AD20,AP20,BB20,BN20) -> 2 | CA20: =SUM(G20,S20,AE20,AQ20,BC20,BO20) -> 2 | CB20: =SUM(H20,T20,AF20,AR20,BD20,BP20) -> 1 | CC20: =SUM(I20,U20,AG20,AS20,BE20,BQ20) -> 4 | CD20: =SUM(J20,V20,AH20,AT20,BF20,BR20) -> 0 | CE20: =SUM(K20,W20,AI20,AU20,BG20,BS20) -> 0 | CF20: =IF(BW20="","",SUM(BW20:CE20)) -> 127
B21: =B20+config!$C$8 -> 0.3125 | C21: 0 | D21: 0 | E21: 0 | F21: 0 | G21: 0 | H21: 0 | I21: 0 | J21: 0 | K21: 0 | L21: {=IF(ISBLANK(C21:K21),"",SUM(C21:K21))} -> 0 | N21: =B21 -> 0.3125 | O21: 38 | P21: 2 | Q21: 3 | R21: 0 | S21: 1 | T21: 1 | U21: 0 | V21: 0 | W21: 0 | X21: {=IF(ISBLANK(O21:W21),"",SUM(O21:W21))} -> 45 | Z21: =N21 -> 0.3125 | AA21: 53 | AB21: 2 | AC21: 12 | AD21: 0 | AE21: 0 | AF21: 2 | AG21: 0 | AH21: 1 | AI21: 0 | AJ21: {=IF(ISBLANK(AA21:AI21),"",SUM(AA21:AI21))} -> 70 | AL21: =Z21 -> 0.3125 | AV21: {=IF(ISBLANK(AM21:AU21),"",SUM(AM21:AU21))} | AX21: =AL21 -> 0.3125 | BH21: {=IF(ISBLANK(AY21:BG21),"",SUM(AY21:BG21))} | BJ21: =AX21 -> 0.3125 | BT21: {=IF(ISBLANK(BK21:BS21),"",SUM(BK21:BS21))} | BV21: =BJ21 -> 0.3125 | BW21: =SUM(C21,O21,AA21,AM21,AY21,BK21) -> 91 | BX21: =SUM(D21,P21,AB21,AN21,AZ21,BL21) -> 4 | BY21: =SUM(E21,Q21,AC21,AO21,BA21,BM21) -> 15 | BZ21: =SUM(F21,R21,AD21,AP21,BB21,BN21) -> 0 | CA21: =SUM(G21,S21,AE21,AQ21,BC21,BO21) -> 1 | CB21: =SUM(H21,T21,AF21,AR21,BD21,BP21) -> 3 | CC21: =SUM(I21,U21,AG21,AS21,BE21,BQ21) -> 0 | CD21: =SUM(J21,V21,AH21,AT21,BF21,BR21) -> 1 | CE21: =SUM(K21,W21,AI21,AU21,BG21,BS21) -> 0 | CF21: =IF(BW21="","",SUM(BW21:CE21)) -> 115
B22: =B21+config!$C$8 -> 0.32291667 | C22: 0 | D22: 0 | E22: 0 | F22: 0 | G22: 0 | H22: 0 | I22: 0 | J22: 0 | K22: 0 | L22: {=IF(ISBLANK(C22:K22),"",SUM(C22:K22))} -> 0 | N22: =B22 -> 0.32291667 | O22: 54 | P22: 4 | Q22: 4 | R22: 0 | S22: 1 | T22: 0 | U22: 1 | V22: 0 | W22: 0 | X22: {=IF(ISBLANK(O22:W22),"",SUM(O22:W22))} -> 64 | Z22: =N22 -> 0.32291667 | AA22: 81 | AB22: 4 | AC22: 9 | AD22: 1 | AE22: 1 | AF22: 1 | AG22: 0 | AH22: 0 | AI22: 0 | AJ22: {=IF(ISBLANK(AA22:AI22),"",SUM(AA22:AI22))} -> 97 | AL22: =Z22 -> 0.32291667 | AV22: {=IF(ISBLANK(AM22:AU22),"",SUM(AM22:AU22))} | AX22: =AL22 -> 0.32291667 | BH22: {=IF(ISBLANK(AY22:BG22),"",SUM(AY22:BG22))} | BJ22: =AX22 -> 0.32291667 | BT22: {=IF(ISBLANK(BK22:BS22),"",SUM(BK22:BS22))} | BV22: =BJ22 -> 0.32291667 | BW22: =SUM(C22,O22,AA22,AM22,AY22,BK22) -> 135 | BX22: =SUM(D22,P22,AB22,AN22,AZ22,BL22) -> 8 | BY22: =SUM(E22,Q22,AC22,AO22,BA22,BM22) -> 13 | BZ22: =SUM(F22,R22,AD22,AP22,BB22,BN22) -> 1 | CA22: =SUM(G22,S22,AE22,AQ22,BC22,BO22) -> 2 | CB22: =SUM(H22,T22,AF22,AR22,BD22,BP22) -> 1 | CC22: =SUM(I22,U22,AG22,AS22,BE22,BQ22) -> 1 | CD22: =SUM(J22,V22,AH22,AT22,BF22,BR22) -> 0 | CE22: =SUM(K22,W22,AI22,AU22,BG22,BS22) -> 0 | CF22: =IF(BW22="","",SUM(BW22:CE22)) -> 161
B23: =B22+config!$C$8 -> 0.33333333 | C23: 0 | D23: 0 | E23: 0 | F23: 0 | G23: 0 | H23: 0 | I23: 0 | J23: 0 | K23: 0 | L23: {=IF(ISBLANK(C23:K23),"",SUM(C23:K23))} -> 0 | N23: =B23 -> 0.33333333 | O23: 58 | P23: 0 | Q23: 2 | R23: 0 | S23: 0 | T23: 0 | U23: 1 | V23: 0 | W23: 0 | X23: {=IF(ISBLANK(O23:W23),"",SUM(O23:W23))} -> 61 | Z23: =N23 -> 0.33333333 | AA23: 60 | AB23: 2 | AC23: 12 | AD23: 1 | AE23: 1 | AF23: 2 | AG23: 0 | AH23: 0 | AI23: 1 | AJ23: {=IF(ISBLANK(AA23:AI23),"",SUM(AA23:AI23))} -> 79 | AL23: =Z23 -> 0.33333333 | AV23: {=IF(ISBLANK(AM23:AU23),"",SUM(AM23:AU23))} | AX23: =AL23 -> 0.33333333 | BH23: {=IF(ISBLANK(AY23:BG23),"",SUM(AY23:BG23))} | BJ23: =AX23 -> 0.33333333 | BT23: {=IF(ISBLANK(BK23:BS23),"",SUM(BK23:BS23))} | BV23: =BJ23 -> 0.33333333 | BW23: =SUM(C23,O23,AA23,AM23,AY23,BK23) -> 118 | BX23: =SUM(D23,P23,AB23,AN23,AZ23,BL23) -> 2 | BY23: =SUM(E23,Q23,AC23,AO23,BA23,BM23) -> 14 | BZ23: =SUM(F23,R23,AD23,AP23,BB23,BN23) -> 1 | CA23: =SUM(G23,S23,AE23,AQ23,BC23,BO23) -> 1 | CB23: =SUM(H23,T23,AF23,AR23,BD23,BP23) -> 2 | CC23: =SUM(I23,U23,AG23,AS23,BE23,BQ23) -> 1 | CD23: =SUM(J23,V23,AH23,AT23,BF23,BR23) -> 0 | CE23: =SUM(K23,W23,AI23,AU23,BG23,BS23) -> 1 | CF23: =IF(BW23="","",SUM(BW23:CE23)) -> 140
B24: =B23+config!$C$8 -> 0.34375 | C24: 1 | D24: 0 | E24: 0 | F24: 0 | G24: 0 | H24: 0 | I24: 0 | J24: 0 | K24: 0 | L24: {=IF(ISBLANK(C24:K24),"",SUM(C24:K24))} -> 1 | N24: =B24 -> 0.34375 | O24: 52 | P24: 3 | Q24: 6 | R24: 0 | S24: 0 | T24: 0 | U24: 0 | V24: 1 | W24: 0 | X24: {=IF(ISBLANK(O24:W24),"",SUM(O24:W24))} -> 62 | Z24: =N24 -> 0.34375 | AA24: 86 | AB24: 3 | AC24: 6 | AD24: 0 | AE24: 1 | AF24: 1 | AG24: 0 | AH24: 0 | AI24: 0 | AJ24: {=IF(ISBLANK(AA24:AI24),"",SUM(AA24:AI24))} -> 97 | AL24: =Z24 -> 0.34375 | AV24: {=IF(ISBLANK(AM24:AU24),"",SUM(AM24:AU24))} | AX24: =AL24 -> 0.34375 | BH24: {=IF(ISBLANK(AY24:BG24),"",SUM(AY24:BG24))} | BJ24: =AX24 -> 0.34375 | BT24: {=IF(ISBLANK(BK24:BS24),"",SUM(BK24:BS24))} | BV24: =BJ24 -> 0.34375 | BW24: =SUM(C24,O24,AA24,AM24,AY24,BK24) -> 139 | BX24: =SUM(D24,P24,AB24,AN24,AZ24,BL24) -> 6 | BY24: =SUM(E24,Q24,AC24,AO24,BA24,BM24) -> 12 | BZ24: =SUM(F24,R24,AD24,AP24,BB24,BN24) -> 0 | CA24: =SUM(G24,S24,AE24,AQ24,BC24,BO24) -> 1 | CB24: =SUM(H24,T24,AF24,AR24,BD24,BP24) -> 1 | CC24: =SUM(I24,U24,AG24,AS24,BE24,BQ24) -> 0 | CD24: =SUM(J24,V24,AH24,AT24,BF24,BR24) -> 1 | CE24: =SUM(K24,W24,AI24,AU24,BG24,BS24) -> 0 | CF24: =IF(BW24="","",SUM(BW24:CE24)) -> 160
B25: =B24+config!$C$8 -> 0.35416667 | C25: 1 | D25: 0 | E25: 0 | F25: 0 | G25: 0 | H25: 0 | I25: 0 | J25: 0 | K25: 0 | L25: {=IF(ISBLANK(C25:K25),"",SUM(C25:K25))} -> 1 | N25: =B25 -> 0.35416667 | O25: 39 | P25: 2 | Q25: 5 | R25: 2 | S25: 3 | T25: 1 | U25: 1 | V25: 0 | W25: 0 | X25: {=IF(ISBLANK(O25:W25),"",SUM(O25:W25))} -> 53 | Z25: =N25 -> 0.35416667 | AA25: 58 | AB25: 2 | AC25: 5 | AD25: 0 | AE25: 0 | AF25: 2 | AG25: 0 | AH25: 2 | AI25: 0 | AJ25: {=IF(ISBLANK(AA25:AI25),"",SUM(AA25:AI25))} -> 69 | AL25: =Z25 -> 0.35416667 | AV25: {=IF(ISBLANK(AM25:AU25),"",SUM(AM25:AU25))} | AX25: =AL25 -> 0.35416667 | BH25: {=IF(ISBLANK(AY25:BG25),"",SUM(AY25:BG25))} | BJ25: =AX25 -> 0.35416667 | BT25: {=IF(ISBLANK(BK25:BS25),"",SUM(BK25:BS25))} | BV25: =BJ25 -> 0.35416667 | BW25: =SUM(C25,O25,AA25,AM25,AY25,BK25) -> 98 | BX25: =SUM(D25,P25,AB25,AN25,AZ25,BL25) -> 4 | BY25: =SUM(E25,Q25,AC25,AO25,BA25,BM25) -> 10 | BZ25: =SUM(F25,R25,AD25,AP25,BB25,BN25) -> 2 | CA25: =SUM(G25,S25,AE25,AQ25,BC25,BO25) -> 3 | CB25: =SUM(H25,T25,AF25,AR25,BD25,BP25) -> 3 | CC25: =SUM(I25,U25,AG25,AS25,BE25,BQ25) -> 1 | CD25: =SUM(J25,V25,AH25,AT25,BF25,BR25) -> 2 | CE25: =SUM(K25,W25,AI25,AU25,BG25,BS25) -> 0 | CF25: =IF(BW25="","",SUM(BW25:CE25)) -> 123
B26: =B25+config!$C$8 -> 0.36458333 | C26: 0 | D26: 0 | E26: 0 | F26: 0 | G26: 0 | H26: 0 | I26: 0 | J26: 0 | K26: 0 | L26: {=IF(ISBLANK(C26:K26),"",SUM(C26:K26))} -> 0 | N26: =B26 -> 0.36458333 | O26: 38 | P26: 2 | Q26: 6 | R26: 0 | S26: 0 | T26: 0 | U26: 0 | V26: 1 | W26: 0 | X26: {=IF(ISBLANK(O26:W26),"",SUM(O26:W26))} -> 47 | Z26: =N26 -> 0.36458333 | AA26: 63 | AB26: 3 | AC26: 5 | AD26: 0 | AE26: 1 | AF26: 0 | AG26: 1 | AH26: 0 | AI26: 0 | AJ26: {=IF(ISBLANK(AA26:AI26),"",SUM(AA26:AI26))} -> 73 | AL26: =Z26 -> 0.36458333 | AV26: {=IF(ISBLANK(AM26:AU26),"",SUM(AM26:AU26))} | AX26: =AL26 -> 0.36458333 | BH26: {=IF(ISBLANK(AY26:BG26),"",SUM(AY26:BG26))} | BJ26: =AX26 -> 0.36458333 | BT26: {=IF(ISBLANK(BK26:BS26),"",SUM(BK26:BS26))} | BV26: =BJ26 -> 0.36458333 | BW26: =SUM(C26,O26,AA26,AM26,AY26,BK26) -> 101 | BX26: =SUM(D26,P26,AB26,AN26,AZ26,BL26) -> 5 | BY26: =SUM(E26,Q26,AC26,AO26,BA26,BM26) -> 11 | BZ26: =SUM(F26,R26,AD26,AP26,BB26,BN26) -> 0 | CA26: =SUM(G26,S26,AE26,AQ26,BC26,BO26) -> 1 | CB26: =SUM(H26,T26,AF26,AR26,BD26,BP26) -> 0 | CC26: =SUM(I26,U26,AG26,AS26,BE26,BQ26) -> 1 | CD26: =SUM(J26,V26,AH26,AT26,BF26,BR26) -> 1 | CE26: =SUM(K26,W26,AI26,AU26,BG26,BS26) -> 0 | CF26: =IF(BW26="","",SUM(BW26:CE26)) -> 120
B27: =B26+config!$C$8 -> 0.375 | C27: 0 | D27: 0 | E27: 0 | F27: 0 | G27: 0 | H27: 0 | I27: 0 | J27: 0 | K27: 0 | L27: {=IF(ISBLANK(C27:K27),"",SUM(C27:K27))} -> 0 | N27: =B27 -> 0.375 | O27: 50 | P27: 0 | Q27: 9 | R27: 0 | S27: 2 | T27: 0 | U27: 1 | V27: 0 | W27: 0 | X27: {=IF(ISBLANK(O27:W27),"",SUM(O27:W27))} -> 62 | Z27: =N27 -> 0.375 | AA27: 40 | AB27: 1 | AC27: 9 | AD27: 0 | AE27: 0 | AF27: 1 | AG27: 1 | AH27: 0 | AI27: 0 | AJ27: {=IF(ISBLANK(AA27:AI27),"",SUM(AA27:AI27))} -> 52 | AL27: =Z27 -> 0.375 | AV27: {=IF(ISBLANK(AM27:AU27),"",SUM(AM27:AU27))} | AX27: =AL27 -> 0.375 | BH27: {=IF(ISBLANK(AY27:BG27),"",SUM(AY27:BG27))} | BJ27: =AX27 -> 0.375 | BT27: {=IF(ISBLANK(BK27:BS27),"",SUM(BK27:BS27))} | BV27: =BJ27 -> 0.375 | BW27: =SUM(C27,O27,AA27,AM27,AY27,BK27) -> 90 | BX27: =SUM(D27,P27,AB27,AN27,AZ27,BL27) -> 1 | BY27: =SUM(E27,Q27,AC27,AO27,BA27,BM27) -> 18 | BZ27: =SUM(F27,R27,AD27,AP27,BB27,BN27) -> 0 | CA27: =SUM(G27,S27,AE27,AQ27,BC27,BO27) -> 2 | CB27: =SUM(H27,T27,AF27,AR27,BD27,BP27) -> 1 | CC27: =SUM(I27,U27,AG27,AS27,BE27,BQ27) -> 2 | CD27: =SUM(J27,V27,AH27,AT27,BF27,BR27) -> 0 | CE27: =SUM(K27,W27,AI27,AU27,BG27,BS27) -> 0 | CF27: =IF(BW27="","",SUM(BW27:CE27)) -> 114
... B66: =B65+config!$C$8 -> 0.78125 | C66: 0 | D66: 0 | E66: 0 | F66: 0 | G66: 0 | H66: 0 | I66: 0 | J66: 0 | K66: 0 | L66: {=IF(ISBLANK(C66:K66),"",SUM(C66:K66))} -> 0 | N66: =B66 -> 0.78125 | O66: 34 | P66: 0 | Q66: 3 | R66: 0 | S66: 0 | T66: 0 | U66: 1 | V66: 0 | W66: 0 | X66: {=IF(ISBLANK(O66:W66),"",SUM(O66:W66))} -> 38 | Z66: =N66 -> 0.78125 | AA66: 61 | AB66: 0 | AC66: 5 | AD66: 0 | AE66: 0 | AF66: 0 | AG66: 0 | AH66: 0 | AI66: 0 | AJ66: {=IF(ISBLANK(AA66:AI66),"",SUM(AA66:AI66))} -> 66 | AL66: =Z66 -> 0.78125 | AV66: {=IF(ISBLANK(AM66:AU66),"",SUM(AM66:AU66))} | AX66: =AL66 -> 0.78125 | BH66: {=IF(ISBLANK(AY66:BG66),"",SUM(AY66:BG66))} | BJ66: =AX66 -> 0.78125 | BT66: {=IF(ISBLANK(BK66:BS66),"",SUM(BK66:BS66))} | BV66: =BJ66 -> 0.78125 | BW66: =SUM(C66,O66,AA66,AM66,AY66,BK66) -> 95 | BX66: =SUM(D66,P66,AB66,AN66,AZ66,BL66) -> 0 | BY66: =SUM(E66,Q66,AC66,AO66,BA66,BM66) -> 8 | BZ66: =SUM(F66,R66,AD66,AP66,BB66,BN66) -> 0 | CA66: =SUM(G66,S66,AE66,AQ66,BC66,BO66) -> 0 | CB66: =SUM(H66,T66,AF66,AR66,BD66,BP66) -> 0 | CC66: =SUM(I66,U66,AG66,AS66,BE66,BQ66) -> 1 | CD66: =SUM(J66,V66,AH66,AT66,BF66,BR66) -> 0 | CE66: =SUM(K66,W66,AI66,AU66,BG66,BS66) -> 0 | CF66: =IF(BW66="","",SUM(BW66:CE66)) -> 104
B67: TOTAL | C67: =SUM(C15:C66) -> 18 | D67: =SUM(D15:D66) -> 0 | E67: =SUM(E15:E66) -> 2 | F67: =SUM(F15:F66) -> 0 | G67: =SUM(G15:G66) -> 0 | H67: =SUM(H15:H66) -> 0 | I67: =SUM(I15:I66) -> 0 | J67: =SUM(J15:J66) -> 0 | ... L67: =SUM(L15:L66) -> 20 | N67: TOTAL | O67: =SUM(O15:O66) -> 2145 | P67: =SUM(P15:P66) -> 105 | Q67: =SUM(Q15:Q66) -> 301 | R67: =SUM(R15:R66) -> 23 | S67: =SUM(S15:S66) -> 30 | T67: =SUM(T15:T66) -> 9 | U67: =SUM(U15:U66) -> 35 | V67: =SUM(V15:V66) -> 9 | ... X67: =SUM(X15:X66) -> 2660 | Z67: TOTAL | AA67: =SUM(AA15:AA66) -> 3177 | AB67: =SUM(AB15:AB66) -> 170 | AC67: =SUM(AC15:AC66) -> 379 | AD67: =SUM(AD15:AD66) -> 14 | AE67: =SUM(AE15:AE66) -> 76 | AF67: =SUM(AF15:AF66) -> 40 | AG67: =SUM(AG15:AG66) -> 12 | AH67: =SUM(AH15:AH66) -> 17 | ... AJ67: =SUM(AJ15:AJ66) -> 3889 | AL67: TOTAL | AM67: =SUM(AM15:AM66) -> 0 | AN67: =SUM(AN15:AN66) -> 0 | AO67: =SUM(AO15:AO66) -> 0 | AP67: =SUM(AP15:AP66) -> 0 | AQ67: =SUM(AQ15:AQ66) -> 0 | AR67: =SUM(AR15:AR66) -> 0 | AS67: =SUM(AS15:AS66) -> 0 | AT67: =SUM(AT15:AT66) -> 0 | ... AV67: =SUM(AV15:AV66) -> 0 | AX67: TOTAL | AY67: =SUM(AY15:AY66) -> 0 | AZ67: =SUM(AZ15:AZ66) -> 0 | BA67: =SUM(BA15:BA66) -> 0 | BB67: =SUM(BB15:BB66) -> 0 | BC67: =SUM(BC15:BC66) -> 0 | BD67: =SUM(BD15:BD66) -> 0 | BE67: =SUM(BE15:BE66) -> 0 | BF67: =SUM(BF15:BF66) -> 0 | ... BH67: =SUM(BH15:BH66) -> 0 | BJ67: TOTAL | BK67: =SUM(BK15:BK66) -> 0 | BL67: =SUM(BL15:BL66) -> 0 | BM67: =SUM(BM15:BM66) -> 0 | BN67: =SUM(BN15:BN66) -> 0 | BO67: =SUM(BO15:BO66) -> 0 | BP67: =SUM(BP15:BP66) -> 0 | BQ67: =SUM(BQ15:BQ66) -> 0 | BR67: =SUM(BR15:BR66) -> 0 | ... BT67: =SUM(BT15:BT66) -> 0 | BV67: TOTAL | BW67: =SUM(BW15:BW66) -> 5340 | BX67: =SUM(BX15:BX66) -> 275 | BY67: =SUM(BY15:BY66) -> 682 | BZ67: =SUM(BZ15:BZ66) -> 37 | CA67: =SUM(CA15:CA66) -> 106 | CB67: =SUM(CB15:CB66) -> 49 | CC67: =SUM(CC15:CC66) -> 47 | CD67: =SUM(CD15:CD66) -> 26 | ... CF67: =SUM(CF15:CF66) -> 6569
C71: ="ORIGIN: "&config!C15&" ("&config!F15&")" -> ORIGIN: B1137 The Street (northeast)
C73: ="B"&config!$AH$5 -> B↙ | D73: to | E73: =E11 -> A← | O73: =C73 -> B↙ | P73: to | Q73: =Q11 -> B↗ | AA73: =C73 -> B↙ | AB73: to | AC73: =AC11 -> C↓ | AM73: =C73 -> B↙ | AN73: to | AO73: =AO11 -> D | AY73: =C73 -> B↙ | AZ73: to | BA73: =BA11 -> E | BK73: =C73 -> B↙ | BL73: to | BM73: =BM11 -> F | BW73: ="ENTERING FROM "&C73 -> ENTERING FROM B↙
C74: =config!C15&" to "&config!C14 -> B1137 The Street to B1137 The Street | O74: =config!C15&" to "&config!C15 -> B1137 The Street to B1137 The Street | AA74: =IF(config!C16<>"",config!C15&" to "&config!C16,"") -> B1137 The Street to B1019 Maldon Rd | AM74: =IF(config!C17<>"",config!C15&" to "&config!C17,"") | AY74: =IF(config!C18<>"",config!C15&" to "&config!C18,"") | BK74: =IF(config!C19<>"",config!C15&" to "&config!C19,"") | BW74: =config!C15 -> B1137 The Street
C76: =C14 -> CAR | D76: =D14 -> LGV1 | E76: =E14 -> LGV2 | F76: =F14 -> MGV | G76: =G14 -> HGV1 | H76: =H14 -> HGV2 | I76: =I14 -> PSV | J76: =J14 -> MB | K76: =K14 -> CYC | O76: =O14 -> CAR | P76: =P14 -> LGV1 | Q76: =Q14 -> LGV2 | R76: =R14 -> MGV | S76: =S14 -> HGV1 | T76: =T14 -> HGV2 | U76: =U14 -> PSV | V76: =V14 -> MB | W76: =W14 -> CYC | AA76: =AA14 -> CAR | AB76: =AB14 -> LGV1 | AC76: =AC14 -> LGV2 | AD76: =AD14 -> MGV | AE76: =AE14 -> HGV1 | AF76: =AF14 -> HGV2 | AG76: =AG14 -> PSV | AH76: =AH14 -> MB | AI76: =AI14 -> CYC | AM76: =AM14 -> CAR | AN76: =AN14 -> LGV1 | AO76: =AO14 -> LGV2 | AP76: =AP14 -> MGV | AQ76: =AQ14 -> HGV1 | AR76: =AR14 -> HGV2 | AS76: =AS14 -> PSV | AT76: =AT14 -> MB | AU76: =AU14 -> CYC | AY76: =AY14 -> CAR | AZ76: =AZ14 -> LGV1 | BA76: =BA14 -> LGV2 | BB76: =BB14 -> MGV | BC76: =BC14 -> HGV1 | BD76: =BD14 -> HGV2 | BE76: =BE14 -> PSV | BF76: =BF14 -> MB | BG76: =BG14 -> CYC | BK76: =BK14 -> CAR | BL76: =BL14 -> LGV1 | BM76: =BM14 -> LGV2 | BN76: =BN14 -> MGV | BO76: =BO14 -> HGV1 | BP76: =BP14 -> HGV2 | BQ76: =BQ14 -> PSV | BR76: =BR14 -> MB | BS76: =BS14 -> CYC | BW76: =BK76 -> CAR | BX76: =BL76 -> LGV1 | BY76: =BM76 -> LGV2 | BZ76: =BN76 -> MGV | CA76: =BO76 -> HGV1 | CB76: =BP76 -> HGV2 | CC76: =BQ76 -> PSV | CD76: =BR76 -> MB | CE76: =BS76 -> CYC
B77: =B15 -> 0.25 | C77: 19 | D77: 1 | E77: 3 | F77: 0 | G77: 1 | H77: 1 | I77: 1 | J77: 1 | K77: 0 | L77: {=IF(ISBLANK(C77:K77),"",SUM(C77:K77))} -> 27 | N77: =N15 -> 0.25 | O77: 0 | P77: 0 | Q77: 0 | R77: 0 | S77: 0 | T77: 0 | U77: 0 | V77: 0 | W77: 0 | X77: {=IF(ISBLANK(O77:W77),"",SUM(O77:W77))} -> 0 | Z77: =Z15 -> 0.25 | AA77: 5 | AB77: 0 | AC77: 2 | AD77: 0 | AE77: 0 | AF77: 2 | AG77: 0 | AH77: 0 | AI77: 0 | AJ77: {=IF(ISBLANK(AA77:AI77),"",SUM(AA77:AI77))} -> 9 | AL77: =AL15 -> 0.25 | AV77: {=IF(ISBLANK(AM77:AU77),"",SUM(AM77:AU77))} | AX77: =AX15 -> 0.25 | BH77: {=IF(ISBLANK(AY77:BG77),"",SUM(AY77:BG77))} | BJ77: =BJ15 -> 0.25 | BT77: {=IF(ISBLANK(BK77:BS77),"",SUM(BK77:BS77))} | BV77: =BJ77 -> 0.25 | BW77: =SUM(C77,O77,AA77,AM77,AY77,BK77) -> 24 | BX77: =SUM(D77,P77,AB77,AN77,AZ77,BL77) -> 1 | BY77: =SUM(E77,Q77,AC77,AO77,BA77,BM77) -> 5 | BZ77: =SUM(F77,R77,AD77,AP77,BB77,BN77) -> 0 | CA77: =SUM(G77,S77,AE77,AQ77,BC77,BO77) -> 1 | CB77: =SUM(H77,T77,AF77,AR77,BD77,BP77) -> 3 | CC77: =SUM(I77,U77,AG77,AS77,BE77,BQ77) -> 1 | CD77: =SUM(J77,V77,AH77,AT77,BF77,BR77) -> 1 | CE77: =SUM(K77,W77,AI77,AU77,BG77,BS77) -> 0 | CF77: =IF(BW77="","",SUM(BW77:CE77)) -> 36
B78: =B16 -> 0.26041667 | C78: 23 | D78: 0 | E78: 6 | F78: 0 | G78: 1 | H78: 0 | I78: 0 | J78: 0 | K78: 0 | L78: {=IF(ISBLANK(C78:K78),"",SUM(C78:K78))} -> 30 | N78: =N16 -> 0.26041667 | O78: 0 | P78: 0 | Q78: 0 | R78: 0 | S78: 0 | T78: 0 | U78: 0 | V78: 0 | W78: 0 | X78: {=IF(ISBLANK(O78:W78),"",SUM(O78:W78))} -> 0 | Z78: =Z16 -> 0.26041667 | AA78: 6 | AB78: 0 | AC78: 1 | AD78: 0 | AE78: 2 | AF78: 0 | AG78: 2 | AH78: 0 | AI78: 0 | AJ78: {=IF(ISBLANK(AA78:AI78),"",SUM(AA78:AI78))} -> 11 | AL78: =AL16 -> 0.26041667 | AV78: {=IF(ISBLANK(AM78:AU78),"",SUM(AM78:AU78))} | AX78: =AX16 -> 0.26041667 | BH78: {=IF(ISBLANK(AY78:BG78),"",SUM(AY78:BG78))} | BJ78: =BJ16 -> 0.26041667 | BT78: {=IF(ISBLANK(BK78:BS78),"",SUM(BK78:BS78))} | BV78: =BJ78 -> 0.26041667 | BW78: =SUM(C78,O78,AA78,AM78,AY78,BK78) -> 29 | BX78: =SUM(D78,P78,AB78,AN78,AZ78,BL78) -> 0 | BY78: =SUM(E78,Q78,AC78,AO78,BA78,BM78) -> 7 | BZ78: =SUM(F78,R78,AD78,AP78,BB78,BN78) -> 0 | CA78: =SUM(G78,S78,AE78,AQ78,BC78,BO78) -> 3 | CB78: =SUM(H78,T78,AF78,AR78,BD78,BP78) -> 0 | CC78: =SUM(I78,U78,AG78,AS78,BE78,BQ78) -> 2 | CD78: =SUM(J78,V78,AH78,AT78,BF78,BR78) -> 0 | CE78: =SUM(K78,W78,AI78,AU78,BG78,BS78) -> 0 | CF78: =IF(BW78="","",SUM(BW78:CE78)) -> 41
B79: =B17 -> 0.27083333 | C79: 42 | D79: 2 | E79: 4 | F79: 0 | G79: 0 | H79: 0 | I79: 1 | J79: 0 | K79: 0 | L79: {=IF(ISBLANK(C79:K79),"",SUM(C79:K79))} -> 49 | N79: =N17 -> 0.27083333 | O79: 0 | P79: 0 | Q79: 0 | R79: 0 | S79: 0 | T79: 0 | U79: 0 | V79: 0 | W79: 0 | X79: {=IF(ISBLANK(O79:W79),"",SUM(O79:W79))} -> 0 | Z79: =Z17 -> 0.27083333 | AA79: 12 | AB79: 1 | AC79: 2 | AD79: 0 | AE79: 3 | AF79: 0 | AG79: 0 | AH79: 0 | AI79: 0 | AJ79: {=IF(ISBLANK(AA79:AI79),"",SUM(AA79:AI79))} -> 18 | AL79: =AL17 -> 0.27083333 | AV79: {=IF(ISBLANK(AM79:AU79),"",SUM(AM79:AU79))} | AX79: =AX17 -> 0.27083333 | BH79: {=IF(ISBLANK(AY79:BG79),"",SUM(AY79:BG79))} | BJ79: =BJ17 -> 0.27083333 | BT79: {=IF(ISBLANK(BK79:BS79),"",SUM(BK79:BS79))} | BV79: =BJ79 -> 0.27083333 | BW79: =SUM(C79,O79,AA79,AM79,AY79,BK79) -> 54 | BX79: =SUM(D79,P79,AB79,AN79,AZ79,BL79) -> 3 | BY79: =SUM(E79,Q79,AC79,AO79,BA79,BM79) -> 6 | BZ79: =SUM(F79,R79,AD79,AP79,BB79,BN79) -> 0 | CA79: =SUM(G79,S79,AE79,AQ79,BC79,BO79) -> 3 | CB79: =SUM(H79,T79,AF79,AR79,BD79,BP79) -> 0 | CC79: =SUM(I79,U79,AG79,AS79,BE79,BQ79) -> 1 | CD79: =SUM(J79,V79,AH79,AT79,BF79,BR79) -> 0 | CE79: =SUM(K79,W79,AI79,AU79,BG79,BS79) -> 0 | CF79: =IF(BW79="","",SUM(BW79:CE79)) -> 67
B80: =B18 -> 0.28125 | C80: 54 | D80: 2 | E80: 12 | F80: 1 | G80: 1 | H80: 0 | I80: 1 | J80: 1 | K80: 1 | L80: {=IF(ISBLANK(C80:K80),"",SUM(C80:K80))} -> 73 | N80: =N18 -> 0.28125 | O80: 0 | P80: 0 | Q80: 0 | R80: 0 | S80: 0 | T80: 0 | U80: 0 | V80: 0 | W80: 0 | X80: {=IF(ISBLANK(O80:W80),"",SUM(O80:W80))} -> 0 | Z80: =Z18 -> 0.28125 | AA80: 13 | AB80: 5 | AC80: 6 | AD80: 0 | AE80: 1 | AF80: 0 | AG80: 0 | AH80: 0 | AI80: 0 | AJ80: {=IF(ISBLANK(AA80:AI80),"",SUM(AA80:AI80))} -> 25 | AL80: =AL18 -> 0.28125 | AV80: {=IF(ISBLANK(AM80:AU80),"",SUM(AM80:AU80))} | AX80: =AX18 -> 0.28125 | BH80: {=IF(ISBLANK(AY80:BG80),"",SUM(AY80:BG80))} | BJ80: =BJ18 -> 0.28125 | BT80: {=IF(ISBLANK(BK80:BS80),"",SUM(BK80:BS80))} | BV80: =BJ80 -> 0.28125 | BW80: =SUM(C80,O80,AA80,AM80,AY80,BK80) -> 67 | BX80: =SUM(D80,P80,AB80,AN80,AZ80,BL80) -> 7 | BY80: =SUM(E80,Q80,AC80,AO80,BA80,BM80) -> 18 | BZ80: =SUM(F80,R80,AD80,AP80,BB80,BN80) -> 1 | CA80: =SUM(G80,S80,AE80,AQ80,BC80,BO80) -> 2 | CB80: =SUM(H80,T80,AF80,AR80,BD80,BP80) -> 0 | CC80: =SUM(I80,U80,AG80,AS80,BE80,BQ80) -> 1 | CD80: =SUM(J80,V80,AH80,AT80,BF80,BR80) -> 1 | CE80: =SUM(K80,W80,AI80,AU80,BG80,BS80) -> 1 | CF80: =IF(BW80="","",SUM(BW80:CE80)) -> 98
B81: =B19 -> 0.29166667 | C81: 58 | D81: 1 | E81: 5 | F81: 1 | G81: 2 | H81: 0 | I81: 1 | J81: 1 | K81: 0 | L81: {=IF(ISBLANK(C81:K81),"",SUM(C81:K81))} -> 69 | N81: =N19 -> 0.29166667 | O81: 0 | P81: 0 | Q81: 0 | R81: 0 | S81: 0 | T81: 0 | U81: 0 | V81: 0 | W81: 0 | X81: {=IF(ISBLANK(O81:W81),"",SUM(O81:W81))} -> 0 | Z81: =Z19 -> 0.29166667 | AA81: 16 | AB81: 10 | AC81: 5 | AD81: 0 | AE81: 2 | AF81: 0 | AG81: 0 | AH81: 0 | AI81: 0 | AJ81: {=IF(ISBLANK(AA81:AI81),"",SUM(AA81:AI81))} -> 33 | AL81: =AL19 -> 0.29166667 | AV81: {=IF(ISBLANK(AM81:AU81),"",SUM(AM81:AU81))} | AX81: =AX19 -> 0.29166667 | BH81: {=IF(ISBLANK(AY81:BG81),"",SUM(AY81:BG81))} | BJ81: =BJ19 -> 0.29166667 | BT81: {=IF(ISBLANK(BK81:BS81),"",SUM(BK81:BS81))} | BV81: =BJ81 -> 0.29166667 | BW81: =SUM(C81,O81,AA81,AM81,AY81,BK81) -> 74 | BX81: =SUM(D81,P81,AB81,AN81,AZ81,BL81) -> 11 | BY81: =SUM(E81,Q81,AC81,AO81,BA81,BM81) -> 10 | BZ81: =SUM(F81,R81,AD81,AP81,BB81,BN81) -> 1 | CA81: =SUM(G81,S81,AE81,AQ81,BC81,BO81) -> 4 | CB81: =SUM(H81,T81,AF81,AR81,BD81,BP81) -> 0 | CC81: =SUM(I81,U81,AG81,AS81,BE81,BQ81) -> 1 | CD81: =SUM(J81,V81,AH81,AT81,BF81,BR81) -> 1 | CE81: =SUM(K81,W81,AI81,AU81,BG81,BS81) -> 0 | CF81: =IF(BW81="","",SUM(BW81:CE81)) -> 102
B82: =B20 -> 0.30208333 | C82: 77 | D82: 4 | E82: 5 | F82: 1 | G82: 2 | H82: 1 | I82: 0 | J82: 1 | K82: 0 | L82: {=IF(ISBLANK(C82:K82),"",SUM(C82:K82))} -> 91 | N82: =N20 -> 0.30208333 | O82: 0 | P82: 0 | Q82: 0 | R82: 0 | S82: 0 | T82: 0 | U82: 0 | V82: 0 | W82: 0 | X82: {=IF(ISBLANK(O82:W82),"",SUM(O82:W82))} -> 0 | Z82: =Z20 -> 0.30208333 | AA82: 25 | AB82: 5 | AC82: 5 | AD82: 0 | AE82: 1 | AF82: 4 | AG82: 0 | AH82: 0 | AI82: 0 | AJ82: {=IF(ISBLANK(AA82:AI82),"",SUM(AA82:AI82))} -> 40 | AL82: =AL20 -> 0.30208333 | AV82: {=IF(ISBLANK(AM82:AU82),"",SUM(AM82:AU82))} | AX82: =AX20 -> 0.30208333 | BH82: {=IF(ISBLANK(AY82:BG82),"",SUM(AY82:BG82))} | BJ82: =BJ20 -> 0.30208333 | BT82: {=IF(ISBLANK(BK82:BS82),"",SUM(BK82:BS82))} | BV82: =BJ82 -> 0.30208333 | BW82: =SUM(C82,O82,AA82,AM82,AY82,BK82) -> 102 | BX82: =SUM(D82,P82,AB82,AN82,AZ82,BL82) -> 9 | BY82: =SUM(E82,Q82,AC82,AO82,BA82,BM82) -> 10 | BZ82: =SUM(F82,R82,AD82,AP82,BB82,BN82) -> 1 | CA82: =SUM(G82,S82,AE82,AQ82,BC82,BO82) -> 3 | CB82: =SUM(H82,T82,AF82,AR82,BD82,BP82) -> 5 | CC82: =SUM(I82,U82,AG82,AS82,BE82,BQ82) -> 0 | CD82: =SUM(J82,V82,AH82,AT82,BF82,BR82) -> 1 | CE82: =SUM(K82,W82,AI82,AU82,BG82,BS82) -> 0 | CF82: =IF(BW82="","",SUM(BW82:CE82)) -> 131
B83: =B21 -> 0.3125 | C83: 68 | D83: 6 | E83: 13 | F83: 2 | G83: 0 | H83: 0 | I83: 3 | J83: 1 | K83: 0 | L83: {=IF(ISBLANK(C83:K83),"",SUM(C83:K83))} -> 93 | N83: =N21 -> 0.3125 | O83: 0 | P83: 0 | Q83: 0 | R83: 0 | S83: 0 | T83: 0 | U83: 0 | V83: 0 | W83: 0 | X83: {=IF(ISBLANK(O83:W83),"",SUM(O83:W83))} -> 0 | Z83: =Z21 -> 0.3125 | AA83: 31 | AB83: 0 | AC83: 6 | AD83: 1 | AE83: 1 | AF83: 3 | AG83: 0 | AH83: 0 | AI83: 0 | AJ83: {=IF(ISBLANK(AA83:AI83),"",SUM(AA83:AI83))} -> 42 | AL83: =AL21 -> 0.3125 | AV83: {=IF(ISBLANK(AM83:AU83),"",SUM(AM83:AU83))} | AX83: =AX21 -> 0.3125 | BH83: {=IF(ISBLANK(AY83:BG83),"",SUM(AY83:BG83))} | BJ83: =BJ21 -> 0.3125 | BT83: {=IF(ISBLANK(BK83:BS83),"",SUM(BK83:BS83))} | BV83: =BJ83 -> 0.3125 | BW83: =SUM(C83,O83,AA83,AM83,AY83,BK83) -> 99 | BX83: =SUM(D83,P83,AB83,AN83,AZ83,BL83) -> 6 | BY83: =SUM(E83,Q83,AC83,AO83,BA83,BM83) -> 19 | BZ83: =SUM(F83,R83,AD83,AP83,BB83,BN83) -> 3 | CA83: =SUM(G83,S83,AE83,AQ83,BC83,BO83) -> 1 | CB83: =SUM(H83,T83,AF83,AR83,BD83,BP83) -> 3 | CC83: =SUM(I83,U83,AG83,AS83,BE83,BQ83) -> 3 | CD83: =SUM(J83,V83,AH83,AT83,BF83,BR83) -> 1 | CE83: =SUM(K83,W83,AI83,AU83,BG83,BS83) -> 0 | CF83: =IF(BW83="","",SUM(BW83:CE83)) -> 135
B84: =B22 -> 0.32291667 | C84: 72 | D84: 5 | E84: 8 | F84: 1 | G84: 1 | H84: 0 | I84: 0 | J84: 0 | K84: 0 | L84: {=IF(ISBLANK(C84:K84),"",SUM(C84:K84))} -> 87 | N84: =N22 -> 0.32291667 | O84: 0 | P84: 0 | Q84: 0 | R84: 0 | S84: 0 | T84: 0 | U84: 0 | V84: 0 | W84: 0 | X84: {=IF(ISBLANK(O84:W84),"",SUM(O84:W84))} -> 0 | Z84: =Z22 -> 0.32291667 | AA84: 30 | AB84: 5 | AC84: 10 | AD84: 0 | AE84: 2 | AF84: 2 | AG84: 1 | AH84: 0 | AI84: 0 | AJ84: {=IF(ISBLANK(AA84:AI84),"",SUM(AA84:AI84))} -> 50 | AL84: =AL22 -> 0.32291667 | AV84: {=IF(ISBLANK(AM84:AU84),"",SUM(AM84:AU84))} | AX84: =AX22 -> 0.32291667 | BH84: {=IF(ISBLANK(AY84:BG84),"",SUM(AY84:BG84))} | BJ84: =BJ22 -> 0.32291667 | BT84: {=IF(ISBLANK(BK84:BS84),"",SUM(BK84:BS84))} | BV84: =BJ84 -> 0.32291667 | BW84: =SUM(C84,O84,AA84,AM84,AY84,BK84) -> 102 | BX84: =SUM(D84,P84,AB84,AN84,AZ84,BL84) -> 10 | BY84: =SUM(E84,Q84,AC84,AO84,BA84,BM84) -> 18 | BZ84: =SUM(F84,R84,AD84,AP84,BB84,BN84) -> 1 | CA84: =SUM(G84,S84,AE84,AQ84,BC84,BO84) -> 3 | CB84: =SUM(H84,T84,AF84,AR84,BD84,BP84) -> 2 | CC84: =SUM(I84,U84,AG84,AS84,BE84,BQ84) -> 1 | CD84: =SUM(J84,V84,AH84,AT84,BF84,BR84) -> 0 | CE84: =SUM(K84,W84,AI84,AU84,BG84,BS84) -> 0 | CF84: =IF(BW84="","",SUM(BW84:CE84)) -> 137
B85: =B23 -> 0.33333333 | C85: 60 | D85: 3 | E85: 13 | F85: 0 | G85: 1 | H85: 0 | I85: 0 | J85: 0 | K85: 1 | L85: {=IF(ISBLANK(C85:K85),"",SUM(C85:K85))} -> 78 | N85: =N23 -> 0.33333333 | O85: 0 | P85: 0 | Q85: 0 | R85: 0 | S85: 0 | T85: 0 | U85: 0 | V85: 0 | W85: 0 | X85: {=IF(ISBLANK(O85:W85),"",SUM(O85:W85))} -> 0 | Z85: =Z23 -> 0.33333333 | AA85: 34 | AB85: 1 | AC85: 4 | AD85: 1 | AE85: 1 | AF85: 2 | AG85: 0 | AH85: 2 | AI85: 0 | AJ85: {=IF(ISBLANK(AA85:AI85),"",SUM(AA85:AI85))} -> 45 | AL85: =AL23 -> 0.33333333 | AV85: {=IF(ISBLANK(AM85:AU85),"",SUM(AM85:AU85))} | AX85: =AX23 -> 0.33333333 | BH85: {=IF(ISBLANK(AY85:BG85),"",SUM(AY85:BG85))} | BJ85: =BJ23 -> 0.33333333 | BT85: {=IF(ISBLANK(BK85:BS85),"",SUM(BK85:BS85))} | BV85: =BJ85 -> 0.33333333 | BW85: =SUM(C85,O85,AA85,AM85,AY85,BK85) -> 94 | BX85: =SUM(D85,P85,AB85,AN85,AZ85,BL85) -> 4 | BY85: =SUM(E85,Q85,AC85,AO85,BA85,BM85) -> 17 | BZ85: =SUM(F85,R85,AD85,AP85,BB85,BN85) -> 1 | CA85: =SUM(G85,S85,AE85,AQ85,BC85,BO85) -> 2 | CB85: =SUM(H85,T85,AF85,AR85,BD85,BP85) -> 2 | CC85: =SUM(I85,U85,AG85,AS85,BE85,BQ85) -> 0 | CD85: =SUM(J85,V85,AH85,AT85,BF85,BR85) -> 2 | CE85: =SUM(K85,W85,AI85,AU85,BG85,BS85) -> 1 | CF85: =IF(BW85="","",SUM(BW85:CE85)) -> 123
B86: =B24 -> 0.34375 | C86: 77 | D86: 3 | E86: 9 | F86: 0 | G86: 0 | H86: 0 | I86: 1 | J86: 1 | K86: 0 | L86: {=IF(ISBLANK(C86:K86),"",SUM(C86:K86))} -> 91 | N86: =N24 -> 0.34375 | O86: 0 | P86: 0 | Q86: 0 | R86: 0 | S86: 0 | T86: 0 | U86: 0 | V86: 0 | W86: 0 | X86: {=IF(ISBLANK(O86:W86),"",SUM(O86:W86))} -> 0 | Z86: =Z24 -> 0.34375 | AA86: 57 | AB86: 3 | AC86: 6 | AD86: 1 | AE86: 1 | AF86: 3 | AG86: 0 | AH86: 0 | AI86: 0 | AJ86: {=IF(ISBLANK(AA86:AI86),"",SUM(AA86:AI86))} -> 71 | AL86: =AL24 -> 0.34375 | AV86: {=IF(ISBLANK(AM86:AU86),"",SUM(AM86:AU86))} | AX86: =AX24 -> 0.34375 | BH86: {=IF(ISBLANK(AY86:BG86),"",SUM(AY86:BG86))} | BJ86: =BJ24 -> 0.34375 | BT86: {=IF(ISBLANK(BK86:BS86),"",SUM(BK86:BS86))} | BV86: =BJ86 -> 0.34375 | BW86: =SUM(C86,O86,AA86,AM86,AY86,BK86) -> 134 | BX86: =SUM(D86,P86,AB86,AN86,AZ86,BL86) -> 6 | BY86: =SUM(E86,Q86,AC86,AO86,BA86,BM86) -> 15 | BZ86: =SUM(F86,R86,AD86,AP86,BB86,BN86) -> 1 | CA86: =SUM(G86,S86,AE86,AQ86,BC86,BO86) -> 1 | CB86: =SUM(H86,T86,AF86,AR86,BD86,BP86) -> 3 | CC86: =SUM(I86,U86,AG86,AS86,BE86,BQ86) -> 1 | CD86: =SUM(J86,V86,AH86,AT86,BF86,BR86) -> 1 | CE86: =SUM(K86,W86,AI86,AU86,BG86,BS86) -> 0 | CF86: =IF(BW86="","",SUM(BW86:CE86)) -> 162
B87: =B25 -> 0.35416667 | C87: 81 | D87: 4 | E87: 9 | F87: 0 | G87: 4 | H87: 0 | I87: 0 | J87: 1 | K87: 1 | L87: {=IF(ISBLANK(C87:K87),"",SUM(C87:K87))} -> 100 | N87: =N25 -> 0.35416667 | O87: 0 | P87: 0 | Q87: 0 | R87: 0 | S87: 0 | T87: 0 | U87: 0 | V87: 0 | W87: 0 | X87: {=IF(ISBLANK(O87:W87),"",SUM(O87:W87))} -> 0 | Z87: =Z25 -> 0.35416667 | AA87: 29 | AB87: 1 | AC87: 5 | AD87: 0 | AE87: 1 | AF87: 4 | AG87: 0 | AH87: 0 | AI87: 0 | AJ87: {=IF(ISBLANK(AA87:AI87),"",SUM(AA87:AI87))} -> 40 | AL87: =AL25 -> 0.35416667 | AV87: {=IF(ISBLANK(AM87:AU87),"",SUM(AM87:AU87))} | AX87: =AX25 -> 0.35416667 | BH87: {=IF(ISBLANK(AY87:BG87),"",SUM(AY87:BG87))} | BJ87: =BJ25 -> 0.35416667 | BT87: {=IF(ISBLANK(BK87:BS87),"",SUM(BK87:BS87))} | BV87: =BJ87 -> 0.35416667 | BW87: =SUM(C87,O87,AA87,AM87,AY87,BK87) -> 110 | BX87: =SUM(D87,P87,AB87,AN87,AZ87,BL87) -> 5 | BY87: =SUM(E87,Q87,AC87,AO87,BA87,BM87) -> 14 | BZ87: =SUM(F87,R87,AD87,AP87,BB87,BN87) -> 0 | CA87: =SUM(G87,S87,AE87,AQ87,BC87,BO87) -> 5 | CB87: =SUM(H87,T87,AF87,AR87,BD87,BP87) -> 4 | CC87: =SUM(I87,U87,AG87,AS87,BE87,BQ87) -> 0 | CD87: =SUM(J87,V87,AH87,AT87,BF87,BR87) -> 1 | CE87: =SUM(K87,W87,AI87,AU87,BG87,BS87) -> 1 | CF87: =IF(BW87="","",SUM(BW87:CE87)) -> 140
B88: =B26 -> 0.36458333 | C88: 80 | D88: 3 | E88: 12 | F88: 0 | G88: 1 | H88: 0 | I88: 1 | J88: 0 | K88: 0 | L88: {=IF(ISBLANK(C88:K88),"",SUM(C88:K88))} -> 97 | N88: =N26 -> 0.36458333 | O88: 0 | P88: 0 | Q88: 0 | R88: 0 | S88: 0 | T88: 0 | U88: 0 | V88: 0 | W88: 0 | X88: {=IF(ISBLANK(O88:W88),"",SUM(O88:W88))} -> 0 | Z88: =Z26 -> 0.36458333 | AA88: 31 | AB88: 4 | AC88: 5 | AD88: 0 | AE88: 1 | AF88: 2 | AG88: 0 | AH88: 0 | AI88: 0 | AJ88: {=IF(ISBLANK(AA88:AI88),"",SUM(AA88:AI88))} -> 43 | AL88: =AL26 -> 0.36458333 | AV88: {=IF(ISBLANK(AM88:AU88),"",SUM(AM88:AU88))} | AX88: =AX26 -> 0.36458333 | BH88: {=IF(ISBLANK(AY88:BG88),"",SUM(AY88:BG88))} | BJ88: =BJ26 -> 0.36458333 | BT88: {=IF(ISBLANK(BK88:BS88),"",SUM(BK88:BS88))} | BV88: =BJ88 -> 0.36458333 | BW88: =SUM(C88,O88,AA88,AM88,AY88,BK88) -> 111 | BX88: =SUM(D88,P88,AB88,AN88,AZ88,BL88) -> 7 | BY88: =SUM(E88,Q88,AC88,AO88,BA88,BM88) -> 17 | BZ88: =SUM(F88,R88,AD88,AP88,BB88,BN88) -> 0 | CA88: =SUM(G88,S88,AE88,AQ88,BC88,BO88) -> 2 | CB88: =SUM(H88,T88,AF88,AR88,BD88,BP88) -> 2 | CC88: =SUM(I88,U88,AG88,AS88,BE88,BQ88) -> 1 | CD88: =SUM(J88,V88,AH88,AT88,BF88,BR88) -> 0 | CE88: =SUM(K88,W88,AI88,AU88,BG88,BS88) -> 0 | CF88: =IF(BW88="","",SUM(BW88:CE88)) -> 140
... B128: =B66 -> 0.78125 | C128: 41 | D128: 1 | E128: 2 | F128: 0 | G128: 0 | H128: 0 | I128: 1 | J128: 0 | K128: 0 | L128: {=IF(ISBLANK(C128:K128),"",SUM(C128:K128))} -> 45 | N128: =N66 -> 0.78125 | O128: 0 | P128: 0 | Q128: 0 | R128: 0 | S128: 0 | T128: 0 | U128: 0 | V128: 0 | W128: 0 | X128: {=IF(ISBLANK(O128:W128),"",SUM(O128:W128))} -> 0 | Z128: =Z66 -> 0.78125 | AA128: 24 | AB128: 0 | AC128: 0 | AD128: 0 | AE128: 0 | AF128: 0 | AG128: 0 | AH128: 0 | AI128: 0 | AJ128: {=IF(ISBLANK(AA128:AI128),"",SUM(AA128:AI128))} -> 24 | AL128: =AL66 -> 0.78125 | AV128: {=IF(ISBLANK(AM128:AU128),"",SUM(AM128:AU128))} | AX128: =AX66 -> 0.78125 | BH128: {=IF(ISBLANK(AY128:BG128),"",SUM(AY128:BG128))} | BJ128: =BJ66 -> 0.78125 | BT128: {=IF(ISBLANK(BK128:BS128),"",SUM(BK128:BS128))} | BV128: =BJ128 -> 0.78125 | BW128: =SUM(C128,O128,AA128,AM128,AY128,BK128) -> 65 | BX128: =SUM(D128,P128,AB128,AN128,AZ128,BL128) -> 1 | BY128: =SUM(E128,Q128,AC128,AO128,BA128,BM128) -> 2 | BZ128: =SUM(F128,R128,AD128,AP128,BB128,BN128) -> 0 | CA128: =SUM(G128,S128,AE128,AQ128,BC128,BO128) -> 0 | CB128: =SUM(H128,T128,AF128,AR128,BD128,BP128) -> 0 | CC128: =SUM(I128,U128,AG128,AS128,BE128,BQ128) -> 1 | CD128: =SUM(J128,V128,AH128,AT128,BF128,BR128) -> 0 | CE128: =SUM(K128,W128,AI128,AU128,BG128,BS128) -> 0 | CF128: =IF(BW128="","",SUM(BW128:CE128)) -> 69
B129: TOTAL | C129: =SUM(C77:C128) -> 2486 | D129: =SUM(D77:D128) -> 103 | E129: =SUM(E77:E128) -> 304 | F129: =SUM(F77:F128) -> 22 | G129: =SUM(G77:G128) -> 40 | H129: =SUM(H77:H128) -> 19 | I129: =SUM(I77:I128) -> 35 | J129: =SUM(J77:J128) -> 18 | ... L129: =SUM(L77:L128) -> 3036 | N129: TOTAL | O129: =SUM(O77:O128) -> 1 | P129: =SUM(P77:P128) -> 0 | Q129: =SUM(Q77:Q128) -> 0 | R129: =SUM(R77:R128) -> 0 | S129: =SUM(S77:S128) -> 0 | T129: =SUM(T77:T128) -> 0 | U129: =SUM(U77:U128) -> 0 | V129: =SUM(V77:V128) -> 0 | ... X129: =SUM(X77:X128) -> 1 | Z129: TOTAL | AA129: =SUM(AA77:AA128) -> 1415 | AB129: =SUM(AB77:AB128) -> 97 | AC129: =SUM(AC77:AC128) -> 236 | AD129: =SUM(AD77:AD128) -> 12 | AE129: =SUM(AE77:AE128) -> 70 | AF129: =SUM(AF77:AF128) -> 73 | AG129: =SUM(AG77:AG128) -> 6 | AH129: =SUM(AH77:AH128) -> 11 | ... AJ129: =SUM(AJ77:AJ128) -> 1921 | AL129: TOTAL | AM129: =SUM(AM77:AM128) -> 0 | AN129: =SUM(AN77:AN128) -> 0 | AO129: =SUM(AO77:AO128) -> 0 | AP129: =SUM(AP77:AP128) -> 0 | AQ129: =SUM(AQ77:AQ128) -> 0 | AR129: =SUM(AR77:AR128) -> 0 | AS129: =SUM(AS77:AS128) -> 0 | AT129: =SUM(AT77:AT128) -> 0 | ... AV129: =SUM(AV77:AV128) -> 0 | AX129: TOTAL | AY129: =SUM(AY77:AY128) -> 0 | AZ129: =SUM(AZ77:AZ128) -> 0 | BA129: =SUM(BA77:BA128) -> 0 | BB129: =SUM(BB77:BB128) -> 0 | BC129: =SUM(BC77:BC128) -> 0 | BD129: =SUM(BD77:BD128) -> 0 | BE129: =SUM(BE77:BE128) -> 0 | BF129: =SUM(BF77:BF128) -> 0 | ... BH129: =SUM(BH77:BH128) -> 0 | BJ129: TOTAL | BK129: =SUM(BK77:BK128) -> 0 | BL129: =SUM(BL77:BL128) -> 0 | BM129: =SUM(BM77:BM128) -> 0 | BN129: =SUM(BN77:BN128) -> 0 | BO129: =SUM(BO77:BO128) -> 0 | BP129: =SUM(BP77:BP128) -> 0 | BQ129: =SUM(BQ77:BQ128) -> 0 | BR129: =SUM(BR77:BR128) -> 0 | ... BT129: =SUM(BT77:BT128) -> 0 | BV129: TOTAL | BW129: =SUM(BW77:BW128) -> 3902 | BX129: =SUM(BX77:BX128) -> 200 | BY129: =SUM(BY77:BY128) -> 540 | BZ129: =SUM(BZ77:BZ128) -> 34 | CA129: =SUM(CA77:CA128) -> 110 | CB129: =SUM(CB77:CB128) -> 92 | CC129: =SUM(CC77:CC128) -> 41 | CD129: =SUM(CD77:CD128) -> 29 | ... CF129: =SUM(CF77:CF128) -> 4958
C133: ="ORIGIN: "&config!C16&" ("&config!F16&")" -> ORIGIN: B1019 Maldon Rd (south)
C135: =config!$AH6&"C" -> ↑C | D135: to | E135: =E11 -> A← | O135: =C135 -> ↑C | P135: to | Q135: =Q11 -> B↗ | AA135: =C135 -> ↑C | AB135: to | AC135: =AC11 -> C↓ | AM135: =C135 -> ↑C | AN135: to | AO135: =AO11 -> D | AY135: =C135 -> ↑C | AZ135: to | BA135: =BA11 -> E | BK135: =C135 -> ↑C | BL135: to | BM135: =BM11 -> F | BW135: ="ENTERING FROM "&C135 -> ENTERING FROM ↑C
C136: =IF(config!C16<>"",config!C16&" to "&config!C14,"") -> B1019 Maldon Rd to B1137 The Street | O136: =IF(config!C15<>"",config!C16&" to "&config!C15,"") -> B1019 Maldon Rd to B1137 The Street | AA136: =IF(config!C16<>"",config!C16&" to "&config!C16,"") -> B1019 Maldon Rd to B1019 Maldon Rd | AM136: =IF(config!C17<>"",config!C16&" to "&config!C17,"") | AY136: =IF(config!C18<>"",config!C16&" to "&config!C18,"") | BK136: =IF(config!C19<>"",config!C16&" to "&config!C19,"") | BW136: =config!C16 -> B1019 Maldon Rd
C138: =C76 -> CAR | D138: =D76 -> LGV1 | E138: =E76 -> LGV2 | F138: =F76 -> MGV | G138: =G76 -> HGV1 | H138: =H76 -> HGV2 | I138: =I76 -> PSV | J138: =J76 -> MB | K138: =K76 -> CYC | O138: =O76 -> CAR | P138: =P76 -> LGV1 | Q138: =Q76 -> LGV2 | R138: =R76 -> MGV | S138: =S76 -> HGV1 | T138: =T76 -> HGV2 | U138: =U76 -> PSV | V138: =V76 -> MB | W138: =W76 -> CYC | AA138: =AA76 -> CAR | AB138: =AB76 -> LGV1 | AC138: =AC76 -> LGV2 | AD138: =AD76 -> MGV | AE138: =AE76 -> HGV1 | AF138: =AF76 -> HGV2 | AG138: =AG76 -> PSV | AH138: =AH76 -> MB | AI138: =AI76 -> CYC | AM138: =AM76 -> CAR | AN138: =AN76 -> LGV1 | AO138: =AO76 -> LGV2 | AP138: =AP76 -> MGV | AQ138: =AQ76 -> HGV1 | AR138: =AR76 -> HGV2 | AS138: =AS76 -> PSV | AT138: =AT76 -> MB | AU138: =AU76 -> CYC | AY138: =AY76 -> CAR | AZ138: =AZ76 -> LGV1 | BA138: =BA76 -> LGV2 | BB138: =BB76 -> MGV | BC138: =BC76 -> HGV1 | BD138: =BD76 -> HGV2 | BE138: =BE76 -> PSV | BF138: =BF76 -> MB | BG138: =BG76 -> CYC | BK138: =BK76 -> CAR | BL138: =BL76 -> LGV1 | BM138: =BM76 -> LGV2 | BN138: =BN76 -> MGV | BO138: =BO76 -> HGV1 | BP138: =BP76 -> HGV2 | BQ138: =BQ76 -> PSV | BR138: =BR76 -> MB | BS138: =BS76 -> CYC | BW138: =BK138 -> CAR | BX138: =BL138 -> LGV1 | BY138: =BM138 -> LGV2 | BZ138: =BN138 -> MGV | CA138: =BO138 -> HGV1 | CB138: =BP138 -> HGV2 | CC138: =BQ138 -> PSV | CD138: =BR138 -> MB | CE138: =BS138 -> CYC
B139: =B77 -> 0.25 | C139: 25 | D139: 2 | E139: 5 | F139: 0 | G139: 1 | H139: 0 | I139: 0 | J139: 0 | K139: 1 | L139: {=IF(ISBLANK(C139:K139),"",SUM(C139:K139))} -> 34 | N139: =N77 -> 0.25 | O139: 9 | P139: 0 | Q139: 4 | R139: 0 | S139: 0 | T139: 0 | U139: 0 | V139: 0 | W139: 0 | X139: {=IF(ISBLANK(O139:W139),"",SUM(O139:W139))} -> 13 | Z139: =Z77 -> 0.25 | AA139: 0 | AB139: 0 | AC139: 0 | AD139: 0 | AE139: 0 | AF139: 0 | AG139: 0 | AH139: 0 | AI139: 0 | AJ139: {=IF(ISBLANK(AA139:AI139),"",SUM(AA139:AI139))} -> 0 | AL139: =AL77 -> 0.25 | AV139: {=IF(ISBLANK(AM139:AU139),"",SUM(AM139:AU139))} | AX139: =AX77 -> 0.25 | BH139: {=IF(ISBLANK(AY139:BG139),"",SUM(AY139:BG139))} | BJ139: =BJ77 -> 0.25 | BT139: {=IF(ISBLANK(BK139:BS139),"",SUM(BK139:BS139))} | BV139: =BJ139 -> 0.25 | BW139: =SUM(C139,O139,AA139,AM139,AY139,BK139) -> 34 | BX139: =SUM(D139,P139,AB139,AN139,AZ139,BL139) -> 2 | BY139: =SUM(E139,Q139,AC139,AO139,BA139,BM139) -> 9 | BZ139: =SUM(F139,R139,AD139,AP139,BB139,BN139) -> 0 | CA139: =SUM(G139,S139,AE139,AQ139,BC139,BO139) -> 1 | CB139: =SUM(H139,T139,AF139,AR139,BD139,BP139) -> 0 | CC139: =SUM(I139,U139,AG139,AS139,BE139,BQ139) -> 0 | CD139: =SUM(J139,V139,AH139,AT139,BF139,BR139) -> 0 | CE139: =SUM(K139,W139,AI139,AU139,BG139,BS139) -> 1 | CF139: =IF(BW139="","",SUM(BW139:CE139)) -> 47
B140: =B78 -> 0.26041667 | C140: 25 | D140: 4 | E140: 13 | F140: 0 | G140: 1 | H140: 2 | I140: 0 | J140: 1 | K140: 0 | L140: {=IF(ISBLANK(C140:K140),"",SUM(C140:K140))} -> 46 | N140: =N78 -> 0.26041667 | O140: 14 | P140: 4 | Q140: 5 | R140: 0 | S140: 1 | T140: 1 | U140: 0 | V140: 0 | W140: 0 | X140: {=IF(ISBLANK(O140:W140),"",SUM(O140:W140))} -> 25 | Z140: =Z78 -> 0.26041667 | AA140: 0 | AB140: 0 | AC140: 0 | AD140: 0 | AE140: 0 | AF140: 0 | AG140: 0 | AH140: 0 | AI140: 0 | AJ140: {=IF(ISBLANK(AA140:AI140),"",SUM(AA140:AI140))} -> 0 | AL140: =AL78 -> 0.26041667 | AV140: {=IF(ISBLANK(AM140:AU140),"",SUM(AM140:AU140))} | AX140: =AX78 -> 0.26041667 | BH140: {=IF(ISBLANK(AY140:BG140),"",SUM(AY140:BG140))} | BJ140: =BJ78 -> 0.26041667 | BT140: {=IF(ISBLANK(BK140:BS140),"",SUM(BK140:BS140))} | BV140: =BJ140 -> 0.26041667 | BW140: =SUM(C140,O140,AA140,AM140,AY140,BK140) -> 39 | BX140: =SUM(D140,P140,AB140,AN140,AZ140,BL140) -> 8 | BY140: =SUM(E140,Q140,AC140,AO140,BA140,BM140) -> 18 | BZ140: =SUM(F140,R140,AD140,AP140,BB140,BN140) -> 0 | CA140: =SUM(G140,S140,AE140,AQ140,BC140,BO140) -> 2 | CB140: =SUM(H140,T140,AF140,AR140,BD140,BP140) -> 3 | CC140: =SUM(I140,U140,AG140,AS140,BE140,BQ140) -> 0 | CD140: =SUM(J140,V140,AH140,AT140,BF140,BR140) -> 1 | CE140: =SUM(K140,W140,AI140,AU140,BG140,BS140) -> 0 | CF140: =IF(BW140="","",SUM(BW140:CE140)) -> 71
B141: =B79 -> 0.27083333 | C141: 66 | D141: 5 | E141: 6 | F141: 0 | G141: 2 | H141: 0 | I141: 0 | J141: 0 | K141: 0 | L141: {=IF(ISBLANK(C141:K141),"",SUM(C141:K141))} -> 79 | N141: =N79 -> 0.27083333 | O141: 19 | P141: 4 | Q141: 6 | R141: 0 | S141: 0 | T141: 1 | U141: 0 | V141: 0 | W141: 0 | X141: {=IF(ISBLANK(O141:W141),"",SUM(O141:W141))} -> 30 | Z141: =Z79 -> 0.27083333 | AA141: 0 | AB141: 0 | AC141: 0 | AD141: 0 | AE141: 0 | AF141: 0 | AG141: 0 | AH141: 0 | AI141: 0 | AJ141: {=IF(ISBLANK(AA141:AI141),"",SUM(AA141:AI141))} -> 0 | AL141: =AL79 -> 0.27083333 | AV141: {=IF(ISBLANK(AM141:AU141),"",SUM(AM141:AU141))} | AX141: =AX79 -> 0.27083333 | BH141: {=IF(ISBLANK(AY141:BG141),"",SUM(AY141:BG141))} | BJ141: =BJ79 -> 0.27083333 | BT141: {=IF(ISBLANK(BK141:BS141),"",SUM(BK141:BS141))} | BV141: =BJ141 -> 0.27083333 | BW141: =SUM(C141,O141,AA141,AM141,AY141,BK141) -> 85 | BX141: =SUM(D141,P141,AB141,AN141,AZ141,BL141) -> 9 | BY141: =SUM(E141,Q141,AC141,AO141,BA141,BM141) -> 12 | BZ141: =SUM(F141,R141,AD141,AP141,BB141,BN141) -> 0 | CA141: =SUM(G141,S141,AE141,AQ141,BC141,BO141) -> 2 | CB141: =SUM(H141,T141,AF141,AR141,BD141,BP141) -> 1 | CC141: =SUM(I141,U141,AG141,AS141,BE141,BQ141) -> 0 | CD141: =SUM(J141,V141,AH141,AT141,BF141,BR141) -> 0 | CE141: =SUM(K141,W141,AI141,AU141,BG141,BS141) -> 0 | CF141: =IF(BW141="","",SUM(BW141:CE141)) -> 109
B142: =B80 -> 0.28125 | C142: 69 | D142: 4 | E142: 11 | F142: 1 | G142: 1 | H142: 0 | I142: 0 | J142: 1 | K142: 0 | L142: {=IF(ISBLANK(C142:K142),"",SUM(C142:K142))} -> 87 | N142: =N80 -> 0.28125 | O142: 25 | P142: 4 | Q142: 8 | R142: 1 | S142: 2 | T142: 1 | U142: 0 | V142: 0 | W142: 0 | X142: {=IF(ISBLANK(O142:W142),"",SUM(O142:W142))} -> 41 | Z142: =Z80 -> 0.28125 | AA142: 0 | AB142: 0 | AC142: 0 | AD142: 0 | AE142: 0 | AF142: 0 | AG142: 0 | AH142: 0 | AI142: 0 | AJ142: {=IF(ISBLANK(AA142:AI142),"",SUM(AA142:AI142))} -> 0 | AL142: =AL80 -> 0.28125 | AV142: {=IF(ISBLANK(AM142:AU142),"",SUM(AM142:AU142))} | AX142: =AX80 -> 0.28125 | BH142: {=IF(ISBLANK(AY142:BG142),"",SUM(AY142:BG142))} | BJ142: =BJ80 -> 0.28125 | BT142: {=IF(ISBLANK(BK142:BS142),"",SUM(BK142:BS142))} | BV142: =BJ142 -> 0.28125 | BW142: =SUM(C142,O142,AA142,AM142,AY142,BK142) -> 94 | BX142: =SUM(D142,P142,AB142,AN142,AZ142,BL142) -> 8 | BY142: =SUM(E142,Q142,AC142,AO142,BA142,BM142) -> 19 | BZ142: =SUM(F142,R142,AD142,AP142,BB142,BN142) -> 2 | CA142: =SUM(G142,S142,AE142,AQ142,BC142,BO142) -> 3 | CB142: =SUM(H142,T142,AF142,AR142,BD142,BP142) -> 1 | CC142: =SUM(I142,U142,AG142,AS142,BE142,BQ142) -> 0 | CD142: =SUM(J142,V142,AH142,AT142,BF142,BR142) -> 1 | CE142: =SUM(K142,W142,AI142,AU142,BG142,BS142) -> 0 | CF142: =IF(BW142="","",SUM(BW142:CE142)) -> 128
B143: =B81 -> 0.29166667 | C143: 76 | D143: 3 | E143: 11 | F143: 0 | G143: 1 | H143: 0 | I143: 0 | J143: 0 | K143: 0 | L143: {=IF(ISBLANK(C143:K143),"",SUM(C143:K143))} -> 91 | N143: =N81 -> 0.29166667 | O143: 27 | P143: 4 | Q143: 8 | R143: 0 | S143: 1 | T143: 0 | U143: 0 | V143: 1 | W143: 0 | X143: {=IF(ISBLANK(O143:W143),"",SUM(O143:W143))} -> 41 | Z143: =Z81 -> 0.29166667 | AA143: 0 | AB143: 0 | AC143: 0 | AD143: 0 | AE143: 0 | AF143: 0 | AG143: 0 | AH143: 0 | AI143: 0 | AJ143: {=IF(ISBLANK(AA143:AI143),"",SUM(AA143:AI143))} -> 0 | AL143: =AL81 -> 0.29166667 | AV143: {=IF(ISBLANK(AM143:AU143),"",SUM(AM143:AU143))} | AX143: =AX81 -> 0.29166667 | BH143: {=IF(ISBLANK(AY143:BG143),"",SUM(AY143:BG143))} | BJ143: =BJ81 -> 0.29166667 | BT143: {=IF(ISBLANK(BK143:BS143),"",SUM(BK143:BS143))} | BV143: =BJ143 -> 0.29166667 | BW143: =SUM(C143,O143,AA143,AM143,AY143,BK143) -> 103 | BX143: =SUM(D143,P143,AB143,AN143,AZ143,BL143) -> 7 | BY143: =SUM(E143,Q143,AC143,AO143,BA143,BM143) -> 19 | BZ143: =SUM(F143,R143,AD143,AP143,BB143,BN143) -> 0 | CA143: =SUM(G143,S143,AE143,AQ143,BC143,BO143) -> 2 | CB143: =SUM(H143,T143,AF143,AR143,BD143,BP143) -> 0 | CC143: =SUM(I143,U143,AG143,AS143,BE143,BQ143) -> 0 | CD143: =SUM(J143,V143,AH143,AT143,BF143,BR143) -> 1 | CE143: =SUM(K143,W143,AI143,AU143,BG143,BS143) -> 0 | CF143: =IF(BW143="","",SUM(BW143:CE143)) -> 132
B144: =B82 -> 0.30208333 | C144: 109 | D144: 3 | E144: 8 | F144: 0 | G144: 0 | H144: 0 | I144: 1 | J144: 0 | K144: 0 | L144: {=IF(ISBLANK(C144:K144),"",SUM(C144:K144))} -> 121 | N144: =N82 -> 0.30208333 | O144: 33 | P144: 7 | Q144: 6 | R144: 0 | S144: 4 | T144: 1 | U144: 0 | V144: 0 | W144: 0 | X144: {=IF(ISBLANK(O144:W144),"",SUM(O144:W144))} -> 51 | Z144: =Z82 -> 0.30208333 | AA144: 0 | AB144: 0 | AC144: 0 | AD144: 0 | AE144: 0 | AF144: 0 | AG144: 0 | AH144: 0 | AI144: 0 | AJ144: {=IF(ISBLANK(AA144:AI144),"",SUM(AA144:AI144))} -> 0 | AL144: =AL82 -> 0.30208333 | AV144: {=IF(ISBLANK(AM144:AU144),"",SUM(AM144:AU144))} | AX144: =AX82 -> 0.30208333 | BH144: {=IF(ISBLANK(AY144:BG144),"",SUM(AY144:BG144))} | BJ144: =BJ82 -> 0.30208333 | BT144: {=IF(ISBLANK(BK144:BS144),"",SUM(BK144:BS144))} | BV144: =BJ144 -> 0.30208333 | BW144: =SUM(C144,O144,AA144,AM144,AY144,BK144) -> 142 | BX144: =SUM(D144,P144,AB144,AN144,AZ144,BL144) -> 10 | BY144: =SUM(E144,Q144,AC144,AO144,BA144,BM144) -> 14 | BZ144: =SUM(F144,R144,AD144,AP144,BB144,BN144) -> 0 | CA144: =SUM(G144,S144,AE144,AQ144,BC144,BO144) -> 4 | CB144: =SUM(H144,T144,AF144,AR144,BD144,BP144) -> 1 | CC144: =SUM(I144,U144,AG144,AS144,BE144,BQ144) -> 1 | CD144: =SUM(J144,V144,AH144,AT144,BF144,BR144) -> 0 | CE144: =SUM(K144,W144,AI144,AU144,BG144,BS144) -> 0 | CF144: =IF(BW144="","",SUM(BW144:CE144)) -> 172
B145: =B83 -> 0.3125 | C145: 98 | D145: 7 | E145: 7 | F145: 1 | G145: 2 | H145: 0 | I145: 1 | J145: 0 | K145: 0 | L145: {=IF(ISBLANK(C145:K145),"",SUM(C145:K145))} -> 116 | N145: =N83 -> 0.3125 | O145: 43 | P145: 3 | Q145: 9 | R145: 1 | S145: 4 | T145: 1 | U145: 1 | V145: 0 | W145: 0 | X145: {=IF(ISBLANK(O145:W145),"",SUM(O145:W145))} -> 62 | Z145: =Z83 -> 0.3125 | AA145: 0 | AB145: 0 | AC145: 0 | AD145: 0 | AE145: 0 | AF145: 0 | AG145: 0 | AH145: 0 | AI145: 0 | AJ145: {=IF(ISBLANK(AA145:AI145),"",SUM(AA145:AI145))} -> 0 | AL145: =AL83 -> 0.3125 | AV145: {=IF(ISBLANK(AM145:AU145),"",SUM(AM145:AU145))} | AX145: =AX83 -> 0.3125 | BH145: {=IF(ISBLANK(AY145:BG145),"",SUM(AY145:BG145))} | BJ145: =BJ83 -> 0.3125 | BT145: {=IF(ISBLANK(BK145:BS145),"",SUM(BK145:BS145))} | BV145: =BJ145 -> 0.3125 | BW145: =SUM(C145,O145,AA145,AM145,AY145,BK145) -> 141 | BX145: =SUM(D145,P145,AB145,AN145,AZ145,BL145) -> 10 | BY145: =SUM(E145,Q145,AC145,AO145,BA145,BM145) -> 16 | BZ145: =SUM(F145,R145,AD145,AP145,BB145,BN145) -> 2 | CA145: =SUM(G145,S145,AE145,AQ145,BC145,BO145) -> 6 | CB145: =SUM(H145,T145,AF145,AR145,BD145,BP145) -> 1 | CC145: =SUM(I145,U145,AG145,AS145,BE145,BQ145) -> 2 | CD145: =SUM(J145,V145,AH145,AT145,BF145,BR145) -> 0 | CE145: =SUM(K145,W145,AI145,AU145,BG145,BS145) -> 0 | CF145: =IF(BW145="","",SUM(BW145:CE145)) -> 178
B146: =B84 -> 0.32291667 | C146: 83 | D146: 8 | E146: 12 | F146: 0 | G146: 1 | H146: 0 | I146: 0 | J146: 0 | K146: 0 | L146: {=IF(ISBLANK(C146:K146),"",SUM(C146:K146))} -> 104 | N146: =N84 -> 0.32291667 | O146: 36 | P146: 2 | Q146: 2 | R146: 0 | S146: 0 | T146: 2 | U146: 0 | V146: 0 | W146: 0 | X146: {=IF(ISBLANK(O146:W146),"",SUM(O146:W146))} -> 42 | Z146: =Z84 -> 0.32291667 | AA146: 0 | AB146: 0 | AC146: 0 | AD146: 0 | AE146: 0 | AF146: 0 | AG146: 0 | AH146: 0 | AI146: 0 | AJ146: {=IF(ISBLANK(AA146:AI146),"",SUM(AA146:AI146))} -> 0 | AL146: =AL84 -> 0.32291667 | AV146: {=IF(ISBLANK(AM146:AU146),"",SUM(AM146:AU146))} | AX146: =AX84 -> 0.32291667 | BH146: {=IF(ISBLANK(AY146:BG146),"",SUM(AY146:BG146))} | BJ146: =BJ84 -> 0.32291667 | BT146: {=IF(ISBLANK(BK146:BS146),"",SUM(BK146:BS146))} | BV146: =BJ146 -> 0.32291667 | BW146: =SUM(C146,O146,AA146,AM146,AY146,BK146) -> 119 | BX146: =SUM(D146,P146,AB146,AN146,AZ146,BL146) -> 10 | BY146: =SUM(E146,Q146,AC146,AO146,BA146,BM146) -> 14 | BZ146: =SUM(F146,R146,AD146,AP146,BB146,BN146) -> 0 | CA146: =SUM(G146,S146,AE146,AQ146,BC146,BO146) -> 1 | CB146: =SUM(H146,T146,AF146,AR146,BD146,BP146) -> 2 | CC146: =SUM(I146,U146,AG146,AS146,BE146,BQ146) -> 0 | CD146: =SUM(J146,V146,AH146,AT146,BF146,BR146) -> 0 | CE146: =SUM(K146,W146,AI146,AU146,BG146,BS146) -> 0 | CF146: =IF(BW146="","",SUM(BW146:CE146)) -> 146
B147: =B85 -> 0.33333333 | C147: 80 | D147: 3 | E147: 11 | F147: 0 | G147: 3 | H147: 4 | I147: 1 | J147: 0 | K147: 1 | L147: {=IF(ISBLANK(C147:K147),"",SUM(C147:K147))} -> 103 | N147: =N85 -> 0.33333333 | O147: 55 | P147: 3 | Q147: 12 | R147: 2 | S147: 1 | T147: 2 | U147: 0 | V147: 1 | W147: 0 | X147: {=IF(ISBLANK(O147:W147),"",SUM(O147:W147))} -> 76 | Z147: =Z85 -> 0.33333333 | AA147: 0 | AB147: 0 | AC147: 0 | AD147: 0 | AE147: 0 | AF147: 0 | AG147: 0 | AH147: 0 | AI147: 0 | AJ147: {=IF(ISBLANK(AA147:AI147),"",SUM(AA147:AI147))} -> 0 | AL147: =AL85 -> 0.33333333 | AV147: {=IF(ISBLANK(AM147:AU147),"",SUM(AM147:AU147))} | AX147: =AX85 -> 0.33333333 | BH147: {=IF(ISBLANK(AY147:BG147),"",SUM(AY147:BG147))} | BJ147: =BJ85 -> 0.33333333 | BT147: {=IF(ISBLANK(BK147:BS147),"",SUM(BK147:BS147))} | BV147: =BJ147 -> 0.33333333 | BW147: =SUM(C147,O147,AA147,AM147,AY147,BK147) -> 135 | BX147: =SUM(D147,P147,AB147,AN147,AZ147,BL147) -> 6 | BY147: =SUM(E147,Q147,AC147,AO147,BA147,BM147) -> 23 | BZ147: =SUM(F147,R147,AD147,AP147,BB147,BN147) -> 2 | CA147: =SUM(G147,S147,AE147,AQ147,BC147,BO147) -> 4 | CB147: =SUM(H147,T147,AF147,AR147,BD147,BP147) -> 6 | CC147: =SUM(I147,U147,AG147,AS147,BE147,BQ147) -> 1 | CD147: =SUM(J147,V147,AH147,AT147,BF147,BR147) -> 1 | CE147: =SUM(K147,W147,AI147,AU147,BG147,BS147) -> 1 | CF147: =IF(BW147="","",SUM(BW147:CE147)) -> 179
B148: =B86 -> 0.34375 | C148: 90 | D148: 4 | E148: 5 | F148: 0 | G148: 1 | H148: 2 | I148: 0 | J148: 0 | K148: 0 | L148: {=IF(ISBLANK(C148:K148),"",SUM(C148:K148))} -> 102 | N148: =N86 -> 0.34375 | O148: 38 | P148: 2 | Q148: 7 | R148: 0 | S148: 4 | T148: 1 | U148: 0 | V148: 1 | W148: 0 | X148: {=IF(ISBLANK(O148:W148),"",SUM(O148:W148))} -> 53 | Z148: =Z86 -> 0.34375 | AA148: 0 | AB148: 0 | AC148: 0 | AD148: 0 | AE148: 0 | AF148: 0 | AG148: 0 | AH148: 0 | AI148: 0 | AJ148: {=IF(ISBLANK(AA148:AI148),"",SUM(AA148:AI148))} -> 0 | AL148: =AL86 -> 0.34375 | AV148: {=IF(ISBLANK(AM148:AU148),"",SUM(AM148:AU148))} | AX148: =AX86 -> 0.34375 | BH148: {=IF(ISBLANK(AY148:BG148),"",SUM(AY148:BG148))} | BJ148: =BJ86 -> 0.34375 | BT148: {=IF(ISBLANK(BK148:BS148),"",SUM(BK148:BS148))} | BV148: =BJ148 -> 0.34375 | BW148: =SUM(C148,O148,AA148,AM148,AY148,BK148) -> 128 | BX148: =SUM(D148,P148,AB148,AN148,AZ148,BL148) -> 6 | BY148: =SUM(E148,Q148,AC148,AO148,BA148,BM148) -> 12 | BZ148: =SUM(F148,R148,AD148,AP148,BB148,BN148) -> 0 | CA148: =SUM(G148,S148,AE148,AQ148,BC148,BO148) -> 5 | CB148: =SUM(H148,T148,AF148,AR148,BD148,BP148) -> 3 | CC148: =SUM(I148,U148,AG148,AS148,BE148,BQ148) -> 0 | CD148: =SUM(J148,V148,AH148,AT148,BF148,BR148) -> 1 | CE148: =SUM(K148,W148,AI148,AU148,BG148,BS148) -> 0 | CF148: =IF(BW148="","",SUM(BW148:CE148)) -> 155
B149: =B87 -> 0.35416667 | C149: 67 | D149: 1 | E149: 7 | F149: 1 | G149: 1 | H149: 3 | I149: 0 | J149: 0 | K149: 0 | L149: {=IF(ISBLANK(C149:K149),"",SUM(C149:K149))} -> 80 | N149: =N87 -> 0.35416667 | O149: 53 | P149: 0 | Q149: 5 | R149: 0 | S149: 1 | T149: 2 | U149: 0 | V149: 0 | W149: 0 | X149: {=IF(ISBLANK(O149:W149),"",SUM(O149:W149))} -> 61 | Z149: =Z87 -> 0.35416667 | AA149: 0 | AB149: 0 | AC149: 0 | AD149: 0 | AE149: 0 | AF149: 0 | AG149: 0 | AH149: 0 | AI149: 0 | AJ149: {=IF(ISBLANK(AA149:AI149),"",SUM(AA149:AI149))} -> 0 | AL149: =AL87 -> 0.35416667 | AV149: {=IF(ISBLANK(AM149:AU149),"",SUM(AM149:AU149))} | AX149: =AX87 -> 0.35416667 | BH149: {=IF(ISBLANK(AY149:BG149),"",SUM(AY149:BG149))} | BJ149: =BJ87 -> 0.35416667 | BT149: {=IF(ISBLANK(BK149:BS149),"",SUM(BK149:BS149))} | BV149: =BJ149 -> 0.35416667 | BW149: =SUM(C149,O149,AA149,AM149,AY149,BK149) -> 120 | BX149: =SUM(D149,P149,AB149,AN149,AZ149,BL149) -> 1 | BY149: =SUM(E149,Q149,AC149,AO149,BA149,BM149) -> 12 | BZ149: =SUM(F149,R149,AD149,AP149,BB149,BN149) -> 1 | CA149: =SUM(G149,S149,AE149,AQ149,BC149,BO149) -> 2 | CB149: =SUM(H149,T149,AF149,AR149,BD149,BP149) -> 5 | CC149: =SUM(I149,U149,AG149,AS149,BE149,BQ149) -> 0 | CD149: =SUM(J149,V149,AH149,AT149,BF149,BR149) -> 0 | CE149: =SUM(K149,W149,AI149,AU149,BG149,BS149) -> 0 | CF149: =IF(BW149="","",SUM(BW149:CE149)) -> 141
B150: =B88 -> 0.36458333 | C150: 81 | D150: 3 | E150: 8 | F150: 2 | G150: 1 | H150: 2 | I150: 0 | J150: 0 | K150: 0 | L150: {=IF(ISBLANK(C150:K150),"",SUM(C150:K150))} -> 97 | N150: =N88 -> 0.36458333 | O150: 57 | P150: 1 | Q150: 2 | R150: 1 | S150: 3 | T150: 3 | U150: 2 | V150: 0 | W150: 0 | X150: {=IF(ISBLANK(O150:W150),"",SUM(O150:W150))} -> 69 | Z150: =Z88 -> 0.36458333 | AA150: 0 | AB150: 0 | AC150: 0 | AD150: 0 | AE150: 0 | AF150: 0 | AG150: 0 | AH150: 0 | AI150: 0 | AJ150: {=IF(ISBLANK(AA150:AI150),"",SUM(AA150:AI150))} -> 0 | AL150: =AL88 -> 0.36458333 | AV150: {=IF(ISBLANK(AM150:AU150),"",SUM(AM150:AU150))} | AX150: =AX88 -> 0.36458333 | BH150: {=IF(ISBLANK(AY150:BG150),"",SUM(AY150:BG150))} | BJ150: =BJ88 -> 0.36458333 | BT150: {=IF(ISBLANK(BK150:BS150),"",SUM(BK150:BS150))} | BV150: =BJ150 -> 0.36458333 | BW150: =SUM(C150,O150,AA150,AM150,AY150,BK150) -> 138 | BX150: =SUM(D150,P150,AB150,AN150,AZ150,BL150) -> 4 | BY150: =SUM(E150,Q150,AC150,AO150,BA150,BM150) -> 10 | BZ150: =SUM(F150,R150,AD150,AP150,BB150,BN150) -> 3 | CA150: =SUM(G150,S150,AE150,AQ150,BC150,BO150) -> 4 | CB150: =SUM(H150,T150,AF150,AR150,BD150,BP150) -> 5 | CC150: =SUM(I150,U150,AG150,AS150,BE150,BQ150) -> 2 | CD150: =SUM(J150,V150,AH150,AT150,BF150,BR150) -> 0 | CE150: =SUM(K150,W150,AI150,AU150,BG150,BS150) -> 0 | CF150: =IF(BW150="","",SUM(BW150:CE150)) -> 166
... B190: =B128 -> 0.78125 | C190: 57 | D190: 0 | E190: 3 | F190: 0 | G190: 0 | H190: 0 | I190: 0 | J190: 0 | K190: 0 | L190: {=IF(ISBLANK(C190:K190),"",SUM(C190:K190))} -> 60 | N190: =N128 -> 0.78125 | O190: 20 | P190: 1 | Q190: 3 | R190: 0 | S190: 0 | T190: 0 | U190: 0 | V190: 0 | W190: 0 | X190: {=IF(ISBLANK(O190:W190),"",SUM(O190:W190))} -> 24 | Z190: =Z128 -> 0.78125 | AA190: 0 | AB190: 0 | AC190: 0 | AD190: 0 | AE190: 0 | AF190: 0 | AG190: 0 | AH190: 0 | AI190: 0 | AJ190: {=IF(ISBLANK(AA190:AI190),"",SUM(AA190:AI190))} -> 0 | AL190: =AL128 -> 0.78125 | AV190: {=IF(ISBLANK(AM190:AU190),"",SUM(AM190:AU190))} | AX190: =AX128 -> 0.78125 | BH190: {=IF(ISBLANK(AY190:BG190),"",SUM(AY190:BG190))} | BJ190: =BJ128 -> 0.78125 | BT190: {=IF(ISBLANK(BK190:BS190),"",SUM(BK190:BS190))} | BV190: =BJ190 -> 0.78125 | BW190: =SUM(C190,O190,AA190,AM190,AY190,BK190) -> 77 | BX190: =SUM(D190,P190,AB190,AN190,AZ190,BL190) -> 1 | BY190: =SUM(E190,Q190,AC190,AO190,BA190,BM190) -> 6 | BZ190: =SUM(F190,R190,AD190,AP190,BB190,BN190) -> 0 | CA190: =SUM(G190,S190,AE190,AQ190,BC190,BO190) -> 0 | CB190: =SUM(H190,T190,AF190,AR190,BD190,BP190) -> 0 | CC190: =SUM(I190,U190,AG190,AS190,BE190,BQ190) -> 0 | CD190: =SUM(J190,V190,AH190,AT190,BF190,BR190) -> 0 | CE190: =SUM(K190,W190,AI190,AU190,BG190,BS190) -> 0 | CF190: =IF(BW190="","",SUM(BW190:CE190)) -> 84
B191: TOTAL | C191: =SUM(C139:C190) -> 3203 | D191: =SUM(D139:D190) -> 183 | E191: =SUM(E139:E190) -> 358 | F191: =SUM(F139:F190) -> 19 | G191: =SUM(G139:G190) -> 70 | H191: =SUM(H139:H190) -> 44 | I191: =SUM(I139:I190) -> 11 | J191: =SUM(J139:J190) -> 17 | ... L191: =SUM(L139:L190) -> 3911 | N191: TOTAL | O191: =SUM(O139:O190) -> 1513 | P191: =SUM(P139:P190) -> 122 | Q191: =SUM(Q139:Q190) -> 271 | R191: =SUM(R139:R190) -> 18 | S191: =SUM(S139:S190) -> 62 | T191: =SUM(T139:T190) -> 79 | U191: =SUM(U139:U190) -> 9 | V191: =SUM(V139:V190) -> 12 | ... X191: =SUM(X139:X190) -> 2087 | Z191: TOTAL | AA191: =SUM(AA139:AA190) -> 2 | AB191: =SUM(AB139:AB190) -> 1 | AC191: =SUM(AC139:AC190) -> 0 | AD191: =SUM(AD139:AD190) -> 1 | AE191: =SUM(AE139:AE190) -> 0 | AF191: =SUM(AF139:AF190) -> 0 | AG191: =SUM(AG139:AG190) -> 0 | AH191: =SUM(AH139:AH190) -> 0 | ... AJ191: =SUM(AJ139:AJ190) -> 4 | AL191: TOTAL | AM191: =SUM(AM139:AM190) -> 0 | AN191: =SUM(AN139:AN190) -> 0 | AO191: =SUM(AO139:AO190) -> 0 | AP191: =SUM(AP139:AP190) -> 0 | AQ191: =SUM(AQ139:AQ190) -> 0 | AR191: =SUM(AR139:AR190) -> 0 | AS191: =SUM(AS139:AS190) -> 0 | AT191: =SUM(AT139:AT190) -> 0 | ... AV191: =SUM(AV139:AV190) -> 0 | AX191: TOTAL | AY191: =SUM(AY139:AY190) -> 0 | AZ191: =SUM(AZ139:AZ190) -> 0 | BA191: =SUM(BA139:BA190) -> 0 | BB191: =SUM(BB139:BB190) -> 0 | BC191: =SUM(BC139:BC190) -> 0 | BD191: =SUM(BD139:BD190) -> 0 | BE191: =SUM(BE139:BE190) -> 0 | BF191: =SUM(BF139:BF190) -> 0 | ... BH191: =SUM(BH139:BH190) -> 0 | BJ191: TOTAL | BK191: =SUM(BK139:BK190) -> 0 | BL191: =SUM(BL139:BL190) -> 0 | BM191: =SUM(BM139:BM190) -> 0 | BN191: =SUM(BN139:BN190) -> 0 | BO191: =SUM(BO139:BO190) -> 0 | BP191: =SUM(BP139:BP190) -> 0 | BQ191: =SUM(BQ139:BQ190) -> 0 | BR191: =SUM(BR139:BR190) -> 0 | ... BT191: =SUM(BT139:BT190) -> 0 | BV191: TOTAL | BW191: =SUM(BW139:BW190) -> 4718 | BX191: =SUM(BX139:BX190) -> 306 | BY191: =SUM(BY139:BY190) -> 629 | BZ191: =SUM(BZ139:BZ190) -> 38 | CA191: =SUM(CA139:CA190) -> 132 | CB191: =SUM(CB139:CB190) -> 123 | CC191: =SUM(CC139:CC190) -> 20 | CD191: =SUM(CD139:CD190) -> 29 | ... CF191: =SUM(CF139:CF190) -> 6002
C195: =IF(config!C17<>"", "ORIGIN: "&config!C17&" ("&config!F17&")", "ddd") -> ddd
C197: =config!$AH7&"D" -> D | D197: to | E197: =E11 -> A← | O197: =C197 -> D | P197: to | Q197: =Q11 -> B↗ | AA197: =C197 -> D | AB197: to | AC197: =AC11 -> C↓ | AM197: =C197 -> D | AN197: to | AO197: =AO11 -> D | AY197: =C197 -> D | AZ197: to | BA197: =BA11 -> E | BK197: =C197 -> D | BL197: to | BM197: =BM11 -> F | BW197: ="ENTERING FROM "&C197 -> ENTERING FROM D
C198: =IF(config!C17<>"",config!C17&" to "&config!C14,"") | O198: =IF(config!C17<>"",config!C17&" to "&config!C15,"") | AA198: =IF(config!C17<>"",config!C17&" to "&config!C16,"") | AM198: =IF(config!C17<>"",config!C17&" to "&config!C17,"") | AY198: =IF(config!C17<>"",config!C17&" to "&config!C18,"") | BK198: =IF(config!C17<>"",config!C17&" to "&config!C19,"") | BW198: =config!C17 -> 0
C200: =C138 -> CAR | D200: =D138 -> LGV1 | E200: =E138 -> LGV2 | F200: =F138 -> MGV | G200: =G138 -> HGV1 | H200: =H138 -> HGV2 | I200: =I138 -> PSV | J200: =J138 -> MB | K200: =K138 -> CYC | O200: =O138 -> CAR | P200: =P138 -> LGV1 | Q200: =Q138 -> LGV2 | R200: =R138 -> MGV | S200: =S138 -> HGV1 | T200: =T138 -> HGV2 | U200: =U138 -> PSV | V200: =V138 -> MB | W200: =W138 -> CYC | AA200: =AA138 -> CAR | AB200: =AB138 -> LGV1 | AC200: =AC138 -> LGV2 | AD200: =AD138 -> MGV | AE200: =AE138 -> HGV1 | AF200: =AF138 -> HGV2 | AG200: =AG138 -> PSV | AH200: =AH138 -> MB | AI200: =AI138 -> CYC | AM200: =AM138 -> CAR | AN200: =AN138 -> LGV1 | AO200: =AO138 -> LGV2 | AP200: =AP138 -> MGV | AQ200: =AQ138 -> HGV1 | AR200: =AR138 -> HGV2 | AS200: =AS138 -> PSV | AT200: =AT138 -> MB | AU200: =AU138 -> CYC | AY200: =AY138 -> CAR | AZ200: =AZ138 -> LGV1 | BA200: =BA138 -> LGV2 | BB200: =BB138 -> MGV | BC200: =BC138 -> HGV1 | BD200: =BD138 -> HGV2 | BE200: =BE138 -> PSV | BF200: =BF138 -> MB | BG200: =BG138 -> CYC | BK200: =BK138 -> CAR | BL200: =BL138 -> LGV1 | BM200: =BM138 -> LGV2 | BN200: =BN138 -> MGV | BO200: =BO138 -> HGV1 | BP200: =BP138 -> HGV2 | BQ200: =BQ138 -> PSV | BR200: =BR138 -> MB | BS200: =BS138 -> CYC | BW200: =BK200 -> CAR | BX200: =BL200 -> LGV1 | BY200: =BM200 -> LGV2 | BZ200: =BN200 -> MGV | CA200: =BO200 -> HGV1 | CB200: =BP200 -> HGV2 | CC200: =BQ200 -> PSV | CD200: =BR200 -> MB | CE200: =BS200 -> CYC
B201: =B139 -> 0.25 | L201: {=IF(ISBLANK(C201:K201),"",SUM(C201:K201))} | N201: =N139 -> 0.25 | X201: {=IF(ISBLANK(O201:W201),"",SUM(O201:W201))} | Z201: =Z139 -> 0.25 | AJ201: {=IF(ISBLANK(AA201:AI201),"",SUM(AA201:AI201))} | AL201: =AL139 -> 0.25 | AV201: {=IF(ISBLANK(AM201:AU201),"",SUM(AM201:AU201))} | AX201: =AX139 -> 0.25 | BH201: {=IF(ISBLANK(AY201:BG201),"",SUM(AY201:BG201))} | BJ201: =BJ139 -> 0.25 | BT201: {=IF(ISBLANK(BK201:BS201),"",SUM(BK201:BS201))} | BV201: =BJ201 -> 0.25 | BW201: =SUM(C201,O201,AA201,AM201,AY201,BK201) -> 0 | BX201: =SUM(D201,P201,AB201,AN201,AZ201,BL201) -> 0 | BY201: =SUM(E201,Q201,AC201,AO201,BA201,BM201) -> 0 | BZ201: =SUM(F201,R201,AD201,AP201,BB201,BN201) -> 0 | CA201: =SUM(G201,S201,AE201,AQ201,BC201,BO201) -> 0 | CB201: =SUM(H201,T201,AF201,AR201,BD201,BP201) -> 0 | CC201: =SUM(I201,U201,AG201,AS201,BE201,BQ201) -> 0 | CD201: =SUM(J201,V201,AH201,AT201,BF201,BR201) -> 0 | CE201: =SUM(K201,W201,AI201,AU201,BG201,BS201) -> 0 | CF201: =IF(BW201="","",SUM(BW201:CE201)) -> 0
B202: =B140 -> 0.26041667 | L202: {=IF(ISBLANK(C202:K202),"",SUM(C202:K202))} | N202: =N140 -> 0.26041667 | X202: {=IF(ISBLANK(O202:W202),"",SUM(O202:W202))} | Z202: =Z140 -> 0.26041667 | AJ202: {=IF(ISBLANK(AA202:AI202),"",SUM(AA202:AI202))} | AL202: =AL140 -> 0.26041667 | AV202: {=IF(ISBLANK(AM202:AU202),"",SUM(AM202:AU202))} | AX202: =AX140 -> 0.26041667 | BH202: {=IF(ISBLANK(AY202:BG202),"",SUM(AY202:BG202))} | BJ202: =BJ140 -> 0.26041667 | BT202: {=IF(ISBLANK(BK202:BS202),"",SUM(BK202:BS202))} | BV202: =BJ202 -> 0.26041667 | BW202: =SUM(C202,O202,AA202,AM202,AY202,BK202) -> 0 | BX202: =SUM(D202,P202,AB202,AN202,AZ202,BL202) -> 0 | BY202: =SUM(E202,Q202,AC202,AO202,BA202,BM202) -> 0 | BZ202: =SUM(F202,R202,AD202,AP202,BB202,BN202) -> 0 | CA202: =SUM(G202,S202,AE202,AQ202,BC202,BO202) -> 0 | CB202: =SUM(H202,T202,AF202,AR202,BD202,BP202) -> 0 | CC202: =SUM(I202,U202,AG202,AS202,BE202,BQ202) -> 0 | CD202: =SUM(J202,V202,AH202,AT202,BF202,BR202) -> 0 | CE202: =SUM(K202,W202,AI202,AU202,BG202,BS202) -> 0 | CF202: =IF(BW202="","",SUM(BW202:CE202)) -> 0
B203: =B141 -> 0.27083333 | L203: {=IF(ISBLANK(C203:K203),"",SUM(C203:K203))} | N203: =N141 -> 0.27083333 | X203: {=IF(ISBLANK(O203:W203),"",SUM(O203:W203))} | Z203: =Z141 -> 0.27083333 | AJ203: {=IF(ISBLANK(AA203:AI203),"",SUM(AA203:AI203))} | AL203: =AL141 -> 0.27083333 | AV203: {=IF(ISBLANK(AM203:AU203),"",SUM(AM203:AU203))} | AX203: =AX141 -> 0.27083333 | BH203: {=IF(ISBLANK(AY203:BG203),"",SUM(AY203:BG203))} | BJ203: =BJ141 -> 0.27083333 | BT203: {=IF(ISBLANK(BK203:BS203),"",SUM(BK203:BS203))} | BV203: =BJ203 -> 0.27083333 | BW203: =SUM(C203,O203,AA203,AM203,AY203,BK203) -> 0 | BX203: =SUM(D203,P203,AB203,AN203,AZ203,BL203) -> 0 | BY203: =SUM(E203,Q203,AC203,AO203,BA203,BM203) -> 0 | BZ203: =SUM(F203,R203,AD203,AP203,BB203,BN203) -> 0 | CA203: =SUM(G203,S203,AE203,AQ203,BC203,BO203) -> 0 | CB203: =SUM(H203,T203,AF203,AR203,BD203,BP203) -> 0 | CC203: =SUM(I203,U203,AG203,AS203,BE203,BQ203) -> 0 | CD203: =SUM(J203,V203,AH203,AT203,BF203,BR203) -> 0 | CE203: =SUM(K203,W203,AI203,AU203,BG203,BS203) -> 0 | CF203: =IF(BW203="","",SUM(BW203:CE203)) -> 0
B204: =B142 -> 0.28125 | L204: {=IF(ISBLANK(C204:K204),"",SUM(C204:K204))} | N204: =N142 -> 0.28125 | X204: {=IF(ISBLANK(O204:W204),"",SUM(O204:W204))} | Z204: =Z142 -> 0.28125 | AJ204: {=IF(ISBLANK(AA204:AI204),"",SUM(AA204:AI204))} | AL204: =AL142 -> 0.28125 | AV204: {=IF(ISBLANK(AM204:AU204),"",SUM(AM204:AU204))} | AX204: =AX142 -> 0.28125 | BH204: {=IF(ISBLANK(AY204:BG204),"",SUM(AY204:BG204))} | BJ204: =BJ142 -> 0.28125 | BT204: {=IF(ISBLANK(BK204:BS204),"",SUM(BK204:BS204))} | BV204: =BJ204 -> 0.28125 | BW204: =SUM(C204,O204,AA204,AM204,AY204,BK204) -> 0 | BX204: =SUM(D204,P204,AB204,AN204,AZ204,BL204) -> 0 | BY204: =SUM(E204,Q204,AC204,AO204,BA204,BM204) -> 0 | BZ204: =SUM(F204,R204,AD204,AP204,BB204,BN204) -> 0 | CA204: =SUM(G204,S204,AE204,AQ204,BC204,BO204) -> 0 | CB204: =SUM(H204,T204,AF204,AR204,BD204,BP204) -> 0 | CC204: =SUM(I204,U204,AG204,AS204,BE204,BQ204) -> 0 | CD204: =SUM(J204,V204,AH204,AT204,BF204,BR204) -> 0 | CE204: =SUM(K204,W204,AI204,AU204,BG204,BS204) -> 0 | CF204: =IF(BW204="","",SUM(BW204:CE204)) -> 0
B205: =B143 -> 0.29166667 | L205: {=IF(ISBLANK(C205:K205),"",SUM(C205:K205))} | N205: =N143 -> 0.29166667 | X205: {=IF(ISBLANK(O205:W205),"",SUM(O205:W205))} | Z205: =Z143 -> 0.29166667 | AJ205: {=IF(ISBLANK(AA205:AI205),"",SUM(AA205:AI205))} | AL205: =AL143 -> 0.29166667 | AV205: {=IF(ISBLANK(AM205:AU205),"",SUM(AM205:AU205))} | AX205: =AX143 -> 0.29166667 | BH205: {=IF(ISBLANK(AY205:BG205),"",SUM(AY205:BG205))} | BJ205: =BJ143 -> 0.29166667 | BT205: {=IF(ISBLANK(BK205:BS205),"",SUM(BK205:BS205))} | BV205: =BJ205 -> 0.29166667 | BW205: =SUM(C205,O205,AA205,AM205,AY205,BK205) -> 0 | BX205: =SUM(D205,P205,AB205,AN205,AZ205,BL205) -> 0 | BY205: =SUM(E205,Q205,AC205,AO205,BA205,BM205) -> 0 | BZ205: =SUM(F205,R205,AD205,AP205,BB205,BN205) -> 0 | CA205: =SUM(G205,S205,AE205,AQ205,BC205,BO205) -> 0 | CB205: =SUM(H205,T205,AF205,AR205,BD205,BP205) -> 0 | CC205: =SUM(I205,U205,AG205,AS205,BE205,BQ205) -> 0 | CD205: =SUM(J205,V205,AH205,AT205,BF205,BR205) -> 0 | CE205: =SUM(K205,W205,AI205,AU205,BG205,BS205) -> 0 | CF205: =IF(BW205="","",SUM(BW205:CE205)) -> 0
B206: =B144 -> 0.30208333 | L206: {=IF(ISBLANK(C206:K206),"",SUM(C206:K206))} | N206: =N144 -> 0.30208333 | X206: {=IF(ISBLANK(O206:W206),"",SUM(O206:W206))} | Z206: =Z144 -> 0.30208333 | AJ206: {=IF(ISBLANK(AA206:AI206),"",SUM(AA206:AI206))} | AL206: =AL144 -> 0.30208333 | AV206: {=IF(ISBLANK(AM206:AU206),"",SUM(AM206:AU206))} | AX206: =AX144 -> 0.30208333 | BH206: {=IF(ISBLANK(AY206:BG206),"",SUM(AY206:BG206))} | BJ206: =BJ144 -> 0.30208333 | BT206: {=IF(ISBLANK(BK206:BS206),"",SUM(BK206:BS206))} | BV206: =BJ206 -> 0.30208333 | BW206: =SUM(C206,O206,AA206,AM206,AY206,BK206) -> 0 | BX206: =SUM(D206,P206,AB206,AN206,AZ206,BL206) -> 0 | BY206: =SUM(E206,Q206,AC206,AO206,BA206,BM206) -> 0 | BZ206: =SUM(F206,R206,AD206,AP206,BB206,BN206) -> 0 | CA206: =SUM(G206,S206,AE206,AQ206,BC206,BO206) -> 0 | CB206: =SUM(H206,T206,AF206,AR206,BD206,BP206) -> 0 | CC206: =SUM(I206,U206,AG206,AS206,BE206,BQ206) -> 0 | CD206: =SUM(J206,V206,AH206,AT206,BF206,BR206) -> 0 | CE206: =SUM(K206,W206,AI206,AU206,BG206,BS206) -> 0 | CF206: =IF(BW206="","",SUM(BW206:CE206)) -> 0
B207: =B145 -> 0.3125 | L207: {=IF(ISBLANK(C207:K207),"",SUM(C207:K207))} | N207: =N145 -> 0.3125 | X207: {=IF(ISBLANK(O207:W207),"",SUM(O207:W207))} | Z207: =Z145 -> 0.3125 | AJ207: {=IF(ISBLANK(AA207:AI207),"",SUM(AA207:AI207))} | AL207: =AL145 -> 0.3125 | AV207: {=IF(ISBLANK(AM207:AU207),"",SUM(AM207:AU207))} | AX207: =AX145 -> 0.3125 | BH207: {=IF(ISBLANK(AY207:BG207),"",SUM(AY207:BG207))} | BJ207: =BJ145 -> 0.3125 | BT207: {=IF(ISBLANK(BK207:BS207),"",SUM(BK207:BS207))} | BV207: =BJ207 -> 0.3125 | BW207: =SUM(C207,O207,AA207,AM207,AY207,BK207) -> 0 | BX207: =SUM(D207,P207,AB207,AN207,AZ207,BL207) -> 0 | BY207: =SUM(E207,Q207,AC207,AO207,BA207,BM207) -> 0 | BZ207: =SUM(F207,R207,AD207,AP207,BB207,BN207) -> 0 | CA207: =SUM(G207,S207,AE207,AQ207,BC207,BO207) -> 0 | CB207: =SUM(H207,T207,AF207,AR207,BD207,BP207) -> 0 | CC207: =SUM(I207,U207,AG207,AS207,BE207,BQ207) -> 0 | CD207: =SUM(J207,V207,AH207,AT207,BF207,BR207) -> 0 | CE207: =SUM(K207,W207,AI207,AU207,BG207,BS207) -> 0 | CF207: =IF(BW207="","",SUM(BW207:CE207)) -> 0
B208: =B146 -> 0.32291667 | L208: {=IF(ISBLANK(C208:K208),"",SUM(C208:K208))} | N208: =N146 -> 0.32291667 | X208: {=IF(ISBLANK(O208:W208),"",SUM(O208:W208))} | Z208: =Z146 -> 0.32291667 | AJ208: {=IF(ISBLANK(AA208:AI208),"",SUM(AA208:AI208))} | AL208: =AL146 -> 0.32291667 | AV208: {=IF(ISBLANK(AM208:AU208),"",SUM(AM208:AU208))} | AX208: =AX146 -> 0.32291667 | BH208: {=IF(ISBLANK(AY208:BG208),"",SUM(AY208:BG208))} | BJ208: =BJ146 -> 0.32291667 | BT208: {=IF(ISBLANK(BK208:BS208),"",SUM(BK208:BS208))} | BV208: =BJ208 -> 0.32291667 | BW208: =SUM(C208,O208,AA208,AM208,AY208,BK208) -> 0 | BX208: =SUM(D208,P208,AB208,AN208,AZ208,BL208) -> 0 | BY208: =SUM(E208,Q208,AC208,AO208,BA208,BM208) -> 0 | BZ208: =SUM(F208,R208,AD208,AP208,BB208,BN208) -> 0 | CA208: =SUM(G208,S208,AE208,AQ208,BC208,BO208) -> 0 | CB208: =SUM(H208,T208,AF208,AR208,BD208,BP208) -> 0 | CC208: =SUM(I208,U208,AG208,AS208,BE208,BQ208) -> 0 | CD208: =SUM(J208,V208,AH208,AT208,BF208,BR208) -> 0 | CE208: =SUM(K208,W208,AI208,AU208,BG208,BS208) -> 0 | CF208: =IF(BW208="","",SUM(BW208:CE208)) -> 0
B209: =B147 -> 0.33333333 | L209: {=IF(ISBLANK(C209:K209),"",SUM(C209:K209))} | N209: =N147 -> 0.33333333 | X209: {=IF(ISBLANK(O209:W209),"",SUM(O209:W209))} | Z209: =Z147 -> 0.33333333 | AJ209: {=IF(ISBLANK(AA209:AI209),"",SUM(AA209:AI209))} | AL209: =AL147 -> 0.33333333 | AV209: {=IF(ISBLANK(AM209:AU209),"",SUM(AM209:AU209))} | AX209: =AX147 -> 0.33333333 | BH209: {=IF(ISBLANK(AY209:BG209),"",SUM(AY209:BG209))} | BJ209: =BJ147 -> 0.33333333 | BT209: {=IF(ISBLANK(BK209:BS209),"",SUM(BK209:BS209))} | BV209: =BJ209 -> 0.33333333 | BW209: =SUM(C209,O209,AA209,AM209,AY209,BK209) -> 0 | BX209: =SUM(D209,P209,AB209,AN209,AZ209,BL209) -> 0 | BY209: =SUM(E209,Q209,AC209,AO209,BA209,BM209) -> 0 | BZ209: =SUM(F209,R209,AD209,AP209,BB209,BN209) -> 0 | CA209: =SUM(G209,S209,AE209,AQ209,BC209,BO209) -> 0 | CB209: =SUM(H209,T209,AF209,AR209,BD209,BP209) -> 0 | CC209: =SUM(I209,U209,AG209,AS209,BE209,BQ209) -> 0 | CD209: =SUM(J209,V209,AH209,AT209,BF209,BR209) -> 0 | CE209: =SUM(K209,W209,AI209,AU209,BG209,BS209) -> 0 | CF209: =IF(BW209="","",SUM(BW209:CE209)) -> 0
B210: =B148 -> 0.34375 | L210: {=IF(ISBLANK(C210:K210),"",SUM(C210:K210))} | N210: =N148 -> 0.34375 | X210: {=IF(ISBLANK(O210:W210),"",SUM(O210:W210))} | Z210: =Z148 -> 0.34375 | AJ210: {=IF(ISBLANK(AA210:AI210),"",SUM(AA210:AI210))} | AL210: =AL148 -> 0.34375 | AV210: {=IF(ISBLANK(AM210:AU210),"",SUM(AM210:AU210))} | AX210: =AX148 -> 0.34375 | BH210: {=IF(ISBLANK(AY210:BG210),"",SUM(AY210:BG210))} | BJ210: =BJ148 -> 0.34375 | BT210: {=IF(ISBLANK(BK210:BS210),"",SUM(BK210:BS210))} | BV210: =BJ210 -> 0.34375 | BW210: =SUM(C210,O210,AA210,AM210,AY210,BK210) -> 0 | BX210: =SUM(D210,P210,AB210,AN210,AZ210,BL210) -> 0 | BY210: =SUM(E210,Q210,AC210,AO210,BA210,BM210) -> 0 | BZ210: =SUM(F210,R210,AD210,AP210,BB210,BN210) -> 0 | CA210: =SUM(G210,S210,AE210,AQ210,BC210,BO210) -> 0 | CB210: =SUM(H210,T210,AF210,AR210,BD210,BP210) -> 0 | CC210: =SUM(I210,U210,AG210,AS210,BE210,BQ210) -> 0 | CD210: =SUM(J210,V210,AH210,AT210,BF210,BR210) -> 0 | CE210: =SUM(K210,W210,AI210,AU210,BG210,BS210) -> 0 | CF210: =IF(BW210="","",SUM(BW210:CE210)) -> 0
B211: =B149 -> 0.35416667 | L211: {=IF(ISBLANK(C211:K211),"",SUM(C211:K211))} | N211: =N149 -> 0.35416667 | X211: {=IF(ISBLANK(O211:W211),"",SUM(O211:W211))} | Z211: =Z149 -> 0.35416667 | AJ211: {=IF(ISBLANK(AA211:AI211),"",SUM(AA211:AI211))} | AL211: =AL149 -> 0.35416667 | AV211: {=IF(ISBLANK(AM211:AU211),"",SUM(AM211:AU211))} | AX211: =AX149 -> 0.35416667 | BH211: {=IF(ISBLANK(AY211:BG211),"",SUM(AY211:BG211))} | BJ211: =BJ149 -> 0.35416667 | BT211: {=IF(ISBLANK(BK211:BS211),"",SUM(BK211:BS211))} | BV211: =BJ211 -> 0.35416667 | BW211: =SUM(C211,O211,AA211,AM211,AY211,BK211) -> 0 | BX211: =SUM(D211,P211,AB211,AN211,AZ211,BL211) -> 0 | BY211: =SUM(E211,Q211,AC211,AO211,BA211,BM211) -> 0 | BZ211: =SUM(F211,R211,AD211,AP211,BB211,BN211) -> 0 | CA211: =SUM(G211,S211,AE211,AQ211,BC211,BO211) -> 0 | CB211: =SUM(H211,T211,AF211,AR211,BD211,BP211) -> 0 | CC211: =SUM(I211,U211,AG211,AS211,BE211,BQ211) -> 0 | CD211: =SUM(J211,V211,AH211,AT211,BF211,BR211) -> 0 | CE211: =SUM(K211,W211,AI211,AU211,BG211,BS211) -> 0 | CF211: =IF(BW211="","",SUM(BW211:CE211)) -> 0
B212: =B150 -> 0.36458333 | L212: {=IF(ISBLANK(C212:K212),"",SUM(C212:K212))} | N212: =N150 -> 0.36458333 | X212: {=IF(ISBLANK(O212:W212),"",SUM(O212:W212))} | Z212: =Z150 -> 0.36458333 | AJ212: {=IF(ISBLANK(AA212:AI212),"",SUM(AA212:AI212))} | AL212: =AL150 -> 0.36458333 | AV212: {=IF(ISBLANK(AM212:AU212),"",SUM(AM212:AU212))} | AX212: =AX150 -> 0.36458333 | BH212: {=IF(ISBLANK(AY212:BG212),"",SUM(AY212:BG212))} | BJ212: =BJ150 -> 0.36458333 | BT212: {=IF(ISBLANK(BK212:BS212),"",SUM(BK212:BS212))} | BV212: =BJ212 -> 0.36458333 | BW212: =SUM(C212,O212,AA212,AM212,AY212,BK212) -> 0 | BX212: =SUM(D212,P212,AB212,AN212,AZ212,BL212) -> 0 | BY212: =SUM(E212,Q212,AC212,AO212,BA212,BM212) -> 0 | BZ212: =SUM(F212,R212,AD212,AP212,BB212,BN212) -> 0 | CA212: =SUM(G212,S212,AE212,AQ212,BC212,BO212) -> 0 | CB212: =SUM(H212,T212,AF212,AR212,BD212,BP212) -> 0 | CC212: =SUM(I212,U212,AG212,AS212,BE212,BQ212) -> 0 | CD212: =SUM(J212,V212,AH212,AT212,BF212,BR212) -> 0 | CE212: =SUM(K212,W212,AI212,AU212,BG212,BS212) -> 0 | CF212: =IF(BW212="","",SUM(BW212:CE212)) -> 0
... B252: =B190 -> 0.78125 | L252: {=IF(ISBLANK(C252:K252),"",SUM(C252:K252))} | N252: =N190 -> 0.78125 | X252: {=IF(ISBLANK(O252:W252),"",SUM(O252:W252))} | Z252: =Z190 -> 0.78125 | AJ252: {=IF(ISBLANK(AA252:AI252),"",SUM(AA252:AI252))} | AL252: =AL190 -> 0.78125 | AV252: {=IF(ISBLANK(AM252:AU252),"",SUM(AM252:AU252))} | AX252: =AX190 -> 0.78125 | BH252: {=IF(ISBLANK(AY252:BG252),"",SUM(AY252:BG252))} | BJ252: =BJ190 -> 0.78125 | BT252: {=IF(ISBLANK(BK252:BS252),"",SUM(BK252:BS252))} | BV252: =BJ252 -> 0.78125 | BW252: =SUM(C252,O252,AA252,AM252,AY252,BK252) -> 0 | BX252: =SUM(D252,P252,AB252,AN252,AZ252,BL252) -> 0 | BY252: =SUM(E252,Q252,AC252,AO252,BA252,BM252) -> 0 | BZ252: =SUM(F252,R252,AD252,AP252,BB252,BN252) -> 0 | CA252: =SUM(G252,S252,AE252,AQ252,BC252,BO252) -> 0 | CB252: =SUM(H252,T252,AF252,AR252,BD252,BP252) -> 0 | CC252: =SUM(I252,U252,AG252,AS252,BE252,BQ252) -> 0 | CD252: =SUM(J252,V252,AH252,AT252,BF252,BR252) -> 0 | CE252: =SUM(K252,W252,AI252,AU252,BG252,BS252) -> 0 | CF252: =IF(BW252="","",SUM(BW252:CE252)) -> 0
B253: TOTAL | C253: =SUM(C201:C252) -> 0 | D253: =SUM(D201:D252) -> 0 | E253: =SUM(E201:E252) -> 0 | F253: =SUM(F201:F252) -> 0 | G253: =SUM(G201:G252) -> 0 | H253: =SUM(H201:H252) -> 0 | I253: =SUM(I201:I252) -> 0 | J253: =SUM(J201:J252) -> 0 | ... L253: =SUM(L201:L252) -> 0 | N253: TOTAL | O253: =SUM(O201:O252) -> 0 | P253: =SUM(P201:P252) -> 0 | Q253: =SUM(Q201:Q252) -> 0 | R253: =SUM(R201:R252) -> 0 | S253: =SUM(S201:S252) -> 0 | T253: =SUM(T201:T252) -> 0 | U253: =SUM(U201:U252) -> 0 | V253: =SUM(V201:V252) -> 0 | ... X253: =SUM(X201:X252) -> 0 | Z253: TOTAL | AA253: =SUM(AA201:AA252) -> 0 | AB253: =SUM(AB201:AB252) -> 0 | AC253: =SUM(AC201:AC252) -> 0 | AD253: =SUM(AD201:AD252) -> 0 | AE253: =SUM(AE201:AE252) -> 0 | AF253: =SUM(AF201:AF252) -> 0 | AG253: =SUM(AG201:AG252) -> 0 | AH253: =SUM(AH201:AH252) -> 0 | ... AJ253: =SUM(AJ201:AJ252) -> 0 | AL253: TOTAL | AM253: =SUM(AM201:AM252) -> 0 | AN253: =SUM(AN201:AN252) -> 0 | AO253: =SUM(AO201:AO252) -> 0 | AP253: =SUM(AP201:AP252) -> 0 | AQ253: =SUM(AQ201:AQ252) -> 0 | AR253: =SUM(AR201:AR252) -> 0 | AS253: =SUM(AS201:AS252) -> 0 | AT253: =SUM(AT201:AT252) -> 0 | ... AV253: =SUM(AV201:AV252) -> 0 | AX253: TOTAL | AY253: =SUM(AY201:AY252) -> 0 | AZ253: =SUM(AZ201:AZ252) -> 0 | BA253: =SUM(BA201:BA252) -> 0 | BB253: =SUM(BB201:BB252) -> 0 | BC253: =SUM(BC201:BC252) -> 0 | BD253: =SUM(BD201:BD252) -> 0 | BE253: =SUM(BE201:BE252) -> 0 | BF253: =SUM(BF201:BF252) -> 0 | ... BH253: =SUM(BH201:BH252) -> 0 | BJ253: TOTAL | BK253: =SUM(BK201:BK252) -> 0 | BL253: =SUM(BL201:BL252) -> 0 | BM253: =SUM(BM201:BM252) -> 0 | BN253: =SUM(BN201:BN252) -> 0 | BO253: =SUM(BO201:BO252) -> 0 | BP253: =SUM(BP201:BP252) -> 0 | BQ253: =SUM(BQ201:BQ252) -> 0 | BR253: =SUM(BR201:BR252) -> 0 | ... BT253: =SUM(BT201:BT252) -> 0 | BV253: TOTAL | BW253: =SUM(BW201:BW252) -> 0 | BX253: =SUM(BX201:BX252) -> 0 | BY253: =SUM(BY201:BY252) -> 0 | BZ253: =SUM(BZ201:BZ252) -> 0 | CA253: =SUM(CA201:CA252) -> 0 | CB253: =SUM(CB201:CB252) -> 0 | CC253: =SUM(CC201:CC252) -> 0 | CD253: =SUM(CD201:CD252) -> 0 | ... CF253: =SUM(CF201:CF252) -> 0
C257: =IF(config!C18<>"", "ORIGIN: "&config!C18&" ("&config!F18&")", "eee") -> eee
C259: =config!$AH8&"E" -> E | D259: to | E259: =E11 -> A← | O259: =C259 -> E | P259: to | Q259: =Q11 -> B↗ | AA259: =C259 -> E | AB259: to | AC259: =AC11 -> C↓ | AM259: =C259 -> E | AN259: to | AO259: =AO11 -> D | AY259: =C259 -> E | AZ259: to | BA259: =BA11 -> E | BK259: =C259 -> E | BL259: to | BM259: =BM11 -> F | BW259: ="ENTERING FROM "&C259 -> ENTERING FROM E
C260: =IF(config!C18<>"",config!C18&" to "&config!C14,"") | O260: =IF(config!C18<>"",config!C18&" to "&config!C15,"") | AA260: =IF(config!C18<>"",config!C18&" to "&config!C16,"") | AM260: =IF(config!C18<>"",config!C18&" to "&config!C17,"") | AY260: =IF(config!C18<>"",config!C18&" to "&config!C18,"") | BK260: =IF(config!C18<>"",config!C18&" to "&config!C19,"") | BW260: =config!C18 -> 0
C262: =C200 -> CAR | D262: =D200 -> LGV1 | E262: =E200 -> LGV2 | F262: =F200 -> MGV | G262: =G200 -> HGV1 | H262: =H200 -> HGV2 | I262: =I200 -> PSV | J262: =J200 -> MB | K262: =K200 -> CYC | O262: =O200 -> CAR | P262: =P200 -> LGV1 | Q262: =Q200 -> LGV2 | R262: =R200 -> MGV | S262: =S200 -> HGV1 | T262: =T200 -> HGV2 | U262: =U200 -> PSV | V262: =V200 -> MB | W262: =W200 -> CYC | AA262: =AA200 -> CAR | AB262: =AB200 -> LGV1 | AC262: =AC200 -> LGV2 | AD262: =AD200 -> MGV | AE262: =AE200 -> HGV1 | AF262: =AF200 -> HGV2 | AG262: =AG200 -> PSV | AH262: =AH200 -> MB | AI262: =AI200 -> CYC | AM262: =AM200 -> CAR | AN262: =AN200 -> LGV1 | AO262: =AO200 -> LGV2 | AP262: =AP200 -> MGV | AQ262: =AQ200 -> HGV1 | AR262: =AR200 -> HGV2 | AS262: =AS200 -> PSV | AT262: =AT200 -> MB | AU262: =AU200 -> CYC | AY262: =AY200 -> CAR | AZ262: =AZ200 -> LGV1 | BA262: =BA200 -> LGV2 | BB262: =BB200 -> MGV | BC262: =BC200 -> HGV1 | BD262: =BD200 -> HGV2 | BE262: =BE200 -> PSV | BF262: =BF200 -> MB | BG262: =BG200 -> CYC | BK262: =BK200 -> CAR | BL262: =BL200 -> LGV1 | BM262: =BM200 -> LGV2 | BN262: =BN200 -> MGV | BO262: =BO200 -> HGV1 | BP262: =BP200 -> HGV2 | BQ262: =BQ200 -> PSV | BR262: =BR200 -> MB | BS262: =BS200 -> CYC | BW262: =BK262 -> CAR | BX262: =BL262 -> LGV1 | BY262: =BM262 -> LGV2 | BZ262: =BN262 -> MGV | CA262: =BO262 -> HGV1 | CB262: =BP262 -> HGV2 | CC262: =BQ262 -> PSV | CD262: =BR262 -> MB | CE262: =BS262 -> CYC
B263: =B201 -> 0.25 | L263: {=IF(ISBLANK(C263:K263),"",SUM(C263:K263))} | N263: =N201 -> 0.25 | X263: {=IF(ISBLANK(O263:W263),"",SUM(O263:W263))} | Z263: =Z201 -> 0.25 | AJ263: {=IF(ISBLANK(AA263:AI263),"",SUM(AA263:AI263))} | AL263: =AL201 -> 0.25 | AV263: {=IF(ISBLANK(AM263:AU263),"",SUM(AM263:AU263))} | AX263: =AX201 -> 0.25 | BH263: {=IF(ISBLANK(AY263:BG263),"",SUM(AY263:BG263))} | BJ263: =BJ201 -> 0.25 | BT263: {=IF(ISBLANK(BK263:BS263),"",SUM(BK263:BS263))} | BV263: =BJ263 -> 0.25 | BW263: =SUM(C263,O263,AA263,AM263,AY263,BK263) -> 0 | BX263: =SUM(D263,P263,AB263,AN263,AZ263,BL263) -> 0 | BY263: =SUM(E263,Q263,AC263,AO263,BA263,BM263) -> 0 | BZ263: =SUM(F263,R263,AD263,AP263,BB263,BN263) -> 0 | CA263: =SUM(G263,S263,AE263,AQ263,BC263,BO263) -> 0 | CB263: =SUM(H263,T263,AF263,AR263,BD263,BP263) -> 0 | CC263: =SUM(I263,U263,AG263,AS263,BE263,BQ263) -> 0 | CD263: =SUM(J263,V263,AH263,AT263,BF263,BR263) -> 0 | CE263: =SUM(K263,W263,AI263,AU263,BG263,BS263) -> 0 | CF263: =IF(BW263="","",SUM(BW263:CE263)) -> 0
B264: =B202 -> 0.26041667 | L264: {=IF(ISBLANK(C264:K264),"",SUM(C264:K264))} | N264: =N202 -> 0.26041667 | X264: {=IF(ISBLANK(O264:W264),"",SUM(O264:W264))} | Z264: =Z202 -> 0.26041667 | AJ264: {=IF(ISBLANK(AA264:AI264),"",SUM(AA264:AI264))} | AL264: =AL202 -> 0.26041667 | AV264: {=IF(ISBLANK(AM264:AU264),"",SUM(AM264:AU264))} | AX264: =AX202 -> 0.26041667 | BH264: {=IF(ISBLANK(AY264:BG264),"",SUM(AY264:BG264))} | BJ264: =BJ202 -> 0.26041667 | BT264: {=IF(ISBLANK(BK264:BS264),"",SUM(BK264:BS264))} | BV264: =BJ264 -> 0.26041667 | BW264: =SUM(C264,O264,AA264,AM264,AY264,BK264) -> 0 | BX264: =SUM(D264,P264,AB264,AN264,AZ264,BL264) -> 0 | BY264: =SUM(E264,Q264,AC264,AO264,BA264,BM264) -> 0 | BZ264: =SUM(F264,R264,AD264,AP264,BB264,BN264) -> 0 | CA264: =SUM(G264,S264,AE264,AQ264,BC264,BO264) -> 0 | CB264: =SUM(H264,T264,AF264,AR264,BD264,BP264) -> 0 | CC264: =SUM(I264,U264,AG264,AS264,BE264,BQ264) -> 0 | CD264: =SUM(J264,V264,AH264,AT264,BF264,BR264) -> 0 | CE264: =SUM(K264,W264,AI264,AU264,BG264,BS264) -> 0 | CF264: =IF(BW264="","",SUM(BW264:CE264)) -> 0
B265: =B203 -> 0.27083333 | L265: {=IF(ISBLANK(C265:K265),"",SUM(C265:K265))} | N265: =N203 -> 0.27083333 | X265: {=IF(ISBLANK(O265:W265),"",SUM(O265:W265))} | Z265: =Z203 -> 0.27083333 | AJ265: {=IF(ISBLANK(AA265:AI265),"",SUM(AA265:AI265))} | AL265: =AL203 -> 0.27083333 | AV265: {=IF(ISBLANK(AM265:AU265),"",SUM(AM265:AU265))} | AX265: =AX203 -> 0.27083333 | BH265: {=IF(ISBLANK(AY265:BG265),"",SUM(AY265:BG265))} | BJ265: =BJ203 -> 0.27083333 | BT265: {=IF(ISBLANK(BK265:BS265),"",SUM(BK265:BS265))} | BV265: =BJ265 -> 0.27083333 | BW265: =SUM(C265,O265,AA265,AM265,AY265,BK265) -> 0 | BX265: =SUM(D265,P265,AB265,AN265,AZ265,BL265) -> 0 | BY265: =SUM(E265,Q265,AC265,AO265,BA265,BM265) -> 0 | BZ265: =SUM(F265,R265,AD265,AP265,BB265,BN265) -> 0 | CA265: =SUM(G265,S265,AE265,AQ265,BC265,BO265) -> 0 | CB265: =SUM(H265,T265,AF265,AR265,BD265,BP265) -> 0 | CC265: =SUM(I265,U265,AG265,AS265,BE265,BQ265) -> 0 | CD265: =SUM(J265,V265,AH265,AT265,BF265,BR265) -> 0 | CE265: =SUM(K265,W265,AI265,AU265,BG265,BS265) -> 0 | CF265: =IF(BW265="","",SUM(BW265:CE265)) -> 0
B266: =B204 -> 0.28125 | L266: {=IF(ISBLANK(C266:K266),"",SUM(C266:K266))} | N266: =N204 -> 0.28125 | X266: {=IF(ISBLANK(O266:W266),"",SUM(O266:W266))} | Z266: =Z204 -> 0.28125 | AJ266: {=IF(ISBLANK(AA266:AI266),"",SUM(AA266:AI266))} | AL266: =AL204 -> 0.28125 | AV266: {=IF(ISBLANK(AM266:AU266),"",SUM(AM266:AU266))} | AX266: =AX204 -> 0.28125 | BH266: {=IF(ISBLANK(AY266:BG266),"",SUM(AY266:BG266))} | BJ266: =BJ204 -> 0.28125 | BT266: {=IF(ISBLANK(BK266:BS266),"",SUM(BK266:BS266))} | BV266: =BJ266 -> 0.28125 | BW266: =SUM(C266,O266,AA266,AM266,AY266,BK266) -> 0 | BX266: =SUM(D266,P266,AB266,AN266,AZ266,BL266) -> 0 | BY266: =SUM(E266,Q266,AC266,AO266,BA266,BM266) -> 0 | BZ266: =SUM(F266,R266,AD266,AP266,BB266,BN266) -> 0 | CA266: =SUM(G266,S266,AE266,AQ266,BC266,BO266) -> 0 | CB266: =SUM(H266,T266,AF266,AR266,BD266,BP266) -> 0 | CC266: =SUM(I266,U266,AG266,AS266,BE266,BQ266) -> 0 | CD266: =SUM(J266,V266,AH266,AT266,BF266,BR266) -> 0 | CE266: =SUM(K266,W266,AI266,AU266,BG266,BS266) -> 0 | CF266: =IF(BW266="","",SUM(BW266:CE266)) -> 0
B267: =B205 -> 0.29166667 | L267: {=IF(ISBLANK(C267:K267),"",SUM(C267:K267))} | N267: =N205 -> 0.29166667 | X267: {=IF(ISBLANK(O267:W267),"",SUM(O267:W267))} | Z267: =Z205 -> 0.29166667 | AJ267: {=IF(ISBLANK(AA267:AI267),"",SUM(AA267:AI267))} | AL267: =AL205 -> 0.29166667 | AV267: {=IF(ISBLANK(AM267:AU267),"",SUM(AM267:AU267))} | AX267: =AX205 -> 0.29166667 | BH267: {=IF(ISBLANK(AY267:BG267),"",SUM(AY267:BG267))} | BJ267: =BJ205 -> 0.29166667 | BT267: {=IF(ISBLANK(BK267:BS267),"",SUM(BK267:BS267))} | BV267: =BJ267 -> 0.29166667 | BW267: =SUM(C267,O267,AA267,AM267,AY267,BK267) -> 0 | BX267: =SUM(D267,P267,AB267,AN267,AZ267,BL267) -> 0 | BY267: =SUM(E267,Q267,AC267,AO267,BA267,BM267) -> 0 | BZ267: =SUM(F267,R267,AD267,AP267,BB267,BN267) -> 0 | CA267: =SUM(G267,S267,AE267,AQ267,BC267,BO267) -> 0 | CB267: =SUM(H267,T267,AF267,AR267,BD267,BP267) -> 0 | CC267: =SUM(I267,U267,AG267,AS267,BE267,BQ267) -> 0 | CD267: =SUM(J267,V267,AH267,AT267,BF267,BR267) -> 0 | CE267: =SUM(K267,W267,AI267,AU267,BG267,BS267) -> 0 | CF267: =IF(BW267="","",SUM(BW267:CE267)) -> 0
B268: =B206 -> 0.30208333 | L268: {=IF(ISBLANK(C268:K268),"",SUM(C268:K268))} | N268: =N206 -> 0.30208333 | X268: {=IF(ISBLANK(O268:W268),"",SUM(O268:W268))} | Z268: =Z206 -> 0.30208333 | AJ268: {=IF(ISBLANK(AA268:AI268),"",SUM(AA268:AI268))} | AL268: =AL206 -> 0.30208333 | AV268: {=IF(ISBLANK(AM268:AU268),"",SUM(AM268:AU268))} | AX268: =AX206 -> 0.30208333 | BH268: {=IF(ISBLANK(AY268:BG268),"",SUM(AY268:BG268))} | BJ268: =BJ206 -> 0.30208333 | BT268: {=IF(ISBLANK(BK268:BS268),"",SUM(BK268:BS268))} | BV268: =BJ268 -> 0.30208333 | BW268: =SUM(C268,O268,AA268,AM268,AY268,BK268) -> 0 | BX268: =SUM(D268,P268,AB268,AN268,AZ268,BL268) -> 0 | BY268: =SUM(E268,Q268,AC268,AO268,BA268,BM268) -> 0 | BZ268: =SUM(F268,R268,AD268,AP268,BB268,BN268) -> 0 | CA268: =SUM(G268,S268,AE268,AQ268,BC268,BO268) -> 0 | CB268: =SUM(H268,T268,AF268,AR268,BD268,BP268) -> 0 | CC268: =SUM(I268,U268,AG268,AS268,BE268,BQ268) -> 0 | CD268: =SUM(J268,V268,AH268,AT268,BF268,BR268) -> 0 | CE268: =SUM(K268,W268,AI268,AU268,BG268,BS268) -> 0 | CF268: =IF(BW268="","",SUM(BW268:CE268)) -> 0
B269: =B207 -> 0.3125 | L269: {=IF(ISBLANK(C269:K269),"",SUM(C269:K269))} | N269: =N207 -> 0.3125 | X269: {=IF(ISBLANK(O269:W269),"",SUM(O269:W269))} | Z269: =Z207 -> 0.3125 | AJ269: {=IF(ISBLANK(AA269:AI269),"",SUM(AA269:AI269))} | AL269: =AL207 -> 0.3125 | AV269: {=IF(ISBLANK(AM269:AU269),"",SUM(AM269:AU269))} | AX269: =AX207 -> 0.3125 | BH269: {=IF(ISBLANK(AY269:BG269),"",SUM(AY269:BG269))} | BJ269: =BJ207 -> 0.3125 | BT269: {=IF(ISBLANK(BK269:BS269),"",SUM(BK269:BS269))} | BV269: =BJ269 -> 0.3125 | BW269: =SUM(C269,O269,AA269,AM269,AY269,BK269) -> 0 | BX269: =SUM(D269,P269,AB269,AN269,AZ269,BL269) -> 0 | BY269: =SUM(E269,Q269,AC269,AO269,BA269,BM269) -> 0 | BZ269: =SUM(F269,R269,AD269,AP269,BB269,BN269) -> 0 | CA269: =SUM(G269,S269,AE269,AQ269,BC269,BO269) -> 0 | CB269: =SUM(H269,T269,AF269,AR269,BD269,BP269) -> 0 | CC269: =SUM(I269,U269,AG269,AS269,BE269,BQ269) -> 0 | CD269: =SUM(J269,V269,AH269,AT269,BF269,BR269) -> 0 | CE269: =SUM(K269,W269,AI269,AU269,BG269,BS269) -> 0 | CF269: =IF(BW269="","",SUM(BW269:CE269)) -> 0
B270: =B208 -> 0.32291667 | L270: {=IF(ISBLANK(C270:K270),"",SUM(C270:K270))} | N270: =N208 -> 0.32291667 | X270: {=IF(ISBLANK(O270:W270),"",SUM(O270:W270))} | Z270: =Z208 -> 0.32291667 | AJ270: {=IF(ISBLANK(AA270:AI270),"",SUM(AA270:AI270))} | AL270: =AL208 -> 0.32291667 | AV270: {=IF(ISBLANK(AM270:AU270),"",SUM(AM270:AU270))} | AX270: =AX208 -> 0.32291667 | BH270: {=IF(ISBLANK(AY270:BG270),"",SUM(AY270:BG270))} | BJ270: =BJ208 -> 0.32291667 | BT270: {=IF(ISBLANK(BK270:BS270),"",SUM(BK270:BS270))} | BV270: =BJ270 -> 0.32291667 | BW270: =SUM(C270,O270,AA270,AM270,AY270,BK270) -> 0 | BX270: =SUM(D270,P270,AB270,AN270,AZ270,BL270) -> 0 | BY270: =SUM(E270,Q270,AC270,AO270,BA270,BM270) -> 0 | BZ270: =SUM(F270,R270,AD270,AP270,BB270,BN270) -> 0 | CA270: =SUM(G270,S270,AE270,AQ270,BC270,BO270) -> 0 | CB270: =SUM(H270,T270,AF270,AR270,BD270,BP270) -> 0 | CC270: =SUM(I270,U270,AG270,AS270,BE270,BQ270) -> 0 | CD270: =SUM(J270,V270,AH270,AT270,BF270,BR270) -> 0 | CE270: =SUM(K270,W270,AI270,AU270,BG270,BS270) -> 0 | CF270: =IF(BW270="","",SUM(BW270:CE270)) -> 0
B271: =B209 -> 0.33333333 | L271: {=IF(ISBLANK(C271:K271),"",SUM(C271:K271))} | N271: =N209 -> 0.33333333 | X271: {=IF(ISBLANK(O271:W271),"",SUM(O271:W271))} | Z271: =Z209 -> 0.33333333 | AJ271: {=IF(ISBLANK(AA271:AI271),"",SUM(AA271:AI271))} | AL271: =AL209 -> 0.33333333 | AV271: {=IF(ISBLANK(AM271:AU271),"",SUM(AM271:AU271))} | AX271: =AX209 -> 0.33333333 | BH271: {=IF(ISBLANK(AY271:BG271),"",SUM(AY271:BG271))} | BJ271: =BJ209 -> 0.33333333 | BT271: {=IF(ISBLANK(BK271:BS271),"",SUM(BK271:BS271))} | BV271: =BJ271 -> 0.33333333 | BW271: =SUM(C271,O271,AA271,AM271,AY271,BK271) -> 0 | BX271: =SUM(D271,P271,AB271,AN271,AZ271,BL271) -> 0 | BY271: =SUM(E271,Q271,AC271,AO271,BA271,BM271) -> 0 | BZ271: =SUM(F271,R271,AD271,AP271,BB271,BN271) -> 0 | CA271: =SUM(G271,S271,AE271,AQ271,BC271,BO271) -> 0 | CB271: =SUM(H271,T271,AF271,AR271,BD271,BP271) -> 0 | CC271: =SUM(I271,U271,AG271,AS271,BE271,BQ271) -> 0 | CD271: =SUM(J271,V271,AH271,AT271,BF271,BR271) -> 0 | CE271: =SUM(K271,W271,AI271,AU271,BG271,BS271) -> 0 | CF271: =IF(BW271="","",SUM(BW271:CE271)) -> 0
B272: =B210 -> 0.34375 | L272: {=IF(ISBLANK(C272:K272),"",SUM(C272:K272))} | N272: =N210 -> 0.34375 | X272: {=IF(ISBLANK(O272:W272),"",SUM(O272:W272))} | Z272: =Z210 -> 0.34375 | AJ272: {=IF(ISBLANK(AA272:AI272),"",SUM(AA272:AI272))} | AL272: =AL210 -> 0.34375 | AV272: {=IF(ISBLANK(AM272:AU272),"",SUM(AM272:AU272))} | AX272: =AX210 -> 0.34375 | BH272: {=IF(ISBLANK(AY272:BG272),"",SUM(AY272:BG272))} | BJ272: =BJ210 -> 0.34375 | BT272: {=IF(ISBLANK(BK272:BS272),"",SUM(BK272:BS272))} | BV272: =BJ272 -> 0.34375 | BW272: =SUM(C272,O272,AA272,AM272,AY272,BK272) -> 0 | BX272: =SUM(D272,P272,AB272,AN272,AZ272,BL272) -> 0 | BY272: =SUM(E272,Q272,AC272,AO272,BA272,BM272) -> 0 | BZ272: =SUM(F272,R272,AD272,AP272,BB272,BN272) -> 0 | CA272: =SUM(G272,S272,AE272,AQ272,BC272,BO272) -> 0 | CB272: =SUM(H272,T272,AF272,AR272,BD272,BP272) -> 0 | CC272: =SUM(I272,U272,AG272,AS272,BE272,BQ272) -> 0 | CD272: =SUM(J272,V272,AH272,AT272,BF272,BR272) -> 0 | CE272: =SUM(K272,W272,AI272,AU272,BG272,BS272) -> 0 | CF272: =IF(BW272="","",SUM(BW272:CE272)) -> 0
B273: =B211 -> 0.35416667 | L273: {=IF(ISBLANK(C273:K273),"",SUM(C273:K273))} | N273: =N211 -> 0.35416667 | X273: {=IF(ISBLANK(O273:W273),"",SUM(O273:W273))} | Z273: =Z211 -> 0.35416667 | AJ273: {=IF(ISBLANK(AA273:AI273),"",SUM(AA273:AI273))} | AL273: =AL211 -> 0.35416667 | AV273: {=IF(ISBLANK(AM273:AU273),"",SUM(AM273:AU273))} | AX273: =AX211 -> 0.35416667 | BH273: {=IF(ISBLANK(AY273:BG273),"",SUM(AY273:BG273))} | BJ273: =BJ211 -> 0.35416667 | BT273: {=IF(ISBLANK(BK273:BS273),"",SUM(BK273:BS273))} | BV273: =BJ273 -> 0.35416667 | BW273: =SUM(C273,O273,AA273,AM273,AY273,BK273) -> 0 | BX273: =SUM(D273,P273,AB273,AN273,AZ273,BL273) -> 0 | BY273: =SUM(E273,Q273,AC273,AO273,BA273,BM273) -> 0 | BZ273: =SUM(F273,R273,AD273,AP273,BB273,BN273) -> 0 | CA273: =SUM(G273,S273,AE273,AQ273,BC273,BO273) -> 0 | CB273: =SUM(H273,T273,AF273,AR273,BD273,BP273) -> 0 | CC273: =SUM(I273,U273,AG273,AS273,BE273,BQ273) -> 0 | CD273: =SUM(J273,V273,AH273,AT273,BF273,BR273) -> 0 | CE273: =SUM(K273,W273,AI273,AU273,BG273,BS273) -> 0 | CF273: =IF(BW273="","",SUM(BW273:CE273)) -> 0
B274: =B212 -> 0.36458333 | L274: {=IF(ISBLANK(C274:K274),"",SUM(C274:K274))} | N274: =N212 -> 0.36458333 | X274: {=IF(ISBLANK(O274:W274),"",SUM(O274:W274))} | Z274: =Z212 -> 0.36458333 | AJ274: {=IF(ISBLANK(AA274:AI274),"",SUM(AA274:AI274))} | AL274: =AL212 -> 0.36458333 | AV274: {=IF(ISBLANK(AM274:AU274),"",SUM(AM274:AU274))} | AX274: =AX212 -> 0.36458333 | BH274: {=IF(ISBLANK(AY274:BG274),"",SUM(AY274:BG274))} | BJ274: =BJ212 -> 0.36458333 | BT274: {=IF(ISBLANK(BK274:BS274),"",SUM(BK274:BS274))} | BV274: =BJ274 -> 0.36458333 | BW274: =SUM(C274,O274,AA274,AM274,AY274,BK274) -> 0 | BX274: =SUM(D274,P274,AB274,AN274,AZ274,BL274) -> 0 | BY274: =SUM(E274,Q274,AC274,AO274,BA274,BM274) -> 0 | BZ274: =SUM(F274,R274,AD274,AP274,BB274,BN274) -> 0 | CA274: =SUM(G274,S274,AE274,AQ274,BC274,BO274) -> 0 | CB274: =SUM(H274,T274,AF274,AR274,BD274,BP274) -> 0 | CC274: =SUM(I274,U274,AG274,AS274,BE274,BQ274) -> 0 | CD274: =SUM(J274,V274,AH274,AT274,BF274,BR274) -> 0 | CE274: =SUM(K274,W274,AI274,AU274,BG274,BS274) -> 0 | CF274: =IF(BW274="","",SUM(BW274:CE274)) -> 0
... B314: =B252 -> 0.78125 | L314: {=IF(ISBLANK(C314:K314),"",SUM(C314:K314))} | N314: =N252 -> 0.78125 | X314: {=IF(ISBLANK(O314:W314),"",SUM(O314:W314))} | Z314: =Z252 -> 0.78125 | AJ314: {=IF(ISBLANK(AA314:AI314),"",SUM(AA314:AI314))} | AL314: =AL252 -> 0.78125 | AV314: {=IF(ISBLANK(AM314:AU314),"",SUM(AM314:AU314))} | AX314: =AX252 -> 0.78125 | BH314: {=IF(ISBLANK(AY314:BG314),"",SUM(AY314:BG314))} | BJ314: =BJ252 -> 0.78125 | BT314: {=IF(ISBLANK(BK314:BS314),"",SUM(BK314:BS314))} | BV314: =BJ314 -> 0.78125 | BW314: =SUM(C314,O314,AA314,AM314,AY314,BK314) -> 0 | BX314: =SUM(D314,P314,AB314,AN314,AZ314,BL314) -> 0 | BY314: =SUM(E314,Q314,AC314,AO314,BA314,BM314) -> 0 | BZ314: =SUM(F314,R314,AD314,AP314,BB314,BN314) -> 0 | CA314: =SUM(G314,S314,AE314,AQ314,BC314,BO314) -> 0 | CB314: =SUM(H314,T314,AF314,AR314,BD314,BP314) -> 0 | CC314: =SUM(I314,U314,AG314,AS314,BE314,BQ314) -> 0 | CD314: =SUM(J314,V314,AH314,AT314,BF314,BR314) -> 0 | CE314: =SUM(K314,W314,AI314,AU314,BG314,BS314) -> 0 | CF314: =IF(BW314="","",SUM(BW314:CE314)) -> 0
B315: TOTAL | C315: =SUM(C263:C314) -> 0 | D315: =SUM(D263:D314) -> 0 | E315: =SUM(E263:E314) -> 0 | F315: =SUM(F263:F314) -> 0 | G315: =SUM(G263:G314) -> 0 | H315: =SUM(H263:H314) -> 0 | I315: =SUM(I263:I314) -> 0 | J315: =SUM(J263:J314) -> 0 | ... L315: =SUM(L263:L314) -> 0 | N315: TOTAL | O315: =SUM(O263:O314) -> 0 | P315: =SUM(P263:P314) -> 0 | Q315: =SUM(Q263:Q314) -> 0 | R315: =SUM(R263:R314) -> 0 | S315: =SUM(S263:S314) -> 0 | T315: =SUM(T263:T314) -> 0 | U315: =SUM(U263:U314) -> 0 | V315: =SUM(V263:V314) -> 0 | ... X315: =SUM(X263:X314) -> 0 | Z315: TOTAL | AA315: =SUM(AA263:AA314) -> 0 | AB315: =SUM(AB263:AB314) -> 0 | AC315: =SUM(AC263:AC314) -> 0 | AD315: =SUM(AD263:AD314) -> 0 | AE315: =SUM(AE263:AE314) -> 0 | AF315: =SUM(AF263:AF314) -> 0 | AG315: =SUM(AG263:AG314) -> 0 | AH315: =SUM(AH263:AH314) -> 0 | ... AJ315: =SUM(AJ263:AJ314) -> 0 | AL315: TOTAL | AM315: =SUM(AM263:AM314) -> 0 | AN315: =SUM(AN263:AN314) -> 0 | AO315: =SUM(AO263:AO314) -> 0 | AP315: =SUM(AP263:AP314) -> 0 | AQ315: =SUM(AQ263:AQ314) -> 0 | AR315: =SUM(AR263:AR314) -> 0 | AS315: =SUM(AS263:AS314) -> 0 | AT315: =SUM(AT263:AT314) -> 0 | ... AV315: =SUM(AV263:AV314) -> 0 | AX315: TOTAL | AY315: =SUM(AY263:AY314) -> 0 | AZ315: =SUM(AZ263:AZ314) -> 0 | BA315: =SUM(BA263:BA314) -> 0 | BB315: =SUM(BB263:BB314) -> 0 | BC315: =SUM(BC263:BC314) -> 0 | BD315: =SUM(BD263:BD314) -> 0 | BE315: =SUM(BE263:BE314) -> 0 | BF315: =SUM(BF263:BF314) -> 0 | ... BH315: =SUM(BH263:BH314) -> 0 | BJ315: TOTAL | BK315: =SUM(BK263:BK314) -> 0 | BL315: =SUM(BL263:BL314) -> 0 | BM315: =SUM(BM263:BM314) -> 0 | BN315: =SUM(BN263:BN314) -> 0 | BO315: =SUM(BO263:BO314) -> 0 | BP315: =SUM(BP263:BP314) -> 0 | BQ315: =SUM(BQ263:BQ314) -> 0 | BR315: =SUM(BR263:BR314) -> 0 | ... BT315: =SUM(BT263:BT314) -> 0 | BV315: TOTAL | BW315: =SUM(BW263:BW314) -> 0 | BX315: =SUM(BX263:BX314) -> 0 | BY315: =SUM(BY263:BY314) -> 0 | BZ315: =SUM(BZ263:BZ314) -> 0 | CA315: =SUM(CA263:CA314) -> 0 | CB315: =SUM(CB263:CB314) -> 0 | CC315: =SUM(CC263:CC314) -> 0 | CD315: =SUM(CD263:CD314) -> 0 | ... CF315: =SUM(CF263:CF314) -> 0
C319: =IF(config!C19<>"", "ORIGIN: "&config!C19&" ("&config!F19&")", "fff") -> fff
C321: =config!$AH9&"F" -> F | D321: to | E321: =E11 -> A← | O321: =C321 -> F | P321: to | Q321: =Q11 -> B↗ | AA321: =C321 -> F | AB321: to | AC321: =AC11 -> C↓ | AM321: =C321 -> F | AN321: to | AO321: =AO11 -> D | AY321: =C321 -> F | AZ321: to | BA321: =BA11 -> E | BK321: =C321 -> F | BL321: to | BM321: =BM11 -> F | BW321: ="ENTERING FROM "&C321 -> ENTERING FROM F
C322: =IF(config!C19<>"",config!C19&" to "&config!C14,"") | O322: =IF(config!C19<>"",config!C19&" to "&config!C15,"") | AA322: =IF(config!C19<>"",config!C19&" to "&config!C16,"") | AM322: =IF(config!C19<>"",config!C19&" to "&config!C17,"") | AY322: =IF(config!C19<>"",config!C19&" to "&config!C18,"") | BK322: =IF(config!C19<>"",config!C19&" to "&config!C19,"") | BW322: =config!C19 -> 0
C324: =C262 -> CAR | D324: =D262 -> LGV1 | E324: =E262 -> LGV2 | F324: =F262 -> MGV | G324: =G262 -> HGV1 | H324: =H262 -> HGV2 | I324: =I262 -> PSV | J324: =J262 -> MB | K324: =K262 -> CYC | O324: =O262 -> CAR | P324: =P262 -> LGV1 | Q324: =Q262 -> LGV2 | R324: =R262 -> MGV | S324: =S262 -> HGV1 | T324: =T262 -> HGV2 | U324: =U262 -> PSV | V324: =V262 -> MB | W324: =W262 -> CYC | AA324: =AA262 -> CAR | AB324: =AB262 -> LGV1 | AC324: =AC262 -> LGV2 | AD324: =AD262 -> MGV | AE324: =AE262 -> HGV1 | AF324: =AF262 -> HGV2 | AG324: =AG262 -> PSV | AH324: =AH262 -> MB | AI324: =AI262 -> CYC | AM324: =AM262 -> CAR | AN324: =AN262 -> LGV1 | AO324: =AO262 -> LGV2 | AP324: =AP262 -> MGV | AQ324: =AQ262 -> HGV1 | AR324: =AR262 -> HGV2 | AS324: =AS262 -> PSV | AT324: =AT262 -> MB | AU324: =AU262 -> CYC | AY324: =AY262 -> CAR | AZ324: =AZ262 -> LGV1 | BA324: =BA262 -> LGV2 | BB324: =BB262 -> MGV | BC324: =BC262 -> HGV1 | BD324: =BD262 -> HGV2 | BE324: =BE262 -> PSV | BF324: =BF262 -> MB | BG324: =BG262 -> CYC | BK324: =BK262 -> CAR | BL324: =BL262 -> LGV1 | BM324: =BM262 -> LGV2 | BN324: =BN262 -> MGV | BO324: =BO262 -> HGV1 | BP324: =BP262 -> HGV2 | BQ324: =BQ262 -> PSV | BR324: =BR262 -> MB | BS324: =BS262 -> CYC | BW324: =BK324 -> CAR | BX324: =BL324 -> LGV1 | BY324: =BM324 -> LGV2 | BZ324: =BN324 -> MGV | CA324: =BO324 -> HGV1 | CB324: =BP324 -> HGV2 | CC324: =BQ324 -> PSV | CD324: =BR324 -> MB | CE324: =BS324 -> CYC
...

Sheet 60MIN
C2: PROJECT | F2: ='15MIN'!F2:L2 -> 25356 HATFIELD PEVEREL
C3: LOCATION | F3: ='15MIN'!F3:L3 -> JCT41 - Duke of Wellington, Hatfield Peverel
C4: DATE | F4: ='15MIN'!F4:L4 -> 45945
C6: WEATHER | F6: ='15MIN'!F6:L6 -> Overcast, max 13°C
C7: DATASET | F7: 60 minute intervals
C9: ='15MIN'!C9:L9 -> ORIGIN: B1137 The Street (west) | BW9: ORIGIN SUMMARY
C11: ='15MIN'!C11 -> →A | D11: ='15MIN'!D11 -> to | E11: ='15MIN'!E11 -> A← | O11: ='15MIN'!O11 -> →A | P11: ='15MIN'!P11 -> to | Q11: ='15MIN'!Q11 -> B↗ | AA11: ='15MIN'!AA11 -> →A | AB11: ='15MIN'!AB11 -> to | AC11: ='15MIN'!AC11 -> C↓ | AM11: ='15MIN'!AM11 -> →A | AN11: ='15MIN'!AN11 -> to | AO11: ='15MIN'!AO11 -> D | AY11: ='15MIN'!AY11 -> →A | AZ11: ='15MIN'!AZ11 -> to | BA11: ='15MIN'!BA11 -> E | BK11: ='15MIN'!BK11 -> →A | BL11: ='15MIN'!BL11 -> to | BM11: ='15MIN'!BM11 -> F | BW11: ='15MIN'!BW11:CF11 -> ENTERING FROM →A
C12: ='15MIN'!C12:L12 -> B1137 The Street to B1137 The Street | O12: ='15MIN'!O12:X12 -> B1137 The Street to B1137 The Street | AA12: ='15MIN'!AA12:AJ12 -> B1137 The Street to B1019 Maldon Rd | AM12: ='15MIN'!AM12:AV12 | AY12: ='15MIN'!AY12:BH12 | BK12: ='15MIN'!BK12:BT12 | BW12: =config!C14 -> B1137 The Street
C14: ='15MIN'!C14 -> CAR | D14: ='15MIN'!D14 -> LGV1 | E14: ='15MIN'!E14 -> LGV2 | F14: ='15MIN'!F14 -> MGV | G14: ='15MIN'!G14 -> HGV1 | H14: ='15MIN'!H14 -> HGV2 | I14: ='15MIN'!I14 -> PSV | J14: ='15MIN'!J14 -> MB | K14: ='15MIN'!K14 -> CYC | O14: =C14 -> CAR | P14: =D14 -> LGV1 | Q14: =E14 -> LGV2 | R14: =F14 -> MGV | S14: =G14 -> HGV1 | T14: =H14 -> HGV2 | U14: =I14 -> PSV | V14: =J14 -> MB | W14: =K14 -> CYC | AA14: =O14 -> CAR | AB14: =P14 -> LGV1 | AC14: =Q14 -> LGV2 | AD14: =R14 -> MGV | AE14: =S14 -> HGV1 | AF14: =T14 -> HGV2 | AG14: =U14 -> PSV | AH14: =V14 -> MB | AI14: =W14 -> CYC | AM14: =AA14 -> CAR | AN14: =AB14 -> LGV1 | AO14: =AC14 -> LGV2 | AP14: =AD14 -> MGV | AQ14: =AE14 -> HGV1 | AR14: =AF14 -> HGV2 | AS14: =AG14 -> PSV | AT14: =AH14 -> MB | AU14: =AI14 -> CYC | AY14: =AM14 -> CAR | AZ14: =AN14 -> LGV1 | BA14: =AO14 -> LGV2 | BB14: =AP14 -> MGV | BC14: =AQ14 -> HGV1 | BD14: =AR14 -> HGV2 | BE14: =AS14 -> PSV | BF14: =AT14 -> MB | BG14: =AU14 -> CYC | BK14: =AY14 -> CAR | BL14: =AZ14 -> LGV1 | BM14: =BA14 -> LGV2 | BN14: =BB14 -> MGV | BO14: =BC14 -> HGV1 | BP14: =BD14 -> HGV2 | BQ14: =BE14 -> PSV | BR14: =BF14 -> MB | BS14: =BG14 -> CYC | BW14: =BK14 -> CAR | BX14: =BL14 -> LGV1 | BY14: =BM14 -> LGV2 | BZ14: =BN14 -> MGV | CA14: =BO14 -> HGV1 | CB14: =BP14 -> HGV2 | CC14: =BQ14 -> PSV | CD14: =BR14 -> MB | CE14: =BS14 -> CYC
B15: =config!C7 -> 0.25 | C15: =SUM('15MIN'!C15:C18) -> 0 | D15: =SUM('15MIN'!D15:D18) -> 0 | E15: =SUM('15MIN'!E15:E18) -> 0 | F15: =SUM('15MIN'!F15:F18) -> 0 | G15: =SUM('15MIN'!G15:G18) -> 0 | H15: =SUM('15MIN'!H15:H18) -> 0 | I15: =SUM('15MIN'!I15:I18) -> 0 | J15: =SUM('15MIN'!J15:J18) -> 0 | K15: =SUM('15MIN'!K15:K18) -> 0 | L15: =SUM(C15:K15) -> 0 | N15: =B15 -> 0.25 | O15: =SUM('15MIN'!O15:O18) -> 64 | P15: =SUM('15MIN'!P15:P18) -> 8 | Q15: =SUM('15MIN'!Q15:Q18) -> 12 | R15: =SUM('15MIN'!R15:R18) -> 0 | S15: =SUM('15MIN'!S15:S18) -> 2 | T15: =SUM('15MIN'!T15:T18) -> 2 | U15: =SUM('15MIN'!U15:U18) -> 2 | V15: =SUM('15MIN'!V15:V18) -> 0 | W15: =SUM('15MIN'!W15:W18) -> 0 | X15: =SUM(O15:W15) -> 90 | Z15: =N15 -> 0.25 | AA15: =SUM('15MIN'!AA15:AA18) -> 64 | AB15: =SUM('15MIN'!AB15:AB18) -> 8 | AC15: =SUM('15MIN'!AC15:AC18) -> 8 | AD15: =SUM('15MIN'!AD15:AD18) -> 0 | AE15: =SUM('15MIN'!AE15:AE18) -> 6 | AF15: =SUM('15MIN'!AF15:AF18) -> 3 | AG15: =SUM('15MIN'!AG15:AG18) -> 0 | AH15: =SUM('15MIN'!AH15:AH18) -> 0 | AI15: =SUM('15MIN'!AI15:AI18) -> 0 | AJ15: =SUM(AA15:AI15) -> 89 | AL15: =Z15 -> 0.25 | AM15: =SUM('15MIN'!AM15:AM18) -> 0 | AN15: =SUM('15MIN'!AN15:AN18) -> 0 | AO15: =SUM('15MIN'!AO15:AO18) -> 0 | AP15: =SUM('15MIN'!AP15:AP18) -> 0 | AQ15: =SUM('15MIN'!AQ15:AQ18) -> 0 | AR15: =SUM('15MIN'!AR15:AR18) -> 0 | AS15: =SUM('15MIN'!AS15:AS18) -> 0 | AT15: =SUM('15MIN'!AT15:AT18) -> 0 | AU15: =SUM('15MIN'!AU15:AU18) -> 0 | AV15: =SUM(AM15:AU15) -> 0 | AX15: =AL15 -> 0.25 | AY15: =SUM('15MIN'!AY15:AY18) -> 0 | AZ15: =SUM('15MIN'!AZ15:AZ18) -> 0 | BA15: =SUM('15MIN'!BA15:BA18) -> 0 | BB15: =SUM('15MIN'!BB15:BB18) -> 0 | BC15: =SUM('15MIN'!BC15:BC18) -> 0 | BD15: =SUM('15MIN'!BD15:BD18) -> 0 | BE15: =SUM('15MIN'!BE15:BE18) -> 0 | BF15: =SUM('15MIN'!BF15:BF18) -> 0 | BG15: =SUM('15MIN'!BG15:BG18) -> 0 | BH15: =SUM(AY15:BG15) -> 0 | BJ15: =AX15 -> 0.25 | BK15: =SUM('15MIN'!BK15:BK18) -> 0 | BL15: =SUM('15MIN'!BL15:BL18) -> 0 | BM15: =SUM('15MIN'!BM15:BM18) -> 0 | BN15: =SUM('15MIN'!BN15:BN18) -> 0 | BO15: =SUM('15MIN'!BO15:BO18) -> 0 | BP15: =SUM('15MIN'!BP15:BP18) -> 0 | BQ15: =SUM('15MIN'!BQ15:BQ18) -> 0 | BR15: =SUM('15MIN'!BR15:BR18) -> 0 | BS15: =SUM('15MIN'!BS15:BS18) -> 0 | BT15: =SUM(BK15:BS15) -> 0 | BV15: =BJ15 -> 0.25 | BW15: =SUM(C15,O15,AA15,AM15,AY15,BK15) -> 128 | BX15: =SUM(D15,P15,AB15,AN15,AZ15,BL15) -> 16 | BY15: =SUM(E15,Q15,AC15,AO15,BA15,BM15) -> 20 | BZ15: =SUM(F15,R15,AD15,AP15,BB15,BN15) -> 0 | CA15: =SUM(G15,S15,AE15,AQ15,BC15,BO15) -> 8 | CB15: =SUM(H15,T15,AF15,AR15,BD15,BP15) -> 5 | CC15: =SUM(I15,U15,AG15,AS15,BE15,BQ15) -> 2 | CD15: =SUM(J15,V15,AH15,AT15,BF15,BR15) -> 0 | CE15: =SUM(K15,W15,AI15,AU15,BG15,BS15) -> 0 | CF15: =IF(BW15<>"",SUM(BW15:CE15),"") -> 179
B16: =B15+TIME(1,0,0) -> 0.29166667 | C16: =SUM('15MIN'!C19:C22) -> 0 | D16: =SUM('15MIN'!D19:D22) -> 0 | E16: =SUM('15MIN'!E19:E22) -> 0 | F16: =SUM('15MIN'!F19:F22) -> 0 | G16: =SUM('15MIN'!G19:G22) -> 0 | H16: =SUM('15MIN'!H19:H22) -> 0 | I16: =SUM('15MIN'!I19:I22) -> 0 | J16: =SUM('15MIN'!J19:J22) -> 0 | K16: =SUM('15MIN'!K19:K22) -> 0 | L16: =SUM(C16:K16) -> 0 | N16: =B16 -> 0.29166667 | O16: =SUM('15MIN'!O19:O22) -> 159 | P16: =SUM('15MIN'!P19:P22) -> 9 | Q16: =SUM('15MIN'!Q19:Q22) -> 17 | R16: =SUM('15MIN'!R19:R22) -> 2 | S16: =SUM('15MIN'!S19:S22) -> 3 | T16: =SUM('15MIN'!T19:T22) -> 1 | U16: =SUM('15MIN'!U19:U22) -> 3 | V16: =SUM('15MIN'!V19:V22) -> 0 | W16: =SUM('15MIN'!W19:W22) -> 0 | X16: =SUM(O16:W16) -> 194 | Z16: =N16 -> 0.29166667 | AA16: =SUM('15MIN'!AA19:AA22) -> 226 | AB16: =SUM('15MIN'!AB19:AB22) -> 24 | AC16: =SUM('15MIN'!AC19:AC22) -> 40 | AD16: =SUM('15MIN'!AD19:AD22) -> 1 | AE16: =SUM('15MIN'!AE19:AE22) -> 4 | AF16: =SUM('15MIN'!AF19:AF22) -> 4 | AG16: =SUM('15MIN'!AG19:AG22) -> 3 | AH16: =SUM('15MIN'!AH19:AH22) -> 1 | AI16: =SUM('15MIN'!AI19:AI22) -> 0 | AJ16: =SUM(AA16:AI16) -> 303 | AL16: =Z16 -> 0.29166667 | AM16: =SUM('15MIN'!AM19:AM22) -> 0 | AN16: =SUM('15MIN'!AN19:AN22) -> 0 | AO16: =SUM('15MIN'!AO19:AO22) -> 0 | AP16: =SUM('15MIN'!AP19:AP22) -> 0 | AQ16: =SUM('15MIN'!AQ19:AQ22) -> 0 | AR16: =SUM('15MIN'!AR19:AR22) -> 0 | AS16: =SUM('15MIN'!AS19:AS22) -> 0 | AT16: =SUM('15MIN'!AT19:AT22) -> 0 | AU16: =SUM('15MIN'!AU19:AU22) -> 0 | AV16: =SUM(AM16:AU16) -> 0 | AX16: =AL16 -> 0.29166667 | AY16: =SUM('15MIN'!AY19:AY22) -> 0 | AZ16: =SUM('15MIN'!AZ19:AZ22) -> 0 | BA16: =SUM('15MIN'!BA19:BA22) -> 0 | BB16: =SUM('15MIN'!BB19:BB22) -> 0 | BC16: =SUM('15MIN'!BC19:BC22) -> 0 | BD16: =SUM('15MIN'!BD19:BD22) -> 0 | BE16: =SUM('15MIN'!BE19:BE22) -> 0 | BF16: =SUM('15MIN'!BF19:BF22) -> 0 | BG16: =SUM('15MIN'!BG19:BG22) -> 0 | BH16: =SUM(AY16:BG16) -> 0 | BJ16: =AX16 -> 0.29166667 | BK16: =SUM('15MIN'!BK19:BK22) -> 0 | BL16: =SUM('15MIN'!BL19:BL22) -> 0 | BM16: =SUM('15MIN'!BM19:BM22) -> 0 | BN16: =SUM('15MIN'!BN19:BN22) -> 0 | BO16: =SUM('15MIN'!BO19:BO22) -> 0 | BP16: =SUM('15MIN'!BP19:BP22) -> 0 | BQ16: =SUM('15MIN'!BQ19:BQ22) -> 0 | BR16: =SUM('15MIN'!BR19:BR22) -> 0 | BS16: =SUM('15MIN'!BS19:BS22) -> 0 | BT16: =SUM(BK16:BS16) -> 0 | BV16: =BJ16 -> 0.29166667 | BW16: =SUM(C16,O16,AA16,AM16,AY16,BK16) -> 385 | BX16: =SUM(D16,P16,AB16,AN16,AZ16,BL16) -> 33 | BY16: =SUM(E16,Q16,AC16,AO16,BA16,BM16) -> 57 | BZ16: =SUM(F16,R16,AD16,AP16,BB16,BN16) -> 3 | CA16: =SUM(G16,S16,AE16,AQ16,BC16,BO16) -> 7 | CB16: =SUM(H16,T16,AF16,AR16,BD16,BP16) -> 5 | CC16: =SUM(I16,U16,AG16,AS16,BE16,BQ16) -> 6 | CD16: =SUM(J16,V16,AH16,AT16,BF16,BR16) -> 1 | CE16: =SUM(K16,W16,AI16,AU16,BG16,BS16) -> 0 | CF16: =IF(BW16<>"",SUM(BW16:CE16),"") -> 497
B17: =B16+TIME(1,0,0) -> 0.33333333 | C17: =SUM('15MIN'!C23:C26) -> 2 | D17: =SUM('15MIN'!D23:D26) -> 0 | E17: =SUM('15MIN'!E23:E26) -> 0 | F17: =SUM('15MIN'!F23:F26) -> 0 | G17: =SUM('15MIN'!G23:G26) -> 0 | H17: =SUM('15MIN'!H23:H26) -> 0 | I17: =SUM('15MIN'!I23:I26) -> 0 | J17: =SUM('15MIN'!J23:J26) -> 0 | K17: =SUM('15MIN'!K23:K26) -> 0 | L17: =SUM(C17:K17) -> 2 | N17: =B17 -> 0.33333333 | O17: =SUM('15MIN'!O23:O26) -> 187 | P17: =SUM('15MIN'!P23:P26) -> 7 | Q17: =SUM('15MIN'!Q23:Q26) -> 19 | R17: =SUM('15MIN'!R23:R26) -> 2 | S17: =SUM('15MIN'!S23:S26) -> 3 | T17: =SUM('15MIN'!T23:T26) -> 1 | U17: =SUM('15MIN'!U23:U26) -> 2 | V17: =SUM('15MIN'!V23:V26) -> 2 | W17: =SUM('15MIN'!W23:W26) -> 0 | X17: =SUM(O17:W17) -> 223 | Z17: =N17 -> 0.33333333 | AA17: =SUM('15MIN'!AA23:AA26) -> 267 | AB17: =SUM('15MIN'!AB23:AB26) -> 10 | AC17: =SUM('15MIN'!AC23:AC26) -> 28 | AD17: =SUM('15MIN'!AD23:AD26) -> 1 | AE17: =SUM('15MIN'!AE23:AE26) -> 3 | AF17: =SUM('15MIN'!AF23:AF26) -> 5 | AG17: =SUM('15MIN'!AG23:AG26) -> 1 | AH17: =SUM('15MIN'!AH23:AH26) -> 2 | AI17: =SUM('15MIN'!AI23:AI26) -> 1 | AJ17: =SUM(AA17:AI17) -> 318 | AL17: =Z17 -> 0.33333333 | AM17: =SUM('15MIN'!AM23:AM26) -> 0 | AN17: =SUM('15MIN'!AN23:AN26) -> 0 | AO17: =SUM('15MIN'!AO23:AO26) -> 0 | AP17: =SUM('15MIN'!AP23:AP26) -> 0 | AQ17: =SUM('15MIN'!AQ23:AQ26) -> 0 | AR17: =SUM('15MIN'!AR23:AR26) -> 0 | AS17: =SUM('15MIN'!AS23:AS26) -> 0 | AT17: =SUM('15MIN'!AT23:AT26) -> 0 | AU17: =SUM('15MIN'!AU23:AU26) -> 0 | AV17: =SUM(AM17:AU17) -> 0 | AX17: =AL17 -> 0.33333333 | AY17: =SUM('15MIN'!AY23:AY26) -> 0 | AZ17: =SUM('15MIN'!AZ23:AZ26) -> 0 | BA17: =SUM('15MIN'!BA23:BA26) -> 0 | BB17: =SUM('15MIN'!BB23:BB26) -> 0 | BC17: =SUM('15MIN'!BC23:BC26) -> 0 | BD17: =SUM('15MIN'!BD23:BD26) -> 0 | BE17: =SUM('15MIN'!BE23:BE26) -> 0 | BF17: =SUM('15MIN'!BF23:BF26) -> 0 | BG17: =SUM('15MIN'!BG23:BG26) -> 0 | BH17: =SUM(AY17:BG17) -> 0 | BJ17: =AX17 -> 0.33333333 | BK17: =SUM('15MIN'!BK23:BK26) -> 0 | BL17: =SUM('15MIN'!BL23:BL26) -> 0 | BM17: =SUM('15MIN'!BM23:BM26) -> 0 | BN17: =SUM('15MIN'!BN23:BN26) -> 0 | BO17: =SUM('15MIN'!BO23:BO26) -> 0 | BP17: =SUM('15MIN'!BP23:BP26) -> 0 | BQ17: =SUM('15MIN'!BQ23:BQ26) -> 0 | BR17: =SUM('15MIN'!BR23:BR26) -> 0 | BS17: =SUM('15MIN'!BS23:BS26) -> 0 | BT17: =SUM(BK17:BS17) -> 0 | BV17: =BJ17 -> 0.33333333 | BW17: =SUM(C17,O17,AA17,AM17,AY17,BK17) -> 456 | BX17: =SUM(D17,P17,AB17,AN17,AZ17,BL17) -> 17 | BY17: =SUM(E17,Q17,AC17,AO17,BA17,BM17) -> 47 | BZ17: =SUM(F17,R17,AD17,AP17,BB17,BN17) -> 3 | CA17: =SUM(G17,S17,AE17,AQ17,BC17,BO17) -> 6 | CB17: =SUM(H17,T17,AF17,AR17,BD17,BP17) -> 6 | CC17: =SUM(I17,U17,AG17,AS17,BE17,BQ17) -> 3 | CD17: =SUM(J17,V17,AH17,AT17,BF17,BR17) -> 4 | CE17: =SUM(K17,W17,AI17,AU17,BG17,BS17) -> 1 | CF17: =IF(BW17<>"",SUM(BW17:CE17),"") -> 543
B18: =B17+TIME(1,0,0) -> 0.375 | C18: =SUM('15MIN'!C27:C30) -> 2 | D18: =SUM('15MIN'!D27:D30) -> 0 | E18: =SUM('15MIN'!E27:E30) -> 0 | F18: =SUM('15MIN'!F27:F30) -> 0 | G18: =SUM('15MIN'!G27:G30) -> 0 | H18: =SUM('15MIN'!H27:H30) -> 0 | I18: =SUM('15MIN'!I27:I30) -> 0 | J18: =SUM('15MIN'!J27:J30) -> 0 | K18: =SUM('15MIN'!K27:K30) -> 0 | L18: =SUM(C18:K18) -> 2 | N18: =B18 -> 0.375 | O18: =SUM('15MIN'!O27:O30) -> 143 | P18: =SUM('15MIN'!P27:P30) -> 4 | Q18: =SUM('15MIN'!Q27:Q30) -> 20 | R18: =SUM('15MIN'!R27:R30) -> 3 | S18: =SUM('15MIN'!S27:S30) -> 4 | T18: =SUM('15MIN'!T27:T30) -> 0 | U18: =SUM('15MIN'!U27:U30) -> 4 | V18: =SUM('15MIN'!V27:V30) -> 0 | W18: =SUM('15MIN'!W27:W30) -> 2 | X18: =SUM(O18:W18) -> 180 | Z18: =N18 -> 0.375 | AA18: =SUM('15MIN'!AA27:AA30) -> 169 | AB18: =SUM('15MIN'!AB27:AB30) -> 10 | AC18: =SUM('15MIN'!AC27:AC30) -> 33 | AD18: =SUM('15MIN'!AD27:AD30) -> 1 | AE18: =SUM('15MIN'!AE27:AE30) -> 13 | AF18: =SUM('15MIN'!AF27:AF30) -> 3 | AG18: =SUM('15MIN'!AG27:AG30) -> 1 | AH18: =SUM('15MIN'!AH27:AH30) -> 0 | AI18: =SUM('15MIN'!AI27:AI30) -> 0 | AJ18: =SUM(AA18:AI18) -> 230 | AL18: =Z18 -> 0.375 | AM18: =SUM('15MIN'!AM27:AM30) -> 0 | AN18: =SUM('15MIN'!AN27:AN30) -> 0 | AO18: =SUM('15MIN'!AO27:AO30) -> 0 | AP18: =SUM('15MIN'!AP27:AP30) -> 0 | AQ18: =SUM('15MIN'!AQ27:AQ30) -> 0 | AR18: =SUM('15MIN'!AR27:AR30) -> 0 | AS18: =SUM('15MIN'!AS27:AS30) -> 0 | AT18: =SUM('15MIN'!AT27:AT30) -> 0 | AU18: =SUM('15MIN'!AU27:AU30) -> 0 | AV18: =SUM(AM18:AU18) -> 0 | AX18: =AL18 -> 0.375 | AY18: =SUM('15MIN'!AY27:AY30) -> 0 | AZ18: =SUM('15MIN'!AZ27:AZ30) -> 0 | BA18: =SUM('15MIN'!BA27:BA30) -> 0 | BB18: =SUM('15MIN'!BB27:BB30) -> 0 | BC18: =SUM('15MIN'!BC27:BC30) -> 0 | BD18: =SUM('15MIN'!BD27:BD30) -> 0 | BE18: =SUM('15MIN'!BE27:BE30) -> 0 | BF18: =SUM('15MIN'!BF27:BF30) -> 0 | BG18: =SUM('15MIN'!BG27:BG30) -> 0 | BH18: =SUM(AY18:BG18) -> 0 | BJ18: =AX18 -> 0.375 | BK18: =SUM('15MIN'!BK27:BK30) -> 0 | BL18: =SUM('15MIN'!BL27:BL30) -> 0 | BM18: =SUM('15MIN'!BM27:BM30) -> 0 | BN18: =SUM('15MIN'!BN27:BN30) -> 0 | BO18: =SUM('15MIN'!BO27:BO30) -> 0 | BP18: =SUM('15MIN'!BP27:BP30) -> 0 | BQ18: =SUM('15MIN'!BQ27:BQ30) -> 0 | BR18: =SUM('15MIN'!BR27:BR30) -> 0 | BS18: =SUM('15MIN'!BS27:BS30) -> 0 | BT18: =SUM(BK18:BS18) -> 0 | BV18: =BJ18 -> 0.375 | BW18: =SUM(C18,O18,AA18,AM18,AY18,BK18) -> 314 | BX18: =SUM(D18,P18,AB18,AN18,AZ18,BL18) -> 14 | BY18: =SUM(E18,Q18,AC18,AO18,BA18,BM18) -> 53 | BZ18: =SUM(F18,R18,AD18,AP18,BB18,BN18) -> 4 | CA18: =SUM(G18,S18,AE18,AQ18,BC18,BO18) -> 17 | CB18: =SUM(H18,T18,AF18,AR18,BD18,BP18) -> 3 | CC18: =SUM(I18,U18,AG18,AS18,BE18,BQ18) -> 5 | CD18: =SUM(J18,V18,AH18,AT18,BF18,BR18) -> 0 | CE18: =SUM(K18,W18,AI18,AU18,BG18,BS18) -> 2 | CF18: =IF(BW18<>"",SUM(BW18:CE18),"") -> 412
B19: =B18+TIME(1,0,0) -> 0.41666667 | C19: =SUM('15MIN'!C31:C34) -> 0 | D19: =SUM('15MIN'!D31:D34) -> 0 | E19: =SUM('15MIN'!E31:E34) -> 0 | F19: =SUM('15MIN'!F31:F34) -> 0 | G19: =SUM('15MIN'!G31:G34) -> 0 | H19: =SUM('15MIN'!H31:H34) -> 0 | I19: =SUM('15MIN'!I31:I34) -> 0 | J19: =SUM('15MIN'!J31:J34) -> 0 | K19: =SUM('15MIN'!K31:K34) -> 0 | L19: =SUM(C19:K19) -> 0 | N19: =B19 -> 0.41666667 | O19: =SUM('15MIN'!O31:O34) -> 115 | P19: =SUM('15MIN'!P31:P34) -> 1 | Q19: =SUM('15MIN'!Q31:Q34) -> 24 | R19: =SUM('15MIN'!R31:R34) -> 0 | S19: =SUM('15MIN'!S31:S34) -> 5 | T19: =SUM('15MIN'!T31:T34) -> 1 | U19: =SUM('15MIN'!U31:U34) -> 1 | V19: =SUM('15MIN'!V31:V34) -> 0 | W19: =SUM('15MIN'!W31:W34) -> 0 | X19: =SUM(O19:W19) -> 147 | Z19: =N19 -> 0.41666667 | AA19: =SUM('15MIN'!AA31:AA34) -> 176 | AB19: =SUM('15MIN'!AB31:AB34) -> 11 | AC19: =SUM('15MIN'!AC31:AC34) -> 32 | AD19: =SUM('15MIN'!AD31:AD34) -> 1 | AE19: =SUM('15MIN'!AE31:AE34) -> 8 | AF19: =SUM('15MIN'!AF31:AF34) -> 3 | AG19: =SUM('15MIN'!AG31:AG34) -> 1 | AH19: =SUM('15MIN'!AH31:AH34) -> 1 | AI19: =SUM('15MIN'!AI31:AI34) -> 0 | AJ19: =SUM(AA19:AI19) -> 233 | AL19: =Z19 -> 0.41666667 | AM19: =SUM('15MIN'!AM31:AM34) -> 0 | AN19: =SUM('15MIN'!AN31:AN34) -> 0 | AO19: =SUM('15MIN'!AO31:AO34) -> 0 | AP19: =SUM('15MIN'!AP31:AP34) -> 0 | AQ19: =SUM('15MIN'!AQ31:AQ34) -> 0 | AR19: =SUM('15MIN'!AR31:AR34) -> 0 | AS19: =SUM('15MIN'!AS31:AS34) -> 0 | AT19: =SUM('15MIN'!AT31:AT34) -> 0 | AU19: =SUM('15MIN'!AU31:AU34) -> 0 | AV19: =SUM(AM19:AU19) -> 0 | AX19: =AL19 -> 0.41666667 | AY19: =SUM('15MIN'!AY31:AY34) -> 0 | AZ19: =SUM('15MIN'!AZ31:AZ34) -> 0 | BA19: =SUM('15MIN'!BA31:BA34) -> 0 | BB19: =SUM('15MIN'!BB31:BB34) -> 0 | BC19: =SUM('15MIN'!BC31:BC34) -> 0 | BD19: =SUM('15MIN'!BD31:BD34) -> 0 | BE19: =SUM('15MIN'!BE31:BE34) -> 0 | BF19: =SUM('15MIN'!BF31:BF34) -> 0 | BG19: =SUM('15MIN'!BG31:BG34) -> 0 | BH19: =SUM(AY19:BG19) -> 0 | BJ19: =AX19 -> 0.41666667 | BK19: =SUM('15MIN'!BK31:BK34) -> 0 | BL19: =SUM('15MIN'!BL31:BL34) -> 0 | BM19: =SUM('15MIN'!BM31:BM34) -> 0 | BN19: =SUM('15MIN'!BN31:BN34) -> 0 | BO19: =SUM('15MIN'!BO31:BO34) -> 0 | BP19: =SUM('15MIN'!BP31:BP34) -> 0 | BQ19: =SUM('15MIN'!BQ31:BQ34) -> 0 | BR19: =SUM('15MIN'!BR31:BR34) -> 0 | BS19: =SUM('15MIN'!BS31:BS34) -> 0 | BT19: =SUM(BK19:BS19) -> 0 | BV19: =BJ19 -> 0.41666667 | BW19: =SUM(C19,O19,AA19,AM19,AY19,BK19) -> 291 | BX19: =SUM(D19,P19,AB19,AN19,AZ19,BL19) -> 12 | BY19: =SUM(E19,Q19,AC19,AO19,BA19,BM19) -> 56 | BZ19: =SUM(F19,R19,AD19,AP19,BB19,BN19) -> 1 | CA19: =SUM(G19,S19,AE19,AQ19,BC19,BO19) -> 13 | CB19: =SUM(H19,T19,AF19,AR19,BD19,BP19) -> 4 | CC19: =SUM(I19,U19,AG19,AS19,BE19,BQ19) -> 2 | CD19: =SUM(J19,V19,AH19,AT19,BF19,BR19) -> 1 | CE19: =SUM(K19,W19,AI19,AU19,BG19,BS19) -> 0 | CF19: =IF(BW19<>"",SUM(BW19:CE19),"") -> 380
B20: =B19+TIME(1,0,0) -> 0.45833333 | C20: =SUM('15MIN'!C35:C38) -> 3 | D20: =SUM('15MIN'!D35:D38) -> 0 | E20: =SUM('15MIN'!E35:E38) -> 0 | F20: =SUM('15MIN'!F35:F38) -> 0 | G20: =SUM('15MIN'!G35:G38) -> 0 | H20: =SUM('15MIN'!H35:H38) -> 0 | I20: =SUM('15MIN'!I35:I38) -> 0 | J20: =SUM('15MIN'!J35:J38) -> 0 | K20: =SUM('15MIN'!K35:K38) -> 0 | L20: =SUM(C20:K20) -> 3 | N20: =B20 -> 0.45833333 | O20: =SUM('15MIN'!O35:O38) -> 139 | P20: =SUM('15MIN'!P35:P38) -> 11 | Q20: =SUM('15MIN'!Q35:Q38) -> 24 | R20: =SUM('15MIN'!R35:R38) -> 1 | S20: =SUM('15MIN'!S35:S38) -> 3 | T20: =SUM('15MIN'!T35:T38) -> 2 | U20: =SUM('15MIN'!U35:U38) -> 4 | V20: =SUM('15MIN'!V35:V38) -> 0 | W20: =SUM('15MIN'!W35:W38) -> 0 | X20: =SUM(O20:W20) -> 184 | Z20: =N20 -> 0.45833333 | AA20: =SUM('15MIN'!AA35:AA38) -> 209 | AB20: =SUM('15MIN'!AB35:AB38) -> 5 | AC20: =SUM('15MIN'!AC35:AC38) -> 26 | AD20: =SUM('15MIN'!AD35:AD38) -> 2 | AE20: =SUM('15MIN'!AE35:AE38) -> 10 | AF20: =SUM('15MIN'!AF35:AF38) -> 4 | AG20: =SUM('15MIN'!AG35:AG38) -> 0 | AH20: =SUM('15MIN'!AH35:AH38) -> 0 | AI20: =SUM('15MIN'!AI35:AI38) -> 0 | AJ20: =SUM(AA20:AI20) -> 256 | AL20: =Z20 -> 0.45833333 | AM20: =SUM('15MIN'!AM35:AM38) -> 0 | AN20: =SUM('15MIN'!AN35:AN38) -> 0 | AO20: =SUM('15MIN'!AO35:AO38) -> 0 | AP20: =SUM('15MIN'!AP35:AP38) -> 0 | AQ20: =SUM('15MIN'!AQ35:AQ38) -> 0 | AR20: =SUM('15MIN'!AR35:AR38) -> 0 | AS20: =SUM('15MIN'!AS35:AS38) -> 0 | AT20: =SUM('15MIN'!AT35:AT38) -> 0 | AU20: =SUM('15MIN'!AU35:AU38) -> 0 | AV20: =SUM(AM20:AU20) -> 0 | AX20: =AL20 -> 0.45833333 | AY20: =SUM('15MIN'!AY35:AY38) -> 0 | AZ20: =SUM('15MIN'!AZ35:AZ38) -> 0 | BA20: =SUM('15MIN'!BA35:BA38) -> 0 | BB20: =SUM('15MIN'!BB35:BB38) -> 0 | BC20: =SUM('15MIN'!BC35:BC38) -> 0 | BD20: =SUM('15MIN'!BD35:BD38) -> 0 | BE20: =SUM('15MIN'!BE35:BE38) -> 0 | BF20: =SUM('15MIN'!BF35:BF38) -> 0 | BG20: =SUM('15MIN'!BG35:BG38) -> 0 | BH20: =SUM(AY20:BG20) -> 0 | BJ20: =AX20 -> 0.45833333 | BK20: =SUM('15MIN'!BK35:BK38) -> 0 | BL20: =SUM('15MIN'!BL35:BL38) -> 0 | BM20: =SUM('15MIN'!BM35:BM38) -> 0 | BN20: =SUM('15MIN'!BN35:BN38) -> 0 | BO20: =SUM('15MIN'!BO35:BO38) -> 0 | BP20: =SUM('15MIN'!BP35:BP38) -> 0 | BQ20: =SUM('15MIN'!BQ35:BQ38) -> 0 | BR20: =SUM('15MIN'!BR35:BR38) -> 0 | BS20: =SUM('15MIN'!BS35:BS38) -> 0 | BT20: =SUM(BK20:BS20) -> 0 | BV20: =BJ20 -> 0.45833333 | BW20: =SUM(C20,O20,AA20,AM20,AY20,BK20) -> 351 | BX20: =SUM(D20,P20,AB20,AN20,AZ20,BL20) -> 16 | BY20: =SUM(E20,Q20,AC20,AO20,BA20,BM20) -> 50 | BZ20: =SUM(F20,R20,AD20,AP20,BB20,BN20) -> 3 | CA20: =SUM(G20,S20,AE20,AQ20,BC20,BO20) -> 13 | CB20: =SUM(H20,T20,AF20,AR20,BD20,BP20) -> 6 | CC20: =SUM(I20,U20,AG20,AS20,BE20,BQ20) -> 4 | CD20: =SUM(J20,V20,AH20,AT20,BF20,BR20) -> 0 | CE20: =SUM(K20,W20,AI20,AU20,BG20,BS20) -> 0 | CF20: =IF(BW20<>"",SUM(BW20:CE20),"") -> 443
B21: =B20+TIME(1,0,0) -> 0.5 | C21: =SUM('15MIN'!C39:C42) -> 0 | D21: =SUM('15MIN'!D39:D42) -> 0 | E21: =SUM('15MIN'!E39:E42) -> 0 | F21: =SUM('15MIN'!F39:F42) -> 0 | G21: =SUM('15MIN'!G39:G42) -> 0 | H21: =SUM('15MIN'!H39:H42) -> 0 | I21: =SUM('15MIN'!I39:I42) -> 0 | J21: =SUM('15MIN'!J39:J42) -> 0 | K21: =SUM('15MIN'!K39:K42) -> 0 | L21: =SUM(C21:K21) -> 0 | N21: =B21 -> 0.5 | O21: =SUM('15MIN'!O39:O42) -> 134 | P21: =SUM('15MIN'!P39:P42) -> 2 | Q21: =SUM('15MIN'!Q39:Q42) -> 26 | R21: =SUM('15MIN'!R39:R42) -> 3 | S21: =SUM('15MIN'!S39:S42) -> 2 | T21: =SUM('15MIN'!T39:T42) -> 0 | U21: =SUM('15MIN'!U39:U42) -> 3 | V21: =SUM('15MIN'!V39:V42) -> 0 | W21: =SUM('15MIN'!W39:W42) -> 0 | X21: =SUM(O21:W21) -> 170 | Z21: =N21 -> 0.5 | AA21: =SUM('15MIN'!AA39:AA42) -> 200 | AB21: =SUM('15MIN'!AB39:AB42) -> 9 | AC21: =SUM('15MIN'!AC39:AC42) -> 32 | AD21: =SUM('15MIN'!AD39:AD42) -> 3 | AE21: =SUM('15MIN'!AE39:AE42) -> 6 | AF21: =SUM('15MIN'!AF39:AF42) -> 1 | AG21: =SUM('15MIN'!AG39:AG42) -> 1 | AH21: =SUM('15MIN'!AH39:AH42) -> 3 | AI21: =SUM('15MIN'!AI39:AI42) -> 0 | AJ21: =SUM(AA21:AI21) -> 255 | AL21: =Z21 -> 0.5 | AM21: =SUM('15MIN'!AM39:AM42) -> 0 | AN21: =SUM('15MIN'!AN39:AN42) -> 0 | AO21: =SUM('15MIN'!AO39:AO42) -> 0 | AP21: =SUM('15MIN'!AP39:AP42) -> 0 | AQ21: =SUM('15MIN'!AQ39:AQ42) -> 0 | AR21: =SUM('15MIN'!AR39:AR42) -> 0 | AS21: =SUM('15MIN'!AS39:AS42) -> 0 | AT21: =SUM('15MIN'!AT39:AT42) -> 0 | AU21: =SUM('15MIN'!AU39:AU42) -> 0 | AV21: =SUM(AM21:AU21) -> 0 | AX21: =AL21 -> 0.5 | AY21: =SUM('15MIN'!AY39:AY42) -> 0 | AZ21: =SUM('15MIN'!AZ39:AZ42) -> 0 | BA21: =SUM('15MIN'!BA39:BA42) -> 0 | BB21: =SUM('15MIN'!BB39:BB42) -> 0 | BC21: =SUM('15MIN'!BC39:BC42) -> 0 | BD21: =SUM('15MIN'!BD39:BD42) -> 0 | BE21: =SUM('15MIN'!BE39:BE42) -> 0 | BF21: =SUM('15MIN'!BF39:BF42) -> 0 | BG21: =SUM('15MIN'!BG39:BG42) -> 0 | BH21: =SUM(AY21:BG21) -> 0 | BJ21: =AX21 -> 0.5 | BK21: =SUM('15MIN'!BK39:BK42) -> 0 | BL21: =SUM('15MIN'!BL39:BL42) -> 0 | BM21: =SUM('15MIN'!BM39:BM42) -> 0 | BN21: =SUM('15MIN'!BN39:BN42) -> 0 | BO21: =SUM('15MIN'!BO39:BO42) -> 0 | BP21: =SUM('15MIN'!BP39:BP42) -> 0 | BQ21: =SUM('15MIN'!BQ39:BQ42) -> 0 | BR21: =SUM('15MIN'!BR39:BR42) -> 0 | BS21: =SUM('15MIN'!BS39:BS42) -> 0 | BT21: =SUM(BK21:BS21) -> 0 | BV21: =BJ21 -> 0.5 | BW21: =SUM(C21,O21,AA21,AM21,AY21,BK21) -> 334 | BX21: =SUM(D21,P21,AB21,AN21,AZ21,BL21) -> 11 | BY21: =SUM(E21,Q21,AC21,AO21,BA21,BM21) -> 58 | BZ21: =SUM(F21,R21,AD21,AP21,BB21,BN21) -> 6 | CA21: =SUM(G21,S21,AE21,AQ21,BC21,BO21) -> 8 | CB21: =SUM(H21,T21,AF21,AR21,BD21,BP21) -> 1 | CC21: =SUM(I21,U21,AG21,AS21,BE21,BQ21) -> 4 | CD21: =SUM(J21,V21,AH21,AT21,BF21,BR21) -> 3 | CE21: =SUM(K21,W21,AI21,AU21,BG21,BS21) -> 0 | CF21: =IF(BW21<>"",SUM(BW21:CE21),"") -> 425
B22: =B21+TIME(1,0,0) -> 0.54166667 | C22: =SUM('15MIN'!C43:C46) -> 4 | D22: =SUM('15MIN'!D43:D46) -> 0 | E22: =SUM('15MIN'!E43:E46) -> 0 | F22: =SUM('15MIN'!F43:F46) -> 0 | G22: =SUM('15MIN'!G43:G46) -> 0 | H22: =SUM('15MIN'!H43:H46) -> 0 | I22: =SUM('15MIN'!I43:I46) -> 0 | J22: =SUM('15MIN'!J43:J46) -> 0 | K22: =SUM('15MIN'!K43:K46) -> 0 | L22: =SUM(C22:K22) -> 4 | N22: =B22 -> 0.54166667 | O22: =SUM('15MIN'!O43:O46) -> 129 | P22: =SUM('15MIN'!P43:P46) -> 6 | Q22: =SUM('15MIN'!Q43:Q46) -> 28 | R22: =SUM('15MIN'!R43:R46) -> 3 | S22: =SUM('15MIN'!S43:S46) -> 2 | T22: =SUM('15MIN'!T43:T46) -> 0 | U22: =SUM('15MIN'!U43:U46) -> 4 | V22: =SUM('15MIN'!V43:V46) -> 1 | W22: =SUM('15MIN'!W43:W46) -> 0 | X22: =SUM(O22:W22) -> 173 | Z22: =N22 -> 0.54166667 | AA22: =SUM('15MIN'!AA43:AA46) -> 212 | AB22: =SUM('15MIN'!AB43:AB46) -> 15 | AC22: =SUM('15MIN'!AC43:AC46) -> 27 | AD22: =SUM('15MIN'!AD43:AD46) -> 2 | AE22: =SUM('15MIN'!AE43:AE46) -> 4 | AF22: =SUM('15MIN'!AF43:AF46) -> 4 | AG22: =SUM('15MIN'!AG43:AG46) -> 0 | AH22: =SUM('15MIN'!AH43:AH46) -> 2 | AI22: =SUM('15MIN'!AI43:AI46) -> 0 | AJ22: =SUM(AA22:AI22) -> 266 | AL22: =Z22 -> 0.54166667 | AM22: =SUM('15MIN'!AM43:AM46) -> 0 | AN22: =SUM('15MIN'!AN43:AN46) -> 0 | AO22: =SUM('15MIN'!AO43:AO46) -> 0 | AP22: =SUM('15MIN'!AP43:AP46) -> 0 | AQ22: =SUM('15MIN'!AQ43:AQ46) -> 0 | AR22: =SUM('15MIN'!AR43:AR46) -> 0 | AS22: =SUM('15MIN'!AS43:AS46) -> 0 | AT22: =SUM('15MIN'!AT43:AT46) -> 0 | AU22: =SUM('15MIN'!AU43:AU46) -> 0 | AV22: =SUM(AM22:AU22) -> 0 | AX22: =AL22 -> 0.54166667 | AY22: =SUM('15MIN'!AY43:AY46) -> 0 | AZ22: =SUM('15MIN'!AZ43:AZ46) -> 0 | BA22: =SUM('15MIN'!BA43:BA46) -> 0 | BB22: =SUM('15MIN'!BB43:BB46) -> 0 | BC22: =SUM('15MIN'!BC43:BC46) -> 0 | BD22: =SUM('15MIN'!BD43:BD46) -> 0 | BE22: =SUM('15MIN'!BE43:BE46) -> 0 | BF22: =SUM('15MIN'!BF43:BF46) -> 0 | BG22: =SUM('15MIN'!BG43:BG46) -> 0 | BH22: =SUM(AY22:BG22) -> 0 | BJ22: =AX22 -> 0.54166667 | BK22: =SUM('15MIN'!BK43:BK46) -> 0 | BL22: =SUM('15MIN'!BL43:BL46) -> 0 | BM22: =SUM('15MIN'!BM43:BM46) -> 0 | BN22: =SUM('15MIN'!BN43:BN46) -> 0 | BO22: =SUM('15MIN'!BO43:BO46) -> 0 | BP22: =SUM('15MIN'!BP43:BP46) -> 0 | BQ22: =SUM('15MIN'!BQ43:BQ46) -> 0 | BR22: =SUM('15MIN'!BR43:BR46) -> 0 | BS22: =SUM('15MIN'!BS43:BS46) -> 0 | BT22: =SUM(BK22:BS22) -> 0 | BV22: =BJ22 -> 0.54166667 | BW22: =SUM(C22,O22,AA22,AM22,AY22,BK22) -> 345 | BX22: =SUM(D22,P22,AB22,AN22,AZ22,BL22) -> 21 | BY22: =SUM(E22,Q22,AC22,AO22,BA22,BM22) -> 55 | BZ22: =SUM(F22,R22,AD22,AP22,BB22,BN22) -> 5 | CA22: =SUM(G22,S22,AE22,AQ22,BC22,BO22) -> 6 | CB22: =SUM(H22,T22,AF22,AR22,BD22,BP22) -> 4 | CC22: =SUM(I22,U22,AG22,AS22,BE22,BQ22) -> 4 | CD22: =SUM(J22,V22,AH22,AT22,BF22,BR22) -> 3 | CE22: =SUM(K22,W22,AI22,AU22,BG22,BS22) -> 0 | CF22: =IF(BW22<>"",SUM(BW22:CE22),"") -> 443
B23: =B22+TIME(1,0,0) -> 0.58333333 | C23: =SUM('15MIN'!C47:C50) -> 4 | D23: =SUM('15MIN'!D47:D50) -> 0 | E23: =SUM('15MIN'!E47:E50) -> 1 | F23: =SUM('15MIN'!F47:F50) -> 0 | G23: =SUM('15MIN'!G47:G50) -> 0 | H23: =SUM('15MIN'!H47:H50) -> 0 | I23: =SUM('15MIN'!I47:I50) -> 0 | J23: =SUM('15MIN'!J47:J50) -> 0 | K23: =SUM('15MIN'!K47:K50) -> 0 | L23: =SUM(C23:K23) -> 5 | N23: =B23 -> 0.58333333 | O23: =SUM('15MIN'!O47:O50) -> 160 | P23: =SUM('15MIN'!P47:P50) -> 6 | Q23: =SUM('15MIN'!Q47:Q50) -> 32 | R23: =SUM('15MIN'!R47:R50) -> 2 | S23: =SUM('15MIN'!S47:S50) -> 2 | T23: =SUM('15MIN'!T47:T50) -> 2 | U23: =SUM('15MIN'!U47:U50) -> 3 | V23: =SUM('15MIN'!V47:V50) -> 1 | W23: =SUM('15MIN'!W47:W50) -> 0 | X23: =SUM(O23:W23) -> 208 | Z23: =N23 -> 0.58333333 | AA23: =SUM('15MIN'!AA47:AA50) -> 236 | AB23: =SUM('15MIN'!AB47:AB50) -> 10 | AC23: =SUM('15MIN'!AC47:AC50) -> 34 | AD23: =SUM('15MIN'!AD47:AD50) -> 1 | AE23: =SUM('15MIN'!AE47:AE50) -> 7 | AF23: =SUM('15MIN'!AF47:AF50) -> 5 | AG23: =SUM('15MIN'!AG47:AG50) -> 1 | AH23: =SUM('15MIN'!AH47:AH50) -> 4 | AI23: =SUM('15MIN'!AI47:AI50) -> 1 | AJ23: =SUM(AA23:AI23) -> 299 | AL23: =Z23 -> 0.58333333 | AM23: =SUM('15MIN'!AM47:AM50) -> 0 | AN23: =SUM('15MIN'!AN47:AN50) -> 0 | AO23: =SUM('15MIN'!AO47:AO50) -> 0 | AP23: =SUM('15MIN'!AP47:AP50) -> 0 | AQ23: =SUM('15MIN'!AQ47:AQ50) -> 0 | AR23: =SUM('15MIN'!AR47:AR50) -> 0 | AS23: =SUM('15MIN'!AS47:AS50) -> 0 | AT23: =SUM('15MIN'!AT47:AT50) -> 0 | AU23: =SUM('15MIN'!AU47:AU50) -> 0 | AV23: =SUM(AM23:AU23) -> 0 | AX23: =AL23 -> 0.58333333 | AY23: =SUM('15MIN'!AY47:AY50) -> 0 | AZ23: =SUM('15MIN'!AZ47:AZ50) -> 0 | BA23: =SUM('15MIN'!BA47:BA50) -> 0 | BB23: =SUM('15MIN'!BB47:BB50) -> 0 | BC23: =SUM('15MIN'!BC47:BC50) -> 0 | BD23: =SUM('15MIN'!BD47:BD50) -> 0 | BE23: =SUM('15MIN'!BE47:BE50) -> 0 | BF23: =SUM('15MIN'!BF47:BF50) -> 0 | BG23: =SUM('15MIN'!BG47:BG50) -> 0 | BH23: =SUM(AY23:BG23) -> 0 | BJ23: =AX23 -> 0.58333333 | BK23: =SUM('15MIN'!BK47:BK50) -> 0 | BL23: =SUM('15MIN'!BL47:BL50) -> 0 | BM23: =SUM('15MIN'!BM47:BM50) -> 0 | BN23: =SUM('15MIN'!BN47:BN50) -> 0 | BO23: =SUM('15MIN'!BO47:BO50) -> 0 | BP23: =SUM('15MIN'!BP47:BP50) -> 0 | BQ23: =SUM('15MIN'!BQ47:BQ50) -> 0 | BR23: =SUM('15MIN'!BR47:BR50) -> 0 | BS23: =SUM('15MIN'!BS47:BS50) -> 0 | BT23: =SUM(BK23:BS23) -> 0 | BV23: =BJ23 -> 0.58333333 | BW23: =SUM(C23,O23,AA23,AM23,AY23,BK23) -> 400 | BX23: =SUM(D23,P23,AB23,AN23,AZ23,BL23) -> 16 | BY23: =SUM(E23,Q23,AC23,AO23,BA23,BM23) -> 67 | BZ23: =SUM(F23,R23,AD23,AP23,BB23,BN23) -> 3 | CA23: =SUM(G23,S23,AE23,AQ23,BC23,BO23) -> 9 | CB23: =SUM(H23,T23,AF23,AR23,BD23,BP23) -> 7 | CC23: =SUM(I23,U23,AG23,AS23,BE23,BQ23) -> 4 | CD23: =SUM(J23,V23,AH23,AT23,BF23,BR23) -> 5 | CE23: =SUM(K23,W23,AI23,AU23,BG23,BS23) -> 1 | CF23: =IF(BW23<>"",SUM(BW23:CE23),"") -> 512
B24: =B23+TIME(1,0,0) -> 0.625 | C24: =SUM('15MIN'!C51:C54) -> 1 | D24: =SUM('15MIN'!D51:D54) -> 0 | E24: =SUM('15MIN'!E51:E54) -> 1 | F24: =SUM('15MIN'!F51:F54) -> 0 | G24: =SUM('15MIN'!G51:G54) -> 0 | H24: =SUM('15MIN'!H51:H54) -> 0 | I24: =SUM('15MIN'!I51:I54) -> 0 | J24: =SUM('15MIN'!J51:J54) -> 0 | K24: =SUM('15MIN'!K51:K54) -> 0 | L24: =SUM(C24:K24) -> 2 | N24: =B24 -> 0.625 | O24: =SUM('15MIN'!O51:O54) -> 204 | P24: =SUM('15MIN'!P51:P54) -> 7 | Q24: =SUM('15MIN'!Q51:Q54) -> 33 | R24: =SUM('15MIN'!R51:R54) -> 4 | S24: =SUM('15MIN'!S51:S54) -> 2 | T24: =SUM('15MIN'!T51:T54) -> 0 | U24: =SUM('15MIN'!U51:U54) -> 0 | V24: =SUM('15MIN'!V51:V54) -> 0 | W24: =SUM('15MIN'!W51:W54) -> 0 | X24: =SUM(O24:W24) -> 250 | Z24: =N24 -> 0.625 | AA24: =SUM('15MIN'!AA51:AA54) -> 324 | AB24: =SUM('15MIN'!AB51:AB54) -> 18 | AC24: =SUM('15MIN'!AC51:AC54) -> 37 | AD24: =SUM('15MIN'!AD51:AD54) -> 2 | AE24: =SUM('15MIN'!AE51:AE54) -> 5 | AF24: =SUM('15MIN'!AF51:AF54) -> 3 | AG24: =SUM('15MIN'!AG51:AG54) -> 1 | AH24: =SUM('15MIN'!AH51:AH54) -> 1 | AI24: =SUM('15MIN'!AI51:AI54) -> 0 | AJ24: =SUM(AA24:AI24) -> 391 | AL24: =Z24 -> 0.625 | AM24: =SUM('15MIN'!AM51:AM54) -> 0 | AN24: =SUM('15MIN'!AN51:AN54) -> 0 | AO24: =SUM('15MIN'!AO51:AO54) -> 0 | AP24: =SUM('15MIN'!AP51:AP54) -> 0 | AQ24: =SUM('15MIN'!AQ51:AQ54) -> 0 | AR24: =SUM('15MIN'!AR51:AR54) -> 0 | AS24: =SUM('15MIN'!AS51:AS54) -> 0 | AT24: =SUM('15MIN'!AT51:AT54) -> 0 | AU24: =SUM('15MIN'!AU51:AU54) -> 0 | AV24: =SUM(AM24:AU24) -> 0 | AX24: =AL24 -> 0.625 | AY24: =SUM('15MIN'!AY51:AY54) -> 0 | AZ24: =SUM('15MIN'!AZ51:AZ54) -> 0 | BA24: =SUM('15MIN'!BA51:BA54) -> 0 | BB24: =SUM('15MIN'!BB51:BB54) -> 0 | BC24: =SUM('15MIN'!BC51:BC54) -> 0 | BD24: =SUM('15MIN'!BD51:BD54) -> 0 | BE24: =SUM('15MIN'!BE51:BE54) -> 0 | BF24: =SUM('15MIN'!BF51:BF54) -> 0 | BG24: =SUM('15MIN'!BG51:BG54) -> 0 | BH24: =SUM(AY24:BG24) -> 0 | BJ24: =AX24 -> 0.625 | BK24: =SUM('15MIN'!BK51:BK54) -> 0 | BL24: =SUM('15MIN'!BL51:BL54) -> 0 | BM24: =SUM('15MIN'!BM51:BM54) -> 0 | BN24: =SUM('15MIN'!BN51:BN54) -> 0 | BO24: =SUM('15MIN'!BO51:BO54) -> 0 | BP24: =SUM('15MIN'!BP51:BP54) -> 0 | BQ24: =SUM('15MIN'!BQ51:BQ54) -> 0 | BR24: =SUM('15MIN'!BR51:BR54) -> 0 | BS24: =SUM('15MIN'!BS51:BS54) -> 0 | BT24: =SUM(BK24:BS24) -> 0 | BV24: =BJ24 -> 0.625 | BW24: =SUM(C24,O24,AA24,AM24,AY24,BK24) -> 529 | BX24: =SUM(D24,P24,AB24,AN24,AZ24,BL24) -> 25 | BY24: =SUM(E24,Q24,AC24,AO24,BA24,BM24) -> 71 | BZ24: =SUM(F24,R24,AD24,AP24,BB24,BN24) -> 6 | CA24: =SUM(G24,S24,AE24,AQ24,BC24,BO24) -> 7 | CB24: =SUM(H24,T24,AF24,AR24,BD24,BP24) -> 3 | CC24: =SUM(I24,U24,AG24,AS24,BE24,BQ24) -> 1 | CD24: =SUM(J24,V24,AH24,AT24,BF24,BR24) -> 1 | CE24: =SUM(K24,W24,AI24,AU24,BG24,BS24) -> 0 | CF24: =IF(BW24<>"",SUM(BW24:CE24),"") -> 643
B25: =B24+TIME(1,0,0) -> 0.66666667 | C25: =SUM('15MIN'!C55:C58) -> 2 | D25: =SUM('15MIN'!D55:D58) -> 0 | E25: =SUM('15MIN'!E55:E58) -> 0 | F25: =SUM('15MIN'!F55:F58) -> 0 | G25: =SUM('15MIN'!G55:G58) -> 0 | H25: =SUM('15MIN'!H55:H58) -> 0 | I25: =SUM('15MIN'!I55:I58) -> 0 | J25: =SUM('15MIN'!J55:J58) -> 0 | K25: =SUM('15MIN'!K55:K58) -> 0 | L25: =SUM(C25:K25) -> 2 | N25: =B25 -> 0.66666667 | O25: =SUM('15MIN'!O55:O58) -> 223 | P25: =SUM('15MIN'!P55:P58) -> 26 | Q25: =SUM('15MIN'!Q55:Q58) -> 30 | R25: =SUM('15MIN'!R55:R58) -> 1 | S25: =SUM('15MIN'!S55:S58) -> 1 | T25: =SUM('15MIN'!T55:T58) -> 0 | U25: =SUM('15MIN'!U55:U58) -> 4 | V25: =SUM('15MIN'!V55:V58) -> 3 | W25: =SUM('15MIN'!W55:W58) -> 0 | X25: =SUM(O25:W25) -> 288 | Z25: =N25 -> 0.66666667 | AA25: =SUM('15MIN'!AA55:AA58) -> 357 | AB25: =SUM('15MIN'!AB55:AB58) -> 24 | AC25: =SUM('15MIN'!AC55:AC58) -> 40 | AD25: =SUM('15MIN'!AD55:AD58) -> 0 | AE25: =SUM('15MIN'!AE55:AE58) -> 7 | AF25: =SUM('15MIN'!AF55:AF58) -> 4 | AG25: =SUM('15MIN'!AG55:AG58) -> 1 | AH25: =SUM('15MIN'!AH55:AH58) -> 0 | AI25: =SUM('15MIN'!AI55:AI58) -> 0 | AJ25: =SUM(AA25:AI25) -> 433 | AL25: =Z25 -> 0.66666667 | AM25: =SUM('15MIN'!AM55:AM58) -> 0 | AN25: =SUM('15MIN'!AN55:AN58) -> 0 | AO25: =SUM('15MIN'!AO55:AO58) -> 0 | AP25: =SUM('15MIN'!AP55:AP58) -> 0 | AQ25: =SUM('15MIN'!AQ55:AQ58) -> 0 | AR25: =SUM('15MIN'!AR55:AR58) -> 0 | AS25: =SUM('15MIN'!AS55:AS58) -> 0 | AT25: =SUM('15MIN'!AT55:AT58) -> 0 | AU25: =SUM('15MIN'!AU55:AU58) -> 0 | AV25: =SUM(AM25:AU25) -> 0 | AX25: =AL25 -> 0.66666667 | AY25: =SUM('15MIN'!AY55:AY58) -> 0 | AZ25: =SUM('15MIN'!AZ55:AZ58) -> 0 | BA25: =SUM('15MIN'!BA55:BA58) -> 0 | BB25: =SUM('15MIN'!BB55:BB58) -> 0 | BC25: =SUM('15MIN'!BC55:BC58) -> 0 | BD25: =SUM('15MIN'!BD55:BD58) -> 0 | BE25: =SUM('15MIN'!BE55:BE58) -> 0 | BF25: =SUM('15MIN'!BF55:BF58) -> 0 | BG25: =SUM('15MIN'!BG55:BG58) -> 0 | BH25: =SUM(AY25:BG25) -> 0 | BJ25: =AX25 -> 0.66666667 | BK25: =SUM('15MIN'!BK55:BK58) -> 0 | BL25: =SUM('15MIN'!BL55:BL58) -> 0 | BM25: =SUM('15MIN'!BM55:BM58) -> 0 | BN25: =SUM('15MIN'!BN55:BN58) -> 0 | BO25: =SUM('15MIN'!BO55:BO58) -> 0 | BP25: =SUM('15MIN'!BP55:BP58) -> 0 | BQ25: =SUM('15MIN'!BQ55:BQ58) -> 0 | BR25: =SUM('15MIN'!BR55:BR58) -> 0 | BS25: =SUM('15MIN'!BS55:BS58) -> 0 | BT25: =SUM(BK25:BS25) -> 0 | BV25: =BJ25 -> 0.66666667 | BW25: =SUM(C25,O25,AA25,AM25,AY25,BK25) -> 582 | BX25: =SUM(D25,P25,AB25,AN25,AZ25,BL25) -> 50 | BY25: =SUM(E25,Q25,AC25,AO25,BA25,BM25) -> 70 | BZ25: =SUM(F25,R25,AD25,AP25,BB25,BN25) -> 1 | CA25: =SUM(G25,S25,AE25,AQ25,BC25,BO25) -> 8 | CB25: =SUM(H25,T25,AF25,AR25,BD25,BP25) -> 4 | CC25: =SUM(I25,U25,AG25,AS25,BE25,BQ25) -> 5 | CD25: =SUM(J25,V25,AH25,AT25,BF25,BR25) -> 3 | CE25: =SUM(K25,W25,AI25,AU25,BG25,BS25) -> 0 | CF25: =IF(BW25<>"",SUM(BW25:CE25),"") -> 723
B26: =B25+TIME(1,0,0) -> 0.70833333 | C26: =SUM('15MIN'!C59:C62) -> 0 | D26: =SUM('15MIN'!D59:D62) -> 0 | E26: =SUM('15MIN'!E59:E62) -> 0 | F26: =SUM('15MIN'!F59:F62) -> 0 | G26: =SUM('15MIN'!G59:G62) -> 0 | H26: =SUM('15MIN'!H59:H62) -> 0 | I26: =SUM('15MIN'!I59:I62) -> 0 | J26: =SUM('15MIN'!J59:J62) -> 0 | K26: =SUM('15MIN'!K59:K62) -> 0 | L26: =SUM(C26:K26) -> 0 | N26: =B26 -> 0.70833333 | O26: =SUM('15MIN'!O59:O62) -> 299 | P26: =SUM('15MIN'!P59:P62) -> 15 | Q26: =SUM('15MIN'!Q59:Q62) -> 17 | R26: =SUM('15MIN'!R59:R62) -> 2 | S26: =SUM('15MIN'!S59:S62) -> 0 | T26: =SUM('15MIN'!T59:T62) -> 0 | U26: =SUM('15MIN'!U59:U62) -> 2 | V26: =SUM('15MIN'!V59:V62) -> 1 | W26: =SUM('15MIN'!W59:W62) -> 0 | X26: =SUM(O26:W26) -> 336 | Z26: =N26 -> 0.70833333 | AA26: =SUM('15MIN'!AA59:AA62) -> 408 | AB26: =SUM('15MIN'!AB59:AB62) -> 18 | AC26: =SUM('15MIN'!AC59:AC62) -> 26 | AD26: =SUM('15MIN'!AD59:AD62) -> 0 | AE26: =SUM('15MIN'!AE59:AE62) -> 2 | AF26: =SUM('15MIN'!AF59:AF62) -> 1 | AG26: =SUM('15MIN'!AG59:AG62) -> 1 | AH26: =SUM('15MIN'!AH59:AH62) -> 2 | AI26: =SUM('15MIN'!AI59:AI62) -> 1 | AJ26: =SUM(AA26:AI26) -> 459 | AL26: =Z26 -> 0.70833333 | AM26: =SUM('15MIN'!AM59:AM62) -> 0 | AN26: =SUM('15MIN'!AN59:AN62) -> 0 | AO26: =SUM('15MIN'!AO59:AO62) -> 0 | AP26: =SUM('15MIN'!AP59:AP62) -> 0 | AQ26: =SUM('15MIN'!AQ59:AQ62) -> 0 | AR26: =SUM('15MIN'!AR59:AR62) -> 0 | AS26: =SUM('15MIN'!AS59:AS62) -> 0 | AT26: =SUM('15MIN'!AT59:AT62) -> 0 | AU26: =SUM('15MIN'!AU59:AU62) -> 0 | AV26: =SUM(AM26:AU26) -> 0 | AX26: =AL26 -> 0.70833333 | AY26: =SUM('15MIN'!AY59:AY62) -> 0 | AZ26: =SUM('15MIN'!AZ59:AZ62) -> 0 | BA26: =SUM('15MIN'!BA59:BA62) -> 0 | BB26: =SUM('15MIN'!BB59:BB62) -> 0 | BC26: =SUM('15MIN'!BC59:BC62) -> 0 | BD26: =SUM('15MIN'!BD59:BD62) -> 0 | BE26: =SUM('15MIN'!BE59:BE62) -> 0 | BF26: =SUM('15MIN'!BF59:BF62) -> 0 | BG26: =SUM('15MIN'!BG59:BG62) -> 0 | BH26: =SUM(AY26:BG26) -> 0 | BJ26: =AX26 -> 0.70833333 | BK26: =SUM('15MIN'!BK59:BK62) -> 0 | BL26: =SUM('15MIN'!BL59:BL62) -> 0 | BM26: =SUM('15MIN'!BM59:BM62) -> 0 | BN26: =SUM('15MIN'!BN59:BN62) -> 0 | BO26: =SUM('15MIN'!BO59:BO62) -> 0 | BP26: =SUM('15MIN'!BP59:BP62) -> 0 | BQ26: =SUM('15MIN'!BQ59:BQ62) -> 0 | BR26: =SUM('15MIN'!BR59:BR62) -> 0 | BS26: =SUM('15MIN'!BS59:BS62) -> 0 | BT26: =SUM(BK26:BS26) -> 0 | BV26: =BJ26 -> 0.70833333 | BW26: =SUM(C26,O26,AA26,AM26,AY26,BK26) -> 707 | BX26: =SUM(D26,P26,AB26,AN26,AZ26,BL26) -> 33 | BY26: =SUM(E26,Q26,AC26,AO26,BA26,BM26) -> 43 | BZ26: =SUM(F26,R26,AD26,AP26,BB26,BN26) -> 2 | CA26: =SUM(G26,S26,AE26,AQ26,BC26,BO26) -> 2 | CB26: =SUM(H26,T26,AF26,AR26,BD26,BP26) -> 1 | CC26: =SUM(I26,U26,AG26,AS26,BE26,BQ26) -> 3 | CD26: =SUM(J26,V26,AH26,AT26,BF26,BR26) -> 3 | CE26: =SUM(K26,W26,AI26,AU26,BG26,BS26) -> 1 | CF26: =IF(BW26<>"",SUM(BW26:CE26),"") -> 795
B27: =B26+TIME(1,0,0) -> 0.75 | C27: =SUM('15MIN'!C63:C66) -> 0 | D27: =SUM('15MIN'!D63:D66) -> 0 | E27: =SUM('15MIN'!E63:E66) -> 0 | F27: =SUM('15MIN'!F63:F66) -> 0 | G27: =SUM('15MIN'!G63:G66) -> 0 | H27: =SUM('15MIN'!H63:H66) -> 0 | I27: =SUM('15MIN'!I63:I66) -> 0 | J27: =SUM('15MIN'!J63:J66) -> 0 | K27: =SUM('15MIN'!K63:K66) -> 0 | L27: =SUM(C27:K27) -> 0 | N27: =B27 -> 0.75 | O27: =SUM('15MIN'!O63:O66) -> 189 | P27: =SUM('15MIN'!P63:P66) -> 3 | Q27: =SUM('15MIN'!Q63:Q66) -> 19 | R27: =SUM('15MIN'!R63:R66) -> 0 | S27: =SUM('15MIN'!S63:S66) -> 1 | T27: =SUM('15MIN'!T63:T66) -> 0 | U27: =SUM('15MIN'!U63:U66) -> 3 | V27: =SUM('15MIN'!V63:V66) -> 1 | W27: =SUM('15MIN'!W63:W66) -> 1 | X27: =SUM(O27:W27) -> 217 | Z27: =N27 -> 0.75 | AA27: =SUM('15MIN'!AA63:AA66) -> 329 | AB27: =SUM('15MIN'!AB63:AB66) -> 8 | AC27: =SUM('15MIN'!AC63:AC66) -> 16 | AD27: =SUM('15MIN'!AD63:AD66) -> 0 | AE27: =SUM('15MIN'!AE63:AE66) -> 1 | AF27: =SUM('15MIN'!AF63:AF66) -> 0 | AG27: =SUM('15MIN'!AG63:AG66) -> 1 | AH27: =SUM('15MIN'!AH63:AH66) -> 1 | AI27: =SUM('15MIN'!AI63:AI66) -> 1 | AJ27: =SUM(AA27:AI27) -> 357 | AL27: =Z27 -> 0.75 | AM27: =SUM('15MIN'!AM63:AM66) -> 0 | AN27: =SUM('15MIN'!AN63:AN66) -> 0 | AO27: =SUM('15MIN'!AO63:AO66) -> 0 | AP27: =SUM('15MIN'!AP63:AP66) -> 0 | AQ27: =SUM('15MIN'!AQ63:AQ66) -> 0 | AR27: =SUM('15MIN'!AR63:AR66) -> 0 | AS27: =SUM('15MIN'!AS63:AS66) -> 0 | AT27: =SUM('15MIN'!AT63:AT66) -> 0 | AU27: =SUM('15MIN'!AU63:AU66) -> 0 | AV27: =SUM(AM27:AU27) -> 0 | AX27: =AL27 -> 0.75 | AY27: =SUM('15MIN'!AY63:AY66) -> 0 | AZ27: =SUM('15MIN'!AZ63:AZ66) -> 0 | BA27: =SUM('15MIN'!BA63:BA66) -> 0 | BB27: =SUM('15MIN'!BB63:BB66) -> 0 | BC27: =SUM('15MIN'!BC63:BC66) -> 0 | BD27: =SUM('15MIN'!BD63:BD66) -> 0 | BE27: =SUM('15MIN'!BE63:BE66) -> 0 | BF27: =SUM('15MIN'!BF63:BF66) -> 0 | BG27: =SUM('15MIN'!BG63:BG66) -> 0 | BH27: =SUM(AY27:BG27) -> 0 | BJ27: =AX27 -> 0.75 | BK27: =SUM('15MIN'!BK63:BK66) -> 0 | BL27: =SUM('15MIN'!BL63:BL66) -> 0 | BM27: =SUM('15MIN'!BM63:BM66) -> 0 | BN27: =SUM('15MIN'!BN63:BN66) -> 0 | BO27: =SUM('15MIN'!BO63:BO66) -> 0 | BP27: =SUM('15MIN'!BP63:BP66) -> 0 | BQ27: =SUM('15MIN'!BQ63:BQ66) -> 0 | BR27: =SUM('15MIN'!BR63:BR66) -> 0 | BS27: =SUM('15MIN'!BS63:BS66) -> 0 | BT27: =SUM(BK27:BS27) -> 0 | BV27: =BJ27 -> 0.75 | BW27: =SUM(C27,O27,AA27,AM27,AY27,BK27) -> 518 | BX27: =SUM(D27,P27,AB27,AN27,AZ27,BL27) -> 11 | BY27: =SUM(E27,Q27,AC27,AO27,BA27,BM27) -> 35 | BZ27: =SUM(F27,R27,AD27,AP27,BB27,BN27) -> 0 | CA27: =SUM(G27,S27,AE27,AQ27,BC27,BO27) -> 2 | CB27: =SUM(H27,T27,AF27,AR27,BD27,BP27) -> 0 | CC27: =SUM(I27,U27,AG27,AS27,BE27,BQ27) -> 4 | CD27: =SUM(J27,V27,AH27,AT27,BF27,BR27) -> 2 | CE27: =SUM(K27,W27,AI27,AU27,BG27,BS27) -> 2 | CF27: =IF(BW27<>"",SUM(BW27:CE27),"") -> 574
B28: TOTAL | C28: =SUM(C15:C27) -> 18 | D28: =SUM(D15:D27) -> 0 | E28: =SUM(E15:E27) -> 2 | F28: =SUM(F15:F27) -> 0 | G28: =SUM(G15:G27) -> 0 | H28: =SUM(H15:H27) -> 0 | I28: =SUM(I15:I27) -> 0 | J28: =SUM(J15:J27) -> 0 | ... L28: =SUM(L15:L27) -> 20 | N28: TOTAL | O28: =SUM(O15:O27) -> 2145 | P28: =SUM(P15:P27) -> 105 | Q28: =SUM(Q15:Q27) -> 301 | R28: =SUM(R15:R27) -> 23 | S28: =SUM(S15:S27) -> 30 | T28: =SUM(T15:T27) -> 9 | U28: =SUM(U15:U27) -> 35 | V28: =SUM(V15:V27) -> 9 | ... X28: =SUM(X15:X27) -> 2660 | Z28: TOTAL | AA28: =SUM(AA15:AA27) -> 3177 | AB28: =SUM(AB15:AB27) -> 170 | AC28: =SUM(AC15:AC27) -> 379 | AD28: =SUM(AD15:AD27) -> 14 | AE28: =SUM(AE15:AE27) -> 76 | AF28: =SUM(AF15:AF27) -> 40 | AG28: =SUM(AG15:AG27) -> 12 | AH28: =SUM(AH15:AH27) -> 17 | ... AJ28: =SUM(AJ15:AJ27) -> 3889 | AL28: TOTAL | AM28: =SUM(AM15:AM27) -> 0 | AN28: =SUM(AN15:AN27) -> 0 | AO28: =SUM(AO15:AO27) -> 0 | AP28: =SUM(AP15:AP27) -> 0 | AQ28: =SUM(AQ15:AQ27) -> 0 | AR28: =SUM(AR15:AR27) -> 0 | AS28: =SUM(AS15:AS27) -> 0 | AT28: =SUM(AT15:AT27) -> 0 | ... AV28: =SUM(AV15:AV27) -> 0 | AX28: TOTAL | AY28: =SUM(AY15:AY27) -> 0 | AZ28: =SUM(AZ15:AZ27) -> 0 | BA28: =SUM(BA15:BA27) -> 0 | BB28: =SUM(BB15:BB27) -> 0 | BC28: =SUM(BC15:BC27) -> 0 | BD28: =SUM(BD15:BD27) -> 0 | BE28: =SUM(BE15:BE27) -> 0 | BF28: =SUM(BF15:BF27) -> 0 | ... BH28: =SUM(BH15:BH27) -> 0 | BJ28: TOTAL | BK28: =SUM(BK15:BK27) -> 0 | BL28: =SUM(BL15:BL27) -> 0 | BM28: =SUM(BM15:BM27) -> 0 | BN28: =SUM(BN15:BN27) -> 0 | BO28: =SUM(BO15:BO27) -> 0 | BP28: =SUM(BP15:BP27) -> 0 | BQ28: =SUM(BQ15:BQ27) -> 0 | BR28: =SUM(BR15:BR27) -> 0 | ... BT28: =SUM(BT15:BT27) -> 0 | BV28: TOTAL | BW28: =SUM(BW15:BW27) -> 5340 | BX28: =SUM(BX15:BX27) -> 275 | BY28: =SUM(BY15:BY27) -> 682 | BZ28: =SUM(BZ15:BZ27) -> 37 | CA28: =SUM(CA15:CA27) -> 106 | CB28: =SUM(CB15:CB27) -> 49 | CC28: =SUM(CC15:CC27) -> 47 | CD28: =SUM(CD15:CD27) -> 26 | ... CF28: =SUM(CF15:CF27) -> 6569
C32: ='15MIN'!C71:L71 -> ORIGIN: B1137 The Street (northeast)
C34: ='15MIN'!C73 -> B↙ | D34: ='15MIN'!D73 -> to | E34: ='15MIN'!E73 -> A← | O34: ='15MIN'!O73 -> B↙ | P34: ='15MIN'!P73 -> to | Q34: ='15MIN'!Q73 -> B↗ | AA34: ='15MIN'!AA73 -> B↙ | AB34: ='15MIN'!AB73 -> to | AC34: ='15MIN'!AC73 -> C↓ | AM34: ='15MIN'!AM73 -> B↙ | AN34: ='15MIN'!AN73 -> to | AO34: ='15MIN'!AO73 -> D | AY34: ='15MIN'!AY73 -> B↙ | AZ34: ='15MIN'!AZ73 -> to | BA34: ='15MIN'!BA73 -> E | BK34: ='15MIN'!BK73 -> B↙ | BL34: ='15MIN'!BL73 -> to | BM34: ='15MIN'!BM73 -> F | BW34: ='15MIN'!BW73:CF73 -> ENTERING FROM B↙
C35: ='15MIN'!C74:L74 -> B1137 The Street to B1137 The Street | O35: ='15MIN'!O74:X74 -> B1137 The Street to B1137 The Street | AA35: ='15MIN'!AA74:AJ74 -> B1137 The Street to B1019 Maldon Rd | AM35: ='15MIN'!AM74:AV74 | AY35: ='15MIN'!AY74:BH74 | BK35: ='15MIN'!BK74:BT74 | BW35: =config!C15 -> B1137 The Street
C37: =C14 -> CAR | D37: =D14 -> LGV1 | E37: =E14 -> LGV2 | F37: =F14 -> MGV | G37: =G14 -> HGV1 | H37: =H14 -> HGV2 | I37: =I14 -> PSV | J37: =J14 -> MB | K37: =K14 -> CYC | O37: =O14 -> CAR | P37: =P14 -> LGV1 | Q37: =Q14 -> LGV2 | R37: =R14 -> MGV | S37: =S14 -> HGV1 | T37: =T14 -> HGV2 | U37: =U14 -> PSV | V37: =V14 -> MB | W37: =W14 -> CYC | AA37: =AA14 -> CAR | AB37: =AB14 -> LGV1 | AC37: =AC14 -> LGV2 | AD37: =AD14 -> MGV | AE37: =AE14 -> HGV1 | AF37: =AF14 -> HGV2 | AG37: =AG14 -> PSV | AH37: =AH14 -> MB | AI37: =AI14 -> CYC | AM37: =AM14 -> CAR | AN37: =AN14 -> LGV1 | AO37: =AO14 -> LGV2 | AP37: =AP14 -> MGV | AQ37: =AQ14 -> HGV1 | AR37: =AR14 -> HGV2 | AS37: =AS14 -> PSV | AT37: =AT14 -> MB | AU37: =AU14 -> CYC | AY37: =AY14 -> CAR | AZ37: =AZ14 -> LGV1 | BA37: =BA14 -> LGV2 | BB37: =BB14 -> MGV | BC37: =BC14 -> HGV1 | BD37: =BD14 -> HGV2 | BE37: =BE14 -> PSV | BF37: =BF14 -> MB | BG37: =BG14 -> CYC | BK37: =BK14 -> CAR | BL37: =BL14 -> LGV1 | BM37: =BM14 -> LGV2 | BN37: =BN14 -> MGV | BO37: =BO14 -> HGV1 | BP37: =BP14 -> HGV2 | BQ37: =BQ14 -> PSV | BR37: =BR14 -> MB | BS37: =BS14 -> CYC | BW37: =BK37 -> CAR | BX37: =BL37 -> LGV1 | BY37: =BM37 -> LGV2 | BZ37: =BN37 -> MGV | CA37: =BO37 -> HGV1 | CB37: =BP37 -> HGV2 | CC37: =BQ37 -> PSV | CD37: =BR37 -> MB | CE37: =BS37 -> CYC
B38: =B15 -> 0.25 | C38: =SUM('15MIN'!C77:C80) -> 138 | D38: =SUM('15MIN'!D77:D80) -> 5 | E38: =SUM('15MIN'!E77:E80) -> 25 | F38: =SUM('15MIN'!F77:F80) -> 1 | G38: =SUM('15MIN'!G77:G80) -> 3 | H38: =SUM('15MIN'!H77:H80) -> 1 | I38: =SUM('15MIN'!I77:I80) -> 3 | J38: =SUM('15MIN'!J77:J80) -> 2 | K38: =SUM('15MIN'!K77:K80) -> 1 | L38: =SUM(C38:K38) -> 179 | N38: =B38 -> 0.25 | O38: =SUM('15MIN'!O77:O80) -> 0 | P38: =SUM('15MIN'!P77:P80) -> 0 | Q38: =SUM('15MIN'!Q77:Q80) -> 0 | R38: =SUM('15MIN'!R77:R80) -> 0 | S38: =SUM('15MIN'!S77:S80) -> 0 | T38: =SUM('15MIN'!T77:T80) -> 0 | U38: =SUM('15MIN'!U77:U80) -> 0 | V38: =SUM('15MIN'!V77:V80) -> 0 | W38: =SUM('15MIN'!W77:W80) -> 0 | X38: =SUM(O38:W38) -> 0 | Z38: =N38 -> 0.25 | AA38: =SUM('15MIN'!AA77:AA80) -> 36 | AB38: =SUM('15MIN'!AB77:AB80) -> 6 | AC38: =SUM('15MIN'!AC77:AC80) -> 11 | AD38: =SUM('15MIN'!AD77:AD80) -> 0 | AE38: =SUM('15MIN'!AE77:AE80) -> 6 | AF38: =SUM('15MIN'!AF77:AF80) -> 2 | AG38: =SUM('15MIN'!AG77:AG80) -> 2 | AH38: =SUM('15MIN'!AH77:AH80) -> 0 | AI38: =SUM('15MIN'!AI77:AI80) -> 0 | AJ38: =SUM(AA38:AI38) -> 63 | AL38: =Z38 -> 0.25 | AM38: =SUM('15MIN'!AM77:AM80) -> 0 | AN38: =SUM('15MIN'!AN77:AN80) -> 0 | AO38: =SUM('15MIN'!AO77:AO80) -> 0 | AP38: =SUM('15MIN'!AP77:AP80) -> 0 | AQ38: =SUM('15MIN'!AQ77:AQ80) -> 0 | AR38: =SUM('15MIN'!AR77:AR80) -> 0 | AS38: =SUM('15MIN'!AS77:AS80) -> 0 | AT38: =SUM('15MIN'!AT77:AT80) -> 0 | AU38: =SUM('15MIN'!AU77:AU80) -> 0 | AV38: =SUM(AM38:AU38) -> 0 | AX38: =AL38 -> 0.25 | AY38: =SUM('15MIN'!AY77:AY80) -> 0 | AZ38: =SUM('15MIN'!AZ77:AZ80) -> 0 | BA38: =SUM('15MIN'!BA77:BA80) -> 0 | BB38: =SUM('15MIN'!BB77:BB80) -> 0 | BC38: =SUM('15MIN'!BC77:BC80) -> 0 | BD38: =SUM('15MIN'!BD77:BD80) -> 0 | BE38: =SUM('15MIN'!BE77:BE80) -> 0 | BF38: =SUM('15MIN'!BF77:BF80) -> 0 | BG38: =SUM('15MIN'!BG77:BG80) -> 0 | BH38: =SUM(AY38:BG38) -> 0 | BJ38: =AX38 -> 0.25 | BK38: =SUM('15MIN'!BK77:BK80) -> 0 | BL38: =SUM('15MIN'!BL77:BL80) -> 0 | BM38: =SUM('15MIN'!BM77:BM80) -> 0 | BN38: =SUM('15MIN'!BN77:BN80) -> 0 | BO38: =SUM('15MIN'!BO77:BO80) -> 0 | BP38: =SUM('15MIN'!BP77:BP80) -> 0 | BQ38: =SUM('15MIN'!BQ77:BQ80) -> 0 | BR38: =SUM('15MIN'!BR77:BR80) -> 0 | BS38: =SUM('15MIN'!BS77:BS80) -> 0 | BT38: =SUM(BK38:BS38) -> 0 | BV38: =BJ38 -> 0.25 | BW38: =SUM(C38,O38,AA38,AM38,AY38,BK38) -> 174 | BX38: =SUM(D38,P38,AB38,AN38,AZ38,BL38) -> 11 | BY38: =SUM(E38,Q38,AC38,AO38,BA38,BM38) -> 36 | BZ38: =SUM(F38,R38,AD38,AP38,BB38,BN38) -> 1 | CA38: =SUM(G38,S38,AE38,AQ38,BC38,BO38) -> 9 | CB38: =SUM(H38,T38,AF38,AR38,BD38,BP38) -> 3 | CC38: =SUM(I38,U38,AG38,AS38,BE38,BQ38) -> 5 | CD38: =SUM(J38,V38,AH38,AT38,BF38,BR38) -> 2 | CE38: =SUM(K38,W38,AI38,AU38,BG38,BS38) -> 1 | CF38: =IF(BW38<>"",SUM(BW38:CE38),"") -> 242
B39: =B16 -> 0.29166667 | C39: =SUM('15MIN'!C81:C84) -> 275 | D39: =SUM('15MIN'!D81:D84) -> 16 | E39: =SUM('15MIN'!E81:E84) -> 31 | F39: =SUM('15MIN'!F81:F84) -> 5 | G39: =SUM('15MIN'!G81:G84) -> 5 | H39: =SUM('15MIN'!H81:H84) -> 1 | I39: =SUM('15MIN'!I81:I84) -> 4 | J39: =SUM('15MIN'!J81:J84) -> 3 | K39: =SUM('15MIN'!K81:K84) -> 0 | L39: =SUM(C39:K39) -> 340 | N39: =B39 -> 0.29166667 | O39: =SUM('15MIN'!O81:O84) -> 0 | P39: =SUM('15MIN'!P81:P84) -> 0 | Q39: =SUM('15MIN'!Q81:Q84) -> 0 | R39: =SUM('15MIN'!R81:R84) -> 0 | S39: =SUM('15MIN'!S81:S84) -> 0 | T39: =SUM('15MIN'!T81:T84) -> 0 | U39: =SUM('15MIN'!U81:U84) -> 0 | V39: =SUM('15MIN'!V81:V84) -> 0 | W39: =SUM('15MIN'!W81:W84) -> 0 | X39: =SUM(O39:W39) -> 0 | Z39: =N39 -> 0.29166667 | AA39: =SUM('15MIN'!AA81:AA84) -> 102 | AB39: =SUM('15MIN'!AB81:AB84) -> 20 | AC39: =SUM('15MIN'!AC81:AC84) -> 26 | AD39: =SUM('15MIN'!AD81:AD84) -> 1 | AE39: =SUM('15MIN'!AE81:AE84) -> 6 | AF39: =SUM('15MIN'!AF81:AF84) -> 9 | AG39: =SUM('15MIN'!AG81:AG84) -> 1 | AH39: =SUM('15MIN'!AH81:AH84) -> 0 | AI39: =SUM('15MIN'!AI81:AI84) -> 0 | AJ39: =SUM(AA39:AI39) -> 165 | AL39: =Z39 -> 0.29166667 | AM39: =SUM('15MIN'!AM81:AM84) -> 0 | AN39: =SUM('15MIN'!AN81:AN84) -> 0 | AO39: =SUM('15MIN'!AO81:AO84) -> 0 | AP39: =SUM('15MIN'!AP81:AP84) -> 0 | AQ39: =SUM('15MIN'!AQ81:AQ84) -> 0 | AR39: =SUM('15MIN'!AR81:AR84) -> 0 | AS39: =SUM('15MIN'!AS81:AS84) -> 0 | AT39: =SUM('15MIN'!AT81:AT84) -> 0 | AU39: =SUM('15MIN'!AU81:AU84) -> 0 | AV39: =SUM(AM39:AU39) -> 0 | AX39: =AL39 -> 0.29166667 | AY39: =SUM('15MIN'!AY81:AY84) -> 0 | AZ39: =SUM('15MIN'!AZ81:AZ84) -> 0 | BA39: =SUM('15MIN'!BA81:BA84) -> 0 | BB39: =SUM('15MIN'!BB81:BB84) -> 0 | BC39: =SUM('15MIN'!BC81:BC84) -> 0 | BD39: =SUM('15MIN'!BD81:BD84) -> 0 | BE39: =SUM('15MIN'!BE81:BE84) -> 0 | BF39: =SUM('15MIN'!BF81:BF84) -> 0 | BG39: =SUM('15MIN'!BG81:BG84) -> 0 | BH39: =SUM(AY39:BG39) -> 0 | BJ39: =AX39 -> 0.29166667 | BK39: =SUM('15MIN'!BK81:BK84) -> 0 | BL39: =SUM('15MIN'!BL81:BL84) -> 0 | BM39: =SUM('15MIN'!BM81:BM84) -> 0 | BN39: =SUM('15MIN'!BN81:BN84) -> 0 | BO39: =SUM('15MIN'!BO81:BO84) -> 0 | BP39: =SUM('15MIN'!BP81:BP84) -> 0 | BQ39: =SUM('15MIN'!BQ81:BQ84) -> 0 | BR39: =SUM('15MIN'!BR81:BR84) -> 0 | BS39: =SUM('15MIN'!BS81:BS84) -> 0 | BT39: =SUM(BK39:BS39) -> 0 | BV39: =BJ39 -> 0.29166667 | BW39: =SUM(C39,O39,AA39,AM39,AY39,BK39) -> 377 | BX39: =SUM(D39,P39,AB39,AN39,AZ39,BL39) -> 36 | BY39: =SUM(E39,Q39,AC39,AO39,BA39,BM39) -> 57 | BZ39: =SUM(F39,R39,AD39,AP39,BB39,BN39) -> 6 | CA39: =SUM(G39,S39,AE39,AQ39,BC39,BO39) -> 11 | CB39: =SUM(H39,T39,AF39,AR39,BD39,BP39) -> 10 | CC39: =SUM(I39,U39,AG39,AS39,BE39,BQ39) -> 5 | CD39: =SUM(J39,V39,AH39,AT39,BF39,BR39) -> 3 | CE39: =SUM(K39,W39,AI39,AU39,BG39,BS39) -> 0 | CF39: =IF(BW39<>"",SUM(BW39:CE39),"") -> 505
B40: =B17 -> 0.33333333 | C40: =SUM('15MIN'!C85:C88) -> 298 | D40: =SUM('15MIN'!D85:D88) -> 13 | E40: =SUM('15MIN'!E85:E88) -> 43 | F40: =SUM('15MIN'!F85:F88) -> 0 | G40: =SUM('15MIN'!G85:G88) -> 6 | H40: =SUM('15MIN'!H85:H88) -> 0 | I40: =SUM('15MIN'!I85:I88) -> 2 | J40: =SUM('15MIN'!J85:J88) -> 2 | K40: =SUM('15MIN'!K85:K88) -> 2 | L40: =SUM(C40:K40) -> 366 | N40: =B40 -> 0.33333333 | O40: =SUM('15MIN'!O85:O88) -> 0 | P40: =SUM('15MIN'!P85:P88) -> 0 | Q40: =SUM('15MIN'!Q85:Q88) -> 0 | R40: =SUM('15MIN'!R85:R88) -> 0 | S40: =SUM('15MIN'!S85:S88) -> 0 | T40: =SUM('15MIN'!T85:T88) -> 0 | U40: =SUM('15MIN'!U85:U88) -> 0 | V40: =SUM('15MIN'!V85:V88) -> 0 | W40: =SUM('15MIN'!W85:W88) -> 0 | X40: =SUM(O40:W40) -> 0 | Z40: =N40 -> 0.33333333 | AA40: =SUM('15MIN'!AA85:AA88) -> 151 | AB40: =SUM('15MIN'!AB85:AB88) -> 9 | AC40: =SUM('15MIN'!AC85:AC88) -> 20 | AD40: =SUM('15MIN'!AD85:AD88) -> 2 | AE40: =SUM('15MIN'!AE85:AE88) -> 4 | AF40: =SUM('15MIN'!AF85:AF88) -> 11 | AG40: =SUM('15MIN'!AG85:AG88) -> 0 | AH40: =SUM('15MIN'!AH85:AH88) -> 2 | AI40: =SUM('15MIN'!AI85:AI88) -> 0 | AJ40: =SUM(AA40:AI40) -> 199 | AL40: =Z40 -> 0.33333333 | AM40: =SUM('15MIN'!AM85:AM88) -> 0 | AN40: =SUM('15MIN'!AN85:AN88) -> 0 | AO40: =SUM('15MIN'!AO85:AO88) -> 0 | AP40: =SUM('15MIN'!AP85:AP88) -> 0 | AQ40: =SUM('15MIN'!AQ85:AQ88) -> 0 | AR40: =SUM('15MIN'!AR85:AR88) -> 0 | AS40: =SUM('15MIN'!AS85:AS88) -> 0 | AT40: =SUM('15MIN'!AT85:AT88) -> 0 | AU40: =SUM('15MIN'!AU85:AU88) -> 0 | AV40: =SUM(AM40:AU40) -> 0 | AX40: =AL40 -> 0.33333333 | AY40: =SUM('15MIN'!AY85:AY88) -> 0 | AZ40: =SUM('15MIN'!AZ85:AZ88) -> 0 | BA40: =SUM('15MIN'!BA85:BA88) -> 0 | BB40: =SUM('15MIN'!BB85:BB88) -> 0 | BC40: =SUM('15MIN'!BC85:BC88) -> 0 | BD40: =SUM('15MIN'!BD85:BD88) -> 0 | BE40: =SUM('15MIN'!BE85:BE88) -> 0 | BF40: =SUM('15MIN'!BF85:BF88) -> 0 | BG40: =SUM('15MIN'!BG85:BG88) -> 0 | BH40: =SUM(AY40:BG40) -> 0 | BJ40: =AX40 -> 0.33333333 | BK40: =SUM('15MIN'!BK85:BK88) -> 0 | BL40: =SUM('15MIN'!BL85:BL88) -> 0 | BM40: =SUM('15MIN'!BM85:BM88) -> 0 | BN40: =SUM('15MIN'!BN85:BN88) -> 0 | BO40: =SUM('15MIN'!BO85:BO88) -> 0 | BP40: =SUM('15MIN'!BP85:BP88) -> 0 | BQ40: =SUM('15MIN'!BQ85:BQ88) -> 0 | BR40: =SUM('15MIN'!BR85:BR88) -> 0 | BS40: =SUM('15MIN'!BS85:BS88) -> 0 | BT40: =SUM(BK40:BS40) -> 0 | BV40: =BJ40 -> 0.33333333 | BW40: =SUM(C40,O40,AA40,AM40,AY40,BK40) -> 449 | BX40: =SUM(D40,P40,AB40,AN40,AZ40,BL40) -> 22 | BY40: =SUM(E40,Q40,AC40,AO40,BA40,BM40) -> 63 | BZ40: =SUM(F40,R40,AD40,AP40,BB40,BN40) -> 2 | CA40: =SUM(G40,S40,AE40,AQ40,BC40,BO40) -> 10 | CB40: =SUM(H40,T40,AF40,AR40,BD40,BP40) -> 11 | CC40: =SUM(I40,U40,AG40,AS40,BE40,BQ40) -> 2 | CD40: =SUM(J40,V40,AH40,AT40,BF40,BR40) -> 4 | CE40: =SUM(K40,W40,AI40,AU40,BG40,BS40) -> 2 | CF40: =IF(BW40<>"",SUM(BW40:CE40),"") -> 565
B41: =B18 -> 0.375 | C41: =SUM('15MIN'!C89:C92) -> 184 | D41: =SUM('15MIN'!D89:D92) -> 7 | E41: =SUM('15MIN'!E89:E92) -> 32 | F41: =SUM('15MIN'!F89:F92) -> 2 | G41: =SUM('15MIN'!G89:G92) -> 2 | H41: =SUM('15MIN'!H89:H92) -> 3 | I41: =SUM('15MIN'!I89:I92) -> 2 | J41: =SUM('15MIN'!J89:J92) -> 1 | K41: =SUM('15MIN'!K89:K92) -> 1 | L41: =SUM(C41:K41) -> 234 | N41: =B41 -> 0.375 | O41: =SUM('15MIN'!O89:O92) -> 0 | P41: =SUM('15MIN'!P89:P92) -> 0 | Q41: =SUM('15MIN'!Q89:Q92) -> 0 | R41: =SUM('15MIN'!R89:R92) -> 0 | S41: =SUM('15MIN'!S89:S92) -> 0 | T41: =SUM('15MIN'!T89:T92) -> 0 | U41: =SUM('15MIN'!U89:U92) -> 0 | V41: =SUM('15MIN'!V89:V92) -> 0 | W41: =SUM('15MIN'!W89:W92) -> 0 | X41: =SUM(O41:W41) -> 0 | Z41: =N41 -> 0.375 | AA41: =SUM('15MIN'!AA89:AA92) -> 91 | AB41: =SUM('15MIN'!AB89:AB92) -> 2 | AC41: =SUM('15MIN'!AC89:AC92) -> 23 | AD41: =SUM('15MIN'!AD89:AD92) -> 1 | AE41: =SUM('15MIN'!AE89:AE92) -> 10 | AF41: =SUM('15MIN'!AF89:AF92) -> 4 | AG41: =SUM('15MIN'!AG89:AG92) -> 1 | AH41: =SUM('15MIN'!AH89:AH92) -> 1 | AI41: =SUM('15MIN'!AI89:AI92) -> 0 | AJ41: =SUM(AA41:AI41) -> 133 | AL41: =Z41 -> 0.375 | AM41: =SUM('15MIN'!AM89:AM92) -> 0 | AN41: =SUM('15MIN'!AN89:AN92) -> 0 | AO41: =SUM('15MIN'!AO89:AO92) -> 0 | AP41: =SUM('15MIN'!AP89:AP92) -> 0 | AQ41: =SUM('15MIN'!AQ89:AQ92) -> 0 | AR41: =SUM('15MIN'!AR89:AR92) -> 0 | AS41: =SUM('15MIN'!AS89:AS92) -> 0 | AT41: =SUM('15MIN'!AT89:AT92) -> 0 | AU41: =SUM('15MIN'!AU89:AU92) -> 0 | AV41: =SUM(AM41:AU41) -> 0 | AX41: =AL41 -> 0.375 | AY41: =SUM('15MIN'!AY89:AY92) -> 0 | AZ41: =SUM('15MIN'!AZ89:AZ92) -> 0 | BA41: =SUM('15MIN'!BA89:BA92) -> 0 | BB41: =SUM('15MIN'!BB89:BB92) -> 0 | BC41: =SUM('15MIN'!BC89:BC92) -> 0 | BD41: =SUM('15MIN'!BD89:BD92) -> 0 | BE41: =SUM('15MIN'!BE89:BE92) -> 0 | BF41: =SUM('15MIN'!BF89:BF92) -> 0 | BG41: =SUM('15MIN'!BG89:BG92) -> 0 | BH41: =SUM(AY41:BG41) -> 0 | BJ41: =AX41 -> 0.375 | BK41: =SUM('15MIN'!BK89:BK92) -> 0 | BL41: =SUM('15MIN'!BL89:BL92) -> 0 | BM41: =SUM('15MIN'!BM89:BM92) -> 0 | BN41: =SUM('15MIN'!BN89:BN92) -> 0 | BO41: =SUM('15MIN'!BO89:BO92) -> 0 | BP41: =SUM('15MIN'!BP89:BP92) -> 0 | BQ41: =SUM('15MIN'!BQ89:BQ92) -> 0 | BR41: =SUM('15MIN'!BR89:BR92) -> 0 | BS41: =SUM('15MIN'!BS89:BS92) -> 0 | BT41: =SUM(BK41:BS41) -> 0 | BV41: =BJ41 -> 0.375 | BW41: =SUM(C41,O41,AA41,AM41,AY41,BK41) -> 275 | BX41: =SUM(D41,P41,AB41,AN41,AZ41,BL41) -> 9 | BY41: =SUM(E41,Q41,AC41,AO41,BA41,BM41) -> 55 | BZ41: =SUM(F41,R41,AD41,AP41,BB41,BN41) -> 3 | CA41: =SUM(G41,S41,AE41,AQ41,BC41,BO41) -> 12 | CB41: =SUM(H41,T41,AF41,AR41,BD41,BP41) -> 7 | CC41: =SUM(I41,U41,AG41,AS41,BE41,BQ41) -> 3 | CD41: =SUM(J41,V41,AH41,AT41,BF41,BR41) -> 2 | CE41: =SUM(K41,W41,AI41,AU41,BG41,BS41) -> 1 | CF41: =IF(BW41<>"",SUM(BW41:CE41),"") -> 367
B42: =B19 -> 0.41666667 | C42: =SUM('15MIN'!C93:C96) -> 142 | D42: =SUM('15MIN'!D93:D96) -> 5 | E42: =SUM('15MIN'!E93:E96) -> 17 | F42: =SUM('15MIN'!F93:F96) -> 1 | G42: =SUM('15MIN'!G93:G96) -> 4 | H42: =SUM('15MIN'!H93:H96) -> 3 | I42: =SUM('15MIN'!I93:I96) -> 2 | J42: =SUM('15MIN'!J93:J96) -> 4 | K42: =SUM('15MIN'!K93:K96) -> 0 | L42: =SUM(C42:K42) -> 178 | N42: =B42 -> 0.41666667 | O42: =SUM('15MIN'!O93:O96) -> 0 | P42: =SUM('15MIN'!P93:P96) -> 0 | Q42: =SUM('15MIN'!Q93:Q96) -> 0 | R42: =SUM('15MIN'!R93:R96) -> 0 | S42: =SUM('15MIN'!S93:S96) -> 0 | T42: =SUM('15MIN'!T93:T96) -> 0 | U42: =SUM('15MIN'!U93:U96) -> 0 | V42: =SUM('15MIN'!V93:V96) -> 0 | W42: =SUM('15MIN'!W93:W96) -> 0 | X42: =SUM(O42:W42) -> 0 | Z42: =N42 -> 0.41666667 | AA42: =SUM('15MIN'!AA93:AA96) -> 103 | AB42: =SUM('15MIN'!AB93:AB96) -> 10 | AC42: =SUM('15MIN'!AC93:AC96) -> 19 | AD42: =SUM('15MIN'!AD93:AD96) -> 2 | AE42: =SUM('15MIN'!AE93:AE96) -> 7 | AF42: =SUM('15MIN'!AF93:AF96) -> 8 | AG42: =SUM('15MIN'!AG93:AG96) -> 0 | AH42: =SUM('15MIN'!AH93:AH96) -> 2 | AI42: =SUM('15MIN'!AI93:AI96) -> 0 | AJ42: =SUM(AA42:AI42) -> 151 | AL42: =Z42 -> 0.41666667 | AM42: =SUM('15MIN'!AM93:AM96) -> 0 | AN42: =SUM('15MIN'!AN93:AN96) -> 0 | AO42: =SUM('15MIN'!AO93:AO96) -> 0 | AP42: =SUM('15MIN'!AP93:AP96) -> 0 | AQ42: =SUM('15MIN'!AQ93:AQ96) -> 0 | AR42: =SUM('15MIN'!AR93:AR96) -> 0 | AS42: =SUM('15MIN'!AS93:AS96) -> 0 | AT42: =SUM('15MIN'!AT93:AT96) -> 0 | AU42: =SUM('15MIN'!AU93:AU96) -> 0 | AV42: =SUM(AM42:AU42) -> 0 | AX42: =AL42 -> 0.41666667 | AY42: =SUM('15MIN'!AY93:AY96) -> 0 | AZ42: =SUM('15MIN'!AZ93:AZ96) -> 0 | BA42: =SUM('15MIN'!BA93:BA96) -> 0 | BB42: =SUM('15MIN'!BB93:BB96) -> 0 | BC42: =SUM('15MIN'!BC93:BC96) -> 0 | BD42: =SUM('15MIN'!BD93:BD96) -> 0 | BE42: =SUM('15MIN'!BE93:BE96) -> 0 | BF42: =SUM('15MIN'!BF93:BF96) -> 0 | BG42: =SUM('15MIN'!BG93:BG96) -> 0 | BH42: =SUM(AY42:BG42) -> 0 | BJ42: =AX42 -> 0.41666667 | BK42: =SUM('15MIN'!BK93:BK96) -> 0 | BL42: =SUM('15MIN'!BL93:BL96) -> 0 | BM42: =SUM('15MIN'!BM93:BM96) -> 0 | BN42: =SUM('15MIN'!BN93:BN96) -> 0 | BO42: =SUM('15MIN'!BO93:BO96) -> 0 | BP42: =SUM('15MIN'!BP93:BP96) -> 0 | BQ42: =SUM('15MIN'!BQ93:BQ96) -> 0 | BR42: =SUM('15MIN'!BR93:BR96) -> 0 | BS42: =SUM('15MIN'!BS93:BS96) -> 0 | BT42: =SUM(BK42:BS42) -> 0 | BV42: =BJ42 -> 0.41666667 | BW42: =SUM(C42,O42,AA42,AM42,AY42,BK42) -> 245 | BX42: =SUM(D42,P42,AB42,AN42,AZ42,BL42) -> 15 | BY42: =SUM(E42,Q42,AC42,AO42,BA42,BM42) -> 36 | BZ42: =SUM(F42,R42,AD42,AP42,BB42,BN42) -> 3 | CA42: =SUM(G42,S42,AE42,AQ42,BC42,BO42) -> 11 | CB42: =SUM(H42,T42,AF42,AR42,BD42,BP42) -> 11 | CC42: =SUM(I42,U42,AG42,AS42,BE42,BQ42) -> 2 | CD42: =SUM(J42,V42,AH42,AT42,BF42,BR42) -> 6 | CE42: =SUM(K42,W42,AI42,AU42,BG42,BS42) -> 0 | CF42: =IF(BW42<>"",SUM(BW42:CE42),"") -> 329
B43: =B20 -> 0.45833333 | C43: =SUM('15MIN'!C97:C100) -> 172 | D43: =SUM('15MIN'!D97:D100) -> 3 | E43: =SUM('15MIN'!E97:E100) -> 19 | F43: =SUM('15MIN'!F97:F100) -> 3 | G43: =SUM('15MIN'!G97:G100) -> 6 | H43: =SUM('15MIN'!H97:H100) -> 3 | I43: =SUM('15MIN'!I97:I100) -> 3 | J43: =SUM('15MIN'!J97:J100) -> 2 | K43: =SUM('15MIN'!K97:K100) -> 0 | L43: =SUM(C43:K43) -> 211 | N43: =B43 -> 0.45833333 | O43: =SUM('15MIN'!O97:O100) -> 0 | P43: =SUM('15MIN'!P97:P100) -> 0 | Q43: =SUM('15MIN'!Q97:Q100) -> 0 | R43: =SUM('15MIN'!R97:R100) -> 0 | S43: =SUM('15MIN'!S97:S100) -> 0 | T43: =SUM('15MIN'!T97:T100) -> 0 | U43: =SUM('15MIN'!U97:U100) -> 0 | V43: =SUM('15MIN'!V97:V100) -> 0 | W43: =SUM('15MIN'!W97:W100) -> 0 | X43: =SUM(O43:W43) -> 0 | Z43: =N43 -> 0.45833333 | AA43: =SUM('15MIN'!AA97:AA100) -> 89 | AB43: =SUM('15MIN'!AB97:AB100) -> 4 | AC43: =SUM('15MIN'!AC97:AC100) -> 15 | AD43: =SUM('15MIN'!AD97:AD100) -> 1 | AE43: =SUM('15MIN'!AE97:AE100) -> 2 | AF43: =SUM('15MIN'!AF97:AF100) -> 5 | AG43: =SUM('15MIN'!AG97:AG100) -> 0 | AH43: =SUM('15MIN'!AH97:AH100) -> 1 | AI43: =SUM('15MIN'!AI97:AI100) -> 0 | AJ43: =SUM(AA43:AI43) -> 117 | AL43: =Z43 -> 0.45833333 | AM43: =SUM('15MIN'!AM97:AM100) -> 0 | AN43: =SUM('15MIN'!AN97:AN100) -> 0 | AO43: =SUM('15MIN'!AO97:AO100) -> 0 | AP43: =SUM('15MIN'!AP97:AP100) -> 0 | AQ43: =SUM('15MIN'!AQ97:AQ100) -> 0 | AR43: =SUM('15MIN'!AR97:AR100) -> 0 | AS43: =SUM('15MIN'!AS97:AS100) -> 0 | AT43: =SUM('15MIN'!AT97:AT100) -> 0 | AU43: =SUM('15MIN'!AU97:AU100) -> 0 | AV43: =SUM(AM43:AU43) -> 0 | AX43: =AL43 -> 0.45833333 | AY43: =SUM('15MIN'!AY97:AY100) -> 0 | AZ43: =SUM('15MIN'!AZ97:AZ100) -> 0 | BA43: =SUM('15MIN'!BA97:BA100) -> 0 | BB43: =SUM('15MIN'!BB97:BB100) -> 0 | BC43: =SUM('15MIN'!BC97:BC100) -> 0 | BD43: =SUM('15MIN'!BD97:BD100) -> 0 | BE43: =SUM('15MIN'!BE97:BE100) -> 0 | BF43: =SUM('15MIN'!BF97:BF100) -> 0 | BG43: =SUM('15MIN'!BG97:BG100) -> 0 | BH43: =SUM(AY43:BG43) -> 0 | BJ43: =AX43 -> 0.45833333 | BK43: =SUM('15MIN'!BK97:BK100) -> 0 | BL43: =SUM('15MIN'!BL97:BL100) -> 0 | BM43: =SUM('15MIN'!BM97:BM100) -> 0 | BN43: =SUM('15MIN'!BN97:BN100) -> 0 | BO43: =SUM('15MIN'!BO97:BO100) -> 0 | BP43: =SUM('15MIN'!BP97:BP100) -> 0 | BQ43: =SUM('15MIN'!BQ97:BQ100) -> 0 | BR43: =SUM('15MIN'!BR97:BR100) -> 0 | BS43: =SUM('15MIN'!BS97:BS100) -> 0 | BT43: =SUM(BK43:BS43) -> 0 | BV43: =BJ43 -> 0.45833333 | BW43: =SUM(C43,O43,AA43,AM43,AY43,BK43) -> 261 | BX43: =SUM(D43,P43,AB43,AN43,AZ43,BL43) -> 7 | BY43: =SUM(E43,Q43,AC43,AO43,BA43,BM43) -> 34 | BZ43: =SUM(F43,R43,AD43,AP43,BB43,BN43) -> 4 | CA43: =SUM(G43,S43,AE43,AQ43,BC43,BO43) -> 8 | CB43: =SUM(H43,T43,AF43,AR43,BD43,BP43) -> 8 | CC43: =SUM(I43,U43,AG43,AS43,BE43,BQ43) -> 3 | CD43: =SUM(J43,V43,AH43,AT43,BF43,BR43) -> 3 | CE43: =SUM(K43,W43,AI43,AU43,BG43,BS43) -> 0 | CF43: =IF(BW43<>"",SUM(BW43:CE43),"") -> 328
B44: =B21 -> 0.5 | C44: =SUM('15MIN'!C101:C104) -> 172 | D44: =SUM('15MIN'!D101:D104) -> 9 | E44: =SUM('15MIN'!E101:E104) -> 22 | F44: =SUM('15MIN'!F101:F104) -> 2 | G44: =SUM('15MIN'!G101:G104) -> 5 | H44: =SUM('15MIN'!H101:H104) -> 4 | I44: =SUM('15MIN'!I101:I104) -> 4 | J44: =SUM('15MIN'!J101:J104) -> 0 | K44: =SUM('15MIN'!K101:K104) -> 2 | L44: =SUM(C44:K44) -> 220 | N44: =B44 -> 0.5 | O44: =SUM('15MIN'!O101:O104) -> 0 | P44: =SUM('15MIN'!P101:P104) -> 0 | Q44: =SUM('15MIN'!Q101:Q104) -> 0 | R44: =SUM('15MIN'!R101:R104) -> 0 | S44: =SUM('15MIN'!S101:S104) -> 0 | T44: =SUM('15MIN'!T101:T104) -> 0 | U44: =SUM('15MIN'!U101:U104) -> 0 | V44: =SUM('15MIN'!V101:V104) -> 0 | W44: =SUM('15MIN'!W101:W104) -> 0 | X44: =SUM(O44:W44) -> 0 | Z44: =N44 -> 0.5 | AA44: =SUM('15MIN'!AA101:AA104) -> 95 | AB44: =SUM('15MIN'!AB101:AB104) -> 9 | AC44: =SUM('15MIN'!AC101:AC104) -> 17 | AD44: =SUM('15MIN'!AD101:AD104) -> 1 | AE44: =SUM('15MIN'!AE101:AE104) -> 9 | AF44: =SUM('15MIN'!AF101:AF104) -> 12 | AG44: =SUM('15MIN'!AG101:AG104) -> 0 | AH44: =SUM('15MIN'!AH101:AH104) -> 2 | AI44: =SUM('15MIN'!AI101:AI104) -> 0 | AJ44: =SUM(AA44:AI44) -> 145 | AL44: =Z44 -> 0.5 | AM44: =SUM('15MIN'!AM101:AM104) -> 0 | AN44: =SUM('15MIN'!AN101:AN104) -> 0 | AO44: =SUM('15MIN'!AO101:AO104) -> 0 | AP44: =SUM('15MIN'!AP101:AP104) -> 0 | AQ44: =SUM('15MIN'!AQ101:AQ104) -> 0 | AR44: =SUM('15MIN'!AR101:AR104) -> 0 | AS44: =SUM('15MIN'!AS101:AS104) -> 0 | AT44: =SUM('15MIN'!AT101:AT104) -> 0 | AU44: =SUM('15MIN'!AU101:AU104) -> 0 | AV44: =SUM(AM44:AU44) -> 0 | AX44: =AL44 -> 0.5 | AY44: =SUM('15MIN'!AY101:AY104) -> 0 | AZ44: =SUM('15MIN'!AZ101:AZ104) -> 0 | BA44: =SUM('15MIN'!BA101:BA104) -> 0 | BB44: =SUM('15MIN'!BB101:BB104) -> 0 | BC44: =SUM('15MIN'!BC101:BC104) -> 0 | BD44: =SUM('15MIN'!BD101:BD104) -> 0 | BE44: =SUM('15MIN'!BE101:BE104) -> 0 | BF44: =SUM('15MIN'!BF101:BF104) -> 0 | BG44: =SUM('15MIN'!BG101:BG104) -> 0 | BH44: =SUM(AY44:BG44) -> 0 | BJ44: =AX44 -> 0.5 | BK44: =SUM('15MIN'!BK101:BK104) -> 0 | BL44: =SUM('15MIN'!BL101:BL104) -> 0 | BM44: =SUM('15MIN'!BM101:BM104) -> 0 | BN44: =SUM('15MIN'!BN101:BN104) -> 0 | BO44: =SUM('15MIN'!BO101:BO104) -> 0 | BP44: =SUM('15MIN'!BP101:BP104) -> 0 | BQ44: =SUM('15MIN'!BQ101:BQ104) -> 0 | BR44: =SUM('15MIN'!BR101:BR104) -> 0 | BS44: =SUM('15MIN'!BS101:BS104) -> 0 | BT44: =SUM(BK44:BS44) -> 0 | BV44: =BJ44 -> 0.5 | BW44: =SUM(C44,O44,AA44,AM44,AY44,BK44) -> 267 | BX44: =SUM(D44,P44,AB44,AN44,AZ44,BL44) -> 18 | BY44: =SUM(E44,Q44,AC44,AO44,BA44,BM44) -> 39 | BZ44: =SUM(F44,R44,AD44,AP44,BB44,BN44) -> 3 | CA44: =SUM(G44,S44,AE44,AQ44,BC44,BO44) -> 14 | CB44: =SUM(H44,T44,AF44,AR44,BD44,BP44) -> 16 | CC44: =SUM(I44,U44,AG44,AS44,BE44,BQ44) -> 4 | CD44: =SUM(J44,V44,AH44,AT44,BF44,BR44) -> 2 | CE44: =SUM(K44,W44,AI44,AU44,BG44,BS44) -> 2 | CF44: =IF(BW44<>"",SUM(BW44:CE44),"") -> 365
B45: =B22 -> 0.54166667 | C45: =SUM('15MIN'!C105:C108) -> 147 | D45: =SUM('15MIN'!D105:D108) -> 12 | E45: =SUM('15MIN'!E105:E108) -> 22 | F45: =SUM('15MIN'!F105:F108) -> 2 | G45: =SUM('15MIN'!G105:G108) -> 4 | H45: =SUM('15MIN'!H105:H108) -> 2 | I45: =SUM('15MIN'!I105:I108) -> 2 | J45: =SUM('15MIN'!J105:J108) -> 0 | K45: =SUM('15MIN'!K105:K108) -> 1 | L45: =SUM(C45:K45) -> 192 | N45: =B45 -> 0.54166667 | O45: =SUM('15MIN'!O105:O108) -> 0 | P45: =SUM('15MIN'!P105:P108) -> 0 | Q45: =SUM('15MIN'!Q105:Q108) -> 0 | R45: =SUM('15MIN'!R105:R108) -> 0 | S45: =SUM('15MIN'!S105:S108) -> 0 | T45: =SUM('15MIN'!T105:T108) -> 0 | U45: =SUM('15MIN'!U105:U108) -> 0 | V45: =SUM('15MIN'!V105:V108) -> 0 | W45: =SUM('15MIN'!W105:W108) -> 0 | X45: =SUM(O45:W45) -> 0 | Z45: =N45 -> 0.54166667 | AA45: =SUM('15MIN'!AA105:AA108) -> 83 | AB45: =SUM('15MIN'!AB105:AB108) -> 3 | AC45: =SUM('15MIN'!AC105:AC108) -> 21 | AD45: =SUM('15MIN'!AD105:AD108) -> 0 | AE45: =SUM('15MIN'!AE105:AE108) -> 7 | AF45: =SUM('15MIN'!AF105:AF108) -> 9 | AG45: =SUM('15MIN'!AG105:AG108) -> 0 | AH45: =SUM('15MIN'!AH105:AH108) -> 1 | AI45: =SUM('15MIN'!AI105:AI108) -> 0 | AJ45: =SUM(AA45:AI45) -> 124 | AL45: =Z45 -> 0.54166667 | AM45: =SUM('15MIN'!AM105:AM108) -> 0 | AN45: =SUM('15MIN'!AN105:AN108) -> 0 | AO45: =SUM('15MIN'!AO105:AO108) -> 0 | AP45: =SUM('15MIN'!AP105:AP108) -> 0 | AQ45: =SUM('15MIN'!AQ105:AQ108) -> 0 | AR45: =SUM('15MIN'!AR105:AR108) -> 0 | AS45: =SUM('15MIN'!AS105:AS108) -> 0 | AT45: =SUM('15MIN'!AT105:AT108) -> 0 | AU45: =SUM('15MIN'!AU105:AU108) -> 0 | AV45: =SUM(AM45:AU45) -> 0 | AX45: =AL45 -> 0.54166667 | AY45: =SUM('15MIN'!AY105:AY108) -> 0 | AZ45: =SUM('15MIN'!AZ105:AZ108) -> 0 | BA45: =SUM('15MIN'!BA105:BA108) -> 0 | BB45: =SUM('15MIN'!BB105:BB108) -> 0 | BC45: =SUM('15MIN'!BC105:BC108) -> 0 | BD45: =SUM('15MIN'!BD105:BD108) -> 0 | BE45: =SUM('15MIN'!BE105:BE108) -> 0 | BF45: =SUM('15MIN'!BF105:BF108) -> 0 | BG45: =SUM('15MIN'!BG105:BG108) -> 0 | BH45: =SUM(AY45:BG45) -> 0 | BJ45: =AX45 -> 0.54166667 | BK45: =SUM('15MIN'!BK105:BK108) -> 0 | BL45: =SUM('15MIN'!BL105:BL108) -> 0 | BM45: =SUM('15MIN'!BM105:BM108) -> 0 | BN45: =SUM('15MIN'!BN105:BN108) -> 0 | BO45: =SUM('15MIN'!BO105:BO108) -> 0 | BP45: =SUM('15MIN'!BP105:BP108) -> 0 | BQ45: =SUM('15MIN'!BQ105:BQ108) -> 0 | BR45: =SUM('15MIN'!BR105:BR108) -> 0 | BS45: =SUM('15MIN'!BS105:BS108) -> 0 | BT45: =SUM(BK45:BS45) -> 0 | BV45: =BJ45 -> 0.54166667 | BW45: =SUM(C45,O45,AA45,AM45,AY45,BK45) -> 230 | BX45: =SUM(D45,P45,AB45,AN45,AZ45,BL45) -> 15 | BY45: =SUM(E45,Q45,AC45,AO45,BA45,BM45) -> 43 | BZ45: =SUM(F45,R45,AD45,AP45,BB45,BN45) -> 2 | CA45: =SUM(G45,S45,AE45,AQ45,BC45,BO45) -> 11 | CB45: =SUM(H45,T45,AF45,AR45,BD45,BP45) -> 11 | CC45: =SUM(I45,U45,AG45,AS45,BE45,BQ45) -> 2 | CD45: =SUM(J45,V45,AH45,AT45,BF45,BR45) -> 1 | CE45: =SUM(K45,W45,AI45,AU45,BG45,BS45) -> 1 | CF45: =IF(BW45<>"",SUM(BW45:CE45),"") -> 316
B46: =B23 -> 0.58333333 | C46: =SUM('15MIN'!C109:C112) -> 154 | D46: =SUM('15MIN'!D109:D112) -> 8 | E46: =SUM('15MIN'!E109:E112) -> 25 | F46: =SUM('15MIN'!F109:F112) -> 1 | G46: =SUM('15MIN'!G109:G112) -> 1 | H46: =SUM('15MIN'!H109:H112) -> 2 | I46: =SUM('15MIN'!I109:I112) -> 2 | J46: =SUM('15MIN'!J109:J112) -> 1 | K46: =SUM('15MIN'!K109:K112) -> 0 | L46: =SUM(C46:K46) -> 194 | N46: =B46 -> 0.58333333 | O46: =SUM('15MIN'!O109:O112) -> 0 | P46: =SUM('15MIN'!P109:P112) -> 0 | Q46: =SUM('15MIN'!Q109:Q112) -> 0 | R46: =SUM('15MIN'!R109:R112) -> 0 | S46: =SUM('15MIN'!S109:S112) -> 0 | T46: =SUM('15MIN'!T109:T112) -> 0 | U46: =SUM('15MIN'!U109:U112) -> 0 | V46: =SUM('15MIN'!V109:V112) -> 0 | W46: =SUM('15MIN'!W109:W112) -> 0 | X46: =SUM(O46:W46) -> 0 | Z46: =N46 -> 0.58333333 | AA46: =SUM('15MIN'!AA109:AA112) -> 120 | AB46: =SUM('15MIN'!AB109:AB112) -> 6 | AC46: =SUM('15MIN'!AC109:AC112) -> 18 | AD46: =SUM('15MIN'!AD109:AD112) -> 1 | AE46: =SUM('15MIN'!AE109:AE112) -> 6 | AF46: =SUM('15MIN'!AF109:AF112) -> 7 | AG46: =SUM('15MIN'!AG109:AG112) -> 1 | AH46: =SUM('15MIN'!AH109:AH112) -> 1 | AI46: =SUM('15MIN'!AI109:AI112) -> 0 | AJ46: =SUM(AA46:AI46) -> 160 | AL46: =Z46 -> 0.58333333 | AM46: =SUM('15MIN'!AM109:AM112) -> 0 | AN46: =SUM('15MIN'!AN109:AN112) -> 0 | AO46: =SUM('15MIN'!AO109:AO112) -> 0 | AP46: =SUM('15MIN'!AP109:AP112) -> 0 | AQ46: =SUM('15MIN'!AQ109:AQ112) -> 0 | AR46: =SUM('15MIN'!AR109:AR112) -> 0 | AS46: =SUM('15MIN'!AS109:AS112) -> 0 | AT46: =SUM('15MIN'!AT109:AT112) -> 0 | AU46: =SUM('15MIN'!AU109:AU112) -> 0 | AV46: =SUM(AM46:AU46) -> 0 | AX46: =AL46 -> 0.58333333 | AY46: =SUM('15MIN'!AY109:AY112) -> 0 | AZ46: =SUM('15MIN'!AZ109:AZ112) -> 0 | BA46: =SUM('15MIN'!BA109:BA112) -> 0 | BB46: =SUM('15MIN'!BB109:BB112) -> 0 | BC46: =SUM('15MIN'!BC109:BC112) -> 0 | BD46: =SUM('15MIN'!BD109:BD112) -> 0 | BE46: =SUM('15MIN'!BE109:BE112) -> 0 | BF46: =SUM('15MIN'!BF109:BF112) -> 0 | BG46: =SUM('15MIN'!BG109:BG112) -> 0 | BH46: =SUM(AY46:BG46) -> 0 | BJ46: =AX46 -> 0.58333333 | BK46: =SUM('15MIN'!BK109:BK112) -> 0 | BL46: =SUM('15MIN'!BL109:BL112) -> 0 | BM46: =SUM('15MIN'!BM109:BM112) -> 0 | BN46: =SUM('15MIN'!BN109:BN112) -> 0 | BO46: =SUM('15MIN'!BO109:BO112) -> 0 | BP46: =SUM('15MIN'!BP109:BP112) -> 0 | BQ46: =SUM('15MIN'!BQ109:BQ112) -> 0 | BR46: =SUM('15MIN'!BR109:BR112) -> 0 | BS46: =SUM('15MIN'!BS109:BS112) -> 0 | BT46: =SUM(BK46:BS46) -> 0 | BV46: =BJ46 -> 0.58333333 | BW46: =SUM(C46,O46,AA46,AM46,AY46,BK46) -> 274 | BX46: =SUM(D46,P46,AB46,AN46,AZ46,BL46) -> 14 | BY46: =SUM(E46,Q46,AC46,AO46,BA46,BM46) -> 43 | BZ46: =SUM(F46,R46,AD46,AP46,BB46,BN46) -> 2 | CA46: =SUM(G46,S46,AE46,AQ46,BC46,BO46) -> 7 | CB46: =SUM(H46,T46,AF46,AR46,BD46,BP46) -> 9 | CC46: =SUM(I46,U46,AG46,AS46,BE46,BQ46) -> 3 | CD46: =SUM(J46,V46,AH46,AT46,BF46,BR46) -> 2 | CE46: =SUM(K46,W46,AI46,AU46,BG46,BS46) -> 0 | CF46: =IF(BW46<>"",SUM(BW46:CE46),"") -> 354
B47: =B24 -> 0.625 | C47: =SUM('15MIN'!C113:C116) -> 183 | D47: =SUM('15MIN'!D113:D116) -> 5 | E47: =SUM('15MIN'!E113:E116) -> 24 | F47: =SUM('15MIN'!F113:F116) -> 1 | G47: =SUM('15MIN'!G113:G116) -> 3 | H47: =SUM('15MIN'!H113:H116) -> 0 | I47: =SUM('15MIN'!I113:I116) -> 4 | J47: =SUM('15MIN'!J113:J116) -> 2 | K47: =SUM('15MIN'!K113:K116) -> 1 | L47: =SUM(C47:K47) -> 223 | N47: =B47 -> 0.625 | O47: =SUM('15MIN'!O113:O116) -> 0 | P47: =SUM('15MIN'!P113:P116) -> 0 | Q47: =SUM('15MIN'!Q113:Q116) -> 0 | R47: =SUM('15MIN'!R113:R116) -> 0 | S47: =SUM('15MIN'!S113:S116) -> 0 | T47: =SUM('15MIN'!T113:T116) -> 0 | U47: =SUM('15MIN'!U113:U116) -> 0 | V47: =SUM('15MIN'!V113:V116) -> 0 | W47: =SUM('15MIN'!W113:W116) -> 0 | X47: =SUM(O47:W47) -> 0 | Z47: =N47 -> 0.625 | AA47: =SUM('15MIN'!AA113:AA116) -> 104 | AB47: =SUM('15MIN'!AB113:AB116) -> 1 | AC47: =SUM('15MIN'!AC113:AC116) -> 24 | AD47: =SUM('15MIN'!AD113:AD116) -> 3 | AE47: =SUM('15MIN'!AE113:AE116) -> 8 | AF47: =SUM('15MIN'!AF113:AF116) -> 3 | AG47: =SUM('15MIN'!AG113:AG116) -> 0 | AH47: =SUM('15MIN'!AH113:AH116) -> 1 | AI47: =SUM('15MIN'!AI113:AI116) -> 0 | AJ47: =SUM(AA47:AI47) -> 144 | AL47: =Z47 -> 0.625 | AM47: =SUM('15MIN'!AM113:AM116) -> 0 | AN47: =SUM('15MIN'!AN113:AN116) -> 0 | AO47: =SUM('15MIN'!AO113:AO116) -> 0 | AP47: =SUM('15MIN'!AP113:AP116) -> 0 | AQ47: =SUM('15MIN'!AQ113:AQ116) -> 0 | AR47: =SUM('15MIN'!AR113:AR116) -> 0 | AS47: =SUM('15MIN'!AS113:AS116) -> 0 | AT47: =SUM('15MIN'!AT113:AT116) -> 0 | AU47: =SUM('15MIN'!AU113:AU116) -> 0 | AV47: =SUM(AM47:AU47) -> 0 | AX47: =AL47 -> 0.625 | AY47: =SUM('15MIN'!AY113:AY116) -> 0 | AZ47: =SUM('15MIN'!AZ113:AZ116) -> 0 | BA47: =SUM('15MIN'!BA113:BA116) -> 0 | BB47: =SUM('15MIN'!BB113:BB116) -> 0 | BC47: =SUM('15MIN'!BC113:BC116) -> 0 | BD47: =SUM('15MIN'!BD113:BD116) -> 0 | BE47: =SUM('15MIN'!BE113:BE116) -> 0 | BF47: =SUM('15MIN'!BF113:BF116) -> 0 | BG47: =SUM('15MIN'!BG113:BG116) -> 0 | BH47: =SUM(AY47:BG47) -> 0 | BJ47: =AX47 -> 0.625 | BK47: =SUM('15MIN'!BK113:BK116) -> 0 | BL47: =SUM('15MIN'!BL113:BL116) -> 0 | BM47: =SUM('15MIN'!BM113:BM116) -> 0 | BN47: =SUM('15MIN'!BN113:BN116) -> 0 | BO47: =SUM('15MIN'!BO113:BO116) -> 0 | BP47: =SUM('15MIN'!BP113:BP116) -> 0 | BQ47: =SUM('15MIN'!BQ113:BQ116) -> 0 | BR47: =SUM('15MIN'!BR113:BR116) -> 0 | BS47: =SUM('15MIN'!BS113:BS116) -> 0 | BT47: =SUM(BK47:BS47) -> 0 | BV47: =BJ47 -> 0.625 | BW47: =SUM(C47,O47,AA47,AM47,AY47,BK47) -> 287 | BX47: =SUM(D47,P47,AB47,AN47,AZ47,BL47) -> 6 | BY47: =SUM(E47,Q47,AC47,AO47,BA47,BM47) -> 48 | BZ47: =SUM(F47,R47,AD47,AP47,BB47,BN47) -> 4 | CA47: =SUM(G47,S47,AE47,AQ47,BC47,BO47) -> 11 | CB47: =SUM(H47,T47,AF47,AR47,BD47,BP47) -> 3 | CC47: =SUM(I47,U47,AG47,AS47,BE47,BQ47) -> 4 | CD47: =SUM(J47,V47,AH47,AT47,BF47,BR47) -> 3 | CE47: =SUM(K47,W47,AI47,AU47,BG47,BS47) -> 1 | CF47: =IF(BW47<>"",SUM(BW47:CE47),"") -> 367
B48: =B25 -> 0.66666667 | C48: =SUM('15MIN'!C117:C120) -> 225 | D48: =SUM('15MIN'!D117:D120) -> 12 | E48: =SUM('15MIN'!E117:E120) -> 20 | F48: =SUM('15MIN'!F117:F120) -> 2 | G48: =SUM('15MIN'!G117:G120) -> 0 | H48: =SUM('15MIN'!H117:H120) -> 0 | I48: =SUM('15MIN'!I117:I120) -> 3 | J48: =SUM('15MIN'!J117:J120) -> 0 | K48: =SUM('15MIN'!K117:K120) -> 1 | L48: =SUM(C48:K48) -> 263 | N48: =B48 -> 0.66666667 | O48: =SUM('15MIN'!O117:O120) -> 1 | P48: =SUM('15MIN'!P117:P120) -> 0 | Q48: =SUM('15MIN'!Q117:Q120) -> 0 | R48: =SUM('15MIN'!R117:R120) -> 0 | S48: =SUM('15MIN'!S117:S120) -> 0 | T48: =SUM('15MIN'!T117:T120) -> 0 | U48: =SUM('15MIN'!U117:U120) -> 0 | V48: =SUM('15MIN'!V117:V120) -> 0 | W48: =SUM('15MIN'!W117:W120) -> 0 | X48: =SUM(O48:W48) -> 1 | Z48: =N48 -> 0.66666667 | AA48: =SUM('15MIN'!AA117:AA120) -> 177 | AB48: =SUM('15MIN'!AB117:AB120) -> 11 | AC48: =SUM('15MIN'!AC117:AC120) -> 21 | AD48: =SUM('15MIN'!AD117:AD120) -> 0 | AE48: =SUM('15MIN'!AE117:AE120) -> 2 | AF48: =SUM('15MIN'!AF117:AF120) -> 2 | AG48: =SUM('15MIN'!AG117:AG120) -> 1 | AH48: =SUM('15MIN'!AH117:AH120) -> 0 | AI48: =SUM('15MIN'!AI117:AI120) -> 0 | AJ48: =SUM(AA48:AI48) -> 214 | AL48: =Z48 -> 0.66666667 | AM48: =SUM('15MIN'!AM117:AM120) -> 0 | AN48: =SUM('15MIN'!AN117:AN120) -> 0 | AO48: =SUM('15MIN'!AO117:AO120) -> 0 | AP48: =SUM('15MIN'!AP117:AP120) -> 0 | AQ48: =SUM('15MIN'!AQ117:AQ120) -> 0 | AR48: =SUM('15MIN'!AR117:AR120) -> 0 | AS48: =SUM('15MIN'!AS117:AS120) -> 0 | AT48: =SUM('15MIN'!AT117:AT120) -> 0 | AU48: =SUM('15MIN'!AU117:AU120) -> 0 | AV48: =SUM(AM48:AU48) -> 0 | AX48: =AL48 -> 0.66666667 | AY48: =SUM('15MIN'!AY117:AY120) -> 0 | AZ48: =SUM('15MIN'!AZ117:AZ120) -> 0 | BA48: =SUM('15MIN'!BA117:BA120) -> 0 | BB48: =SUM('15MIN'!BB117:BB120) -> 0 | BC48: =SUM('15MIN'!BC117:BC120) -> 0 | BD48: =SUM('15MIN'!BD117:BD120) -> 0 | BE48: =SUM('15MIN'!BE117:BE120) -> 0 | BF48: =SUM('15MIN'!BF117:BF120) -> 0 | BG48: =SUM('15MIN'!BG117:BG120) -> 0 | BH48: =SUM(AY48:BG48) -> 0 | BJ48: =AX48 -> 0.66666667 | BK48: =SUM('15MIN'!BK117:BK120) -> 0 | BL48: =SUM('15MIN'!BL117:BL120) -> 0 | BM48: =SUM('15MIN'!BM117:BM120) -> 0 | BN48: =SUM('15MIN'!BN117:BN120) -> 0 | BO48: =SUM('15MIN'!BO117:BO120) -> 0 | BP48: =SUM('15MIN'!BP117:BP120) -> 0 | BQ48: =SUM('15MIN'!BQ117:BQ120) -> 0 | BR48: =SUM('15MIN'!BR117:BR120) -> 0 | BS48: =SUM('15MIN'!BS117:BS120) -> 0 | BT48: =SUM(BK48:BS48) -> 0 | BV48: =BJ48 -> 0.66666667 | BW48: =SUM(C48,O48,AA48,AM48,AY48,BK48) -> 403 | BX48: =SUM(D48,P48,AB48,AN48,AZ48,BL48) -> 23 | BY48: =SUM(E48,Q48,AC48,AO48,BA48,BM48) -> 41 | BZ48: =SUM(F48,R48,AD48,AP48,BB48,BN48) -> 2 | CA48: =SUM(G48,S48,AE48,AQ48,BC48,BO48) -> 2 | CB48: =SUM(H48,T48,AF48,AR48,BD48,BP48) -> 2 | CC48: =SUM(I48,U48,AG48,AS48,BE48,BQ48) -> 4 | CD48: =SUM(J48,V48,AH48,AT48,BF48,BR48) -> 0 | CE48: =SUM(K48,W48,AI48,AU48,BG48,BS48) -> 1 | CF48: =IF(BW48<>"",SUM(BW48:CE48),"") -> 478
B49: =B26 -> 0.70833333 | C49: =SUM('15MIN'!C121:C124) -> 233 | D49: =SUM('15MIN'!D121:D124) -> 5 | E49: =SUM('15MIN'!E121:E124) -> 18 | F49: =SUM('15MIN'!F121:F124) -> 2 | G49: =SUM('15MIN'!G121:G124) -> 1 | H49: =SUM('15MIN'!H121:H124) -> 0 | I49: =SUM('15MIN'!I121:I124) -> 2 | J49: =SUM('15MIN'!J121:J124) -> 0 | K49: =SUM('15MIN'!K121:K124) -> 0 | L49: =SUM(C49:K49) -> 261 | N49: =B49 -> 0.70833333 | O49: =SUM('15MIN'!O121:O124) -> 0 | P49: =SUM('15MIN'!P121:P124) -> 0 | Q49: =SUM('15MIN'!Q121:Q124) -> 0 | R49: =SUM('15MIN'!R121:R124) -> 0 | S49: =SUM('15MIN'!S121:S124) -> 0 | T49: =SUM('15MIN'!T121:T124) -> 0 | U49: =SUM('15MIN'!U121:U124) -> 0 | V49: =SUM('15MIN'!V121:V124) -> 0 | W49: =SUM('15MIN'!W121:W124) -> 0 | X49: =SUM(O49:W49) -> 0 | Z49: =N49 -> 0.70833333 | AA49: =SUM('15MIN'!AA121:AA124) -> 158 | AB49: =SUM('15MIN'!AB121:AB124) -> 10 | AC49: =SUM('15MIN'!AC121:AC124) -> 11 | AD49: =SUM('15MIN'!AD121:AD124) -> 0 | AE49: =SUM('15MIN'!AE121:AE124) -> 3 | AF49: =SUM('15MIN'!AF121:AF124) -> 1 | AG49: =SUM('15MIN'!AG121:AG124) -> 0 | AH49: =SUM('15MIN'!AH121:AH124) -> 0 | AI49: =SUM('15MIN'!AI121:AI124) -> 0 | AJ49: =SUM(AA49:AI49) -> 183 | AL49: =Z49 -> 0.70833333 | AM49: =SUM('15MIN'!AM121:AM124) -> 0 | AN49: =SUM('15MIN'!AN121:AN124) -> 0 | AO49: =SUM('15MIN'!AO121:AO124) -> 0 | AP49: =SUM('15MIN'!AP121:AP124) -> 0 | AQ49: =SUM('15MIN'!AQ121:AQ124) -> 0 | AR49: =SUM('15MIN'!AR121:AR124) -> 0 | AS49: =SUM('15MIN'!AS121:AS124) -> 0 | AT49: =SUM('15MIN'!AT121:AT124) -> 0 | AU49: =SUM('15MIN'!AU121:AU124) -> 0 | AV49: =SUM(AM49:AU49) -> 0 | AX49: =AL49 -> 0.70833333 | AY49: =SUM('15MIN'!AY121:AY124) -> 0 | AZ49: =SUM('15MIN'!AZ121:AZ124) -> 0 | BA49: =SUM('15MIN'!BA121:BA124) -> 0 | BB49: =SUM('15MIN'!BB121:BB124) -> 0 | BC49: =SUM('15MIN'!BC121:BC124) -> 0 | BD49: =SUM('15MIN'!BD121:BD124) -> 0 | BE49: =SUM('15MIN'!BE121:BE124) -> 0 | BF49: =SUM('15MIN'!BF121:BF124) -> 0 | BG49: =SUM('15MIN'!BG121:BG124) -> 0 | BH49: =SUM(AY49:BG49) -> 0 | BJ49: =AX49 -> 0.70833333 | BK49: =SUM('15MIN'!BK121:BK124) -> 0 | BL49: =SUM('15MIN'!BL121:BL124) -> 0 | BM49: =SUM('15MIN'!BM121:BM124) -> 0 | BN49: =SUM('15MIN'!BN121:BN124) -> 0 | BO49: =SUM('15MIN'!BO121:BO124) -> 0 | BP49: =SUM('15MIN'!BP121:BP124) -> 0 | BQ49: =SUM('15MIN'!BQ121:BQ124) -> 0 | BR49: =SUM('15MIN'!BR121:BR124) -> 0 | BS49: =SUM('15MIN'!BS121:BS124) -> 0 | BT49: =SUM(BK49:BS49) -> 0 | BV49: =BJ49 -> 0.70833333 | BW49: =SUM(C49,O49,AA49,AM49,AY49,BK49) -> 391 | BX49: =SUM(D49,P49,AB49,AN49,AZ49,BL49) -> 15 | BY49: =SUM(E49,Q49,AC49,AO49,BA49,BM49) -> 29 | BZ49: =SUM(F49,R49,AD49,AP49,BB49,BN49) -> 2 | CA49: =SUM(G49,S49,AE49,AQ49,BC49,BO49) -> 4 | CB49: =SUM(H49,T49,AF49,AR49,BD49,BP49) -> 1 | CC49: =SUM(I49,U49,AG49,AS49,BE49,BQ49) -> 2 | CD49: =SUM(J49,V49,AH49,AT49,BF49,BR49) -> 0 | CE49: =SUM(K49,W49,AI49,AU49,BG49,BS49) -> 0 | CF49: =IF(BW49<>"",SUM(BW49:CE49),"") -> 444
B50: =B27 -> 0.75 | C50: =SUM('15MIN'!C125:C128) -> 163 | D50: =SUM('15MIN'!D125:D128) -> 3 | E50: =SUM('15MIN'!E125:E128) -> 6 | F50: =SUM('15MIN'!F125:F128) -> 0 | G50: =SUM('15MIN'!G125:G128) -> 0 | H50: =SUM('15MIN'!H125:H128) -> 0 | I50: =SUM('15MIN'!I125:I128) -> 2 | J50: =SUM('15MIN'!J125:J128) -> 1 | K50: =SUM('15MIN'!K125:K128) -> 0 | L50: =SUM(C50:K50) -> 175 | N50: =B50 -> 0.75 | O50: =SUM('15MIN'!O125:O128) -> 0 | P50: =SUM('15MIN'!P125:P128) -> 0 | Q50: =SUM('15MIN'!Q125:Q128) -> 0 | R50: =SUM('15MIN'!R125:R128) -> 0 | S50: =SUM('15MIN'!S125:S128) -> 0 | T50: =SUM('15MIN'!T125:T128) -> 0 | U50: =SUM('15MIN'!U125:U128) -> 0 | V50: =SUM('15MIN'!V125:V128) -> 0 | W50: =SUM('15MIN'!W125:W128) -> 0 | X50: =SUM(O50:W50) -> 0 | Z50: =N50 -> 0.75 | AA50: =SUM('15MIN'!AA125:AA128) -> 106 | AB50: =SUM('15MIN'!AB125:AB128) -> 6 | AC50: =SUM('15MIN'!AC125:AC128) -> 10 | AD50: =SUM('15MIN'!AD125:AD128) -> 0 | AE50: =SUM('15MIN'!AE125:AE128) -> 0 | AF50: =SUM('15MIN'!AF125:AF128) -> 0 | AG50: =SUM('15MIN'!AG125:AG128) -> 0 | AH50: =SUM('15MIN'!AH125:AH128) -> 0 | AI50: =SUM('15MIN'!AI125:AI128) -> 1 | AJ50: =SUM(AA50:AI50) -> 123 | AL50: =Z50 -> 0.75 | AM50: =SUM('15MIN'!AM125:AM128) -> 0 | AN50: =SUM('15MIN'!AN125:AN128) -> 0 | AO50: =SUM('15MIN'!AO125:AO128) -> 0 | AP50: =SUM('15MIN'!AP125:AP128) -> 0 | AQ50: =SUM('15MIN'!AQ125:AQ128) -> 0 | AR50: =SUM('15MIN'!AR125:AR128) -> 0 | AS50: =SUM('15MIN'!AS125:AS128) -> 0 | AT50: =SUM('15MIN'!AT125:AT128) -> 0 | AU50: =SUM('15MIN'!AU125:AU128) -> 0 | AV50: =SUM(AM50:AU50) -> 0 | AX50: =AL50 -> 0.75 | AY50: =SUM('15MIN'!AY125:AY128) -> 0 | AZ50: =SUM('15MIN'!AZ125:AZ128) -> 0 | BA50: =SUM('15MIN'!BA125:BA128) -> 0 | BB50: =SUM('15MIN'!BB125:BB128) -> 0 | BC50: =SUM('15MIN'!BC125:BC128) -> 0 | BD50: =SUM('15MIN'!BD125:BD128) -> 0 | BE50: =SUM('15MIN'!BE125:BE128) -> 0 | BF50: =SUM('15MIN'!BF125:BF128) -> 0 | BG50: =SUM('15MIN'!BG125:BG128) -> 0 | BH50: =SUM(AY50:BG50) -> 0 | BJ50: =AX50 -> 0.75 | BK50: =SUM('15MIN'!BK125:BK128) -> 0 | BL50: =SUM('15MIN'!BL125:BL128) -> 0 | BM50: =SUM('15MIN'!BM125:BM128) -> 0 | BN50: =SUM('15MIN'!BN125:BN128) -> 0 | BO50: =SUM('15MIN'!BO125:BO128) -> 0 | BP50: =SUM('15MIN'!BP125:BP128) -> 0 | BQ50: =SUM('15MIN'!BQ125:BQ128) -> 0 | BR50: =SUM('15MIN'!BR125:BR128) -> 0 | BS50: =SUM('15MIN'!BS125:BS128) -> 0 | BT50: =SUM(BK50:BS50) -> 0 | BV50: =BJ50 -> 0.75 | BW50: =SUM(C50,O50,AA50,AM50,AY50,BK50) -> 269 | BX50: =SUM(D50,P50,AB50,AN50,AZ50,BL50) -> 9 | BY50: =SUM(E50,Q50,AC50,AO50,BA50,BM50) -> 16 | BZ50: =SUM(F50,R50,AD50,AP50,BB50,BN50) -> 0 | CA50: =SUM(G50,S50,AE50,AQ50,BC50,BO50) -> 0 | CB50: =SUM(H50,T50,AF50,AR50,BD50,BP50) -> 0 | CC50: =SUM(I50,U50,AG50,AS50,BE50,BQ50) -> 2 | CD50: =SUM(J50,V50,AH50,AT50,BF50,BR50) -> 1 | CE50: =SUM(K50,W50,AI50,AU50,BG50,BS50) -> 1 | CF50: =IF(BW50<>"",SUM(BW50:CE50),"") -> 298
B51: TOTAL | C51: =SUM(C38:C50) -> 2486 | D51: =SUM(D38:D50) -> 103 | E51: =SUM(E38:E50) -> 304 | F51: =SUM(F38:F50) -> 22 | G51: =SUM(G38:G50) -> 40 | H51: =SUM(H38:H50) -> 19 | I51: =SUM(I38:I50) -> 35 | J51: =SUM(J38:J50) -> 18 | ... L51: =SUM(L38:L50) -> 3036 | N51: TOTAL | O51: =SUM(O38:O50) -> 1 | P51: =SUM(P38:P50) -> 0 | Q51: =SUM(Q38:Q50) -> 0 | R51: =SUM(R38:R50) -> 0 | S51: =SUM(S38:S50) -> 0 | T51: =SUM(T38:T50) -> 0 | U51: =SUM(U38:U50) -> 0 | V51: =SUM(V38:V50) -> 0 | ... X51: =SUM(X38:X50) -> 1 | Z51: TOTAL | AA51: =SUM(AA38:AA50) -> 1415 | AB51: =SUM(AB38:AB50) -> 97 | AC51: =SUM(AC38:AC50) -> 236 | AD51: =SUM(AD38:AD50) -> 12 | AE51: =SUM(AE38:AE50) -> 70 | AF51: =SUM(AF38:AF50) -> 73 | AG51: =SUM(AG38:AG50) -> 6 | AH51: =SUM(AH38:AH50) -> 11 | ... AJ51: =SUM(AJ38:AJ50) -> 1921 | AL51: TOTAL | AM51: =SUM(AM38:AM50) -> 0 | AN51: =SUM(AN38:AN50) -> 0 | AO51: =SUM(AO38:AO50) -> 0 | AP51: =SUM(AP38:AP50) -> 0 | AQ51: =SUM(AQ38:AQ50) -> 0 | AR51: =SUM(AR38:AR50) -> 0 | AS51: =SUM(AS38:AS50) -> 0 | AT51: =SUM(AT38:AT50) -> 0 | ... AV51: =SUM(AV38:AV50) -> 0 | AX51: TOTAL | AY51: =SUM(AY38:AY50) -> 0 | AZ51: =SUM(AZ38:AZ50) -> 0 | BA51: =SUM(BA38:BA50) -> 0 | BB51: =SUM(BB38:BB50) -> 0 | BC51: =SUM(BC38:BC50) -> 0 | BD51: =SUM(BD38:BD50) -> 0 | BE51: =SUM(BE38:BE50) -> 0 | BF51: =SUM(BF38:BF50) -> 0 | ... BH51: =SUM(BH38:BH50) -> 0 | BJ51: TOTAL | BK51: =SUM(BK38:BK50) -> 0 | BL51: =SUM(BL38:BL50) -> 0 | BM51: =SUM(BM38:BM50) -> 0 | BN51: =SUM(BN38:BN50) -> 0 | BO51: =SUM(BO38:BO50) -> 0 | BP51: =SUM(BP38:BP50) -> 0 | BQ51: =SUM(BQ38:BQ50) -> 0 | BR51: =SUM(BR38:BR50) -> 0 | ... BT51: =SUM(BT38:BT50) -> 0 | BV51: TOTAL | BW51: =SUM(BW38:BW50) -> 3902 | BX51: =SUM(BX38:BX50) -> 200 | BY51: =SUM(BY38:BY50) -> 540 | BZ51: =SUM(BZ38:BZ50) -> 34 | CA51: =SUM(CA38:CA50) -> 110 | CB51: =SUM(CB38:CB50) -> 92 | CC51: =SUM(CC38:CC50) -> 41 | CD51: =SUM(CD38:CD50) -> 29 | ... CF51: =SUM(CF38:CF50) -> 4958
C55: ='15MIN'!C133:L133 -> ORIGIN: B1019 Maldon Rd (south)
C57: ='15MIN'!C135 -> ↑C | D57: ='15MIN'!D135 -> to | E57: ='15MIN'!E135 -> A← | O57: ='15MIN'!O135 -> ↑C | P57: ='15MIN'!P135 -> to | Q57: ='15MIN'!Q135 -> B↗ | AA57: ='15MIN'!AA135 -> ↑C | AB57: ='15MIN'!AB135 -> to | AC57: ='15MIN'!AC135 -> C↓ | AM57: ='15MIN'!AM135 -> ↑C | AN57: ='15MIN'!AN135 -> to | AO57: ='15MIN'!AO135 -> D | AY57: ='15MIN'!AY135 -> ↑C | AZ57: ='15MIN'!AZ135 -> to | BA57: ='15MIN'!BA135 -> E | BK57: ='15MIN'!BK135 -> ↑C | BL57: ='15MIN'!BL135 -> to | BM57: ='15MIN'!BM135 -> F | BW57: ='15MIN'!BW135:CF135 -> ENTERING FROM ↑C
C58: ='15MIN'!C136:L136 -> B1019 Maldon Rd to B1137 The Street | O58: ='15MIN'!O136:X136 -> B1019 Maldon Rd to B1137 The Street | AA58: ='15MIN'!AA136:AJ136 -> B1019 Maldon Rd to B1019 Maldon Rd | AM58: ='15MIN'!AM136:AV136 | AY58: ='15MIN'!AY136:BH136 | BK58: ='15MIN'!BK136:BT136 | BW58: =config!C16 -> B1019 Maldon Rd
C60: =C37 -> CAR | D60: =D37 -> LGV1 | E60: =E37 -> LGV2 | F60: =F37 -> MGV | G60: =G37 -> HGV1 | H60: =H37 -> HGV2 | I60: =I37 -> PSV | J60: =J37 -> MB | K60: =K37 -> CYC | O60: =O37 -> CAR | P60: =P37 -> LGV1 | Q60: =Q37 -> LGV2 | R60: =R37 -> MGV | S60: =S37 -> HGV1 | T60: =T37 -> HGV2 | U60: =U37 -> PSV | V60: =V37 -> MB | W60: =W37 -> CYC | AA60: =AA37 -> CAR | AB60: =AB37 -> LGV1 | AC60: =AC37 -> LGV2 | AD60: =AD37 -> MGV | AE60: =AE37 -> HGV1 | AF60: =AF37 -> HGV2 | AG60: =AG37 -> PSV | AH60: =AH37 -> MB | AI60: =AI37 -> CYC | AM60: =AM37 -> CAR | AN60: =AN37 -> LGV1 | AO60: =AO37 -> LGV2 | AP60: =AP37 -> MGV | AQ60: =AQ37 -> HGV1 | AR60: =AR37 -> HGV2 | AS60: =AS37 -> PSV | AT60: =AT37 -> MB | AU60: =AU37 -> CYC | AY60: =AY37 -> CAR | AZ60: =AZ37 -> LGV1 | BA60: =BA37 -> LGV2 | BB60: =BB37 -> MGV | BC60: =BC37 -> HGV1 | BD60: =BD37 -> HGV2 | BE60: =BE37 -> PSV | BF60: =BF37 -> MB | BG60: =BG37 -> CYC | BK60: =BK37 -> CAR | BL60: =BL37 -> LGV1 | BM60: =BM37 -> LGV2 | BN60: =BN37 -> MGV | BO60: =BO37 -> HGV1 | BP60: =BP37 -> HGV2 | BQ60: =BQ37 -> PSV | BR60: =BR37 -> MB | BS60: =BS37 -> CYC | BW60: =BK60 -> CAR | BX60: =BL60 -> LGV1 | BY60: =BM60 -> LGV2 | BZ60: =BN60 -> MGV | CA60: =BO60 -> HGV1 | CB60: =BP60 -> HGV2 | CC60: =BQ60 -> PSV | CD60: =BR60 -> MB | CE60: =BS60 -> CYC
